BEGIN:VCALENDAR
VERSION:2.0
PRODID:-//Bay Area Clean Water Agencies - ECPv6.15.20//NONSGML v1.0//EN
CALSCALE:GREGORIAN
METHOD:PUBLISH
X-WR-CALNAME:Bay Area Clean Water Agencies
X-ORIGINAL-URL:https://bacwa.org
X-WR-CALDESC:Events for Bay Area Clean Water Agencies
REFRESH-INTERVAL;VALUE=DURATION:PT1H
X-Robots-Tag:noindex
X-PUBLISHED-TTL:PT1H
BEGIN:VTIMEZONE
TZID:America/Los_Angeles
BEGIN:DAYLIGHT
TZOFFSETFROM:-0800
TZOFFSETTO:-0700
TZNAME:PDT
DTSTART:20240310T100000
END:DAYLIGHT
BEGIN:STANDARD
TZOFFSETFROM:-0700
TZOFFSETTO:-0800
TZNAME:PST
DTSTART:20241103T090000
END:STANDARD
BEGIN:DAYLIGHT
TZOFFSETFROM:-0800
TZOFFSETTO:-0700
TZNAME:PDT
DTSTART:20250309T100000
END:DAYLIGHT
BEGIN:STANDARD
TZOFFSETFROM:-0700
TZOFFSETTO:-0800
TZNAME:PST
DTSTART:20251102T090000
END:STANDARD
BEGIN:DAYLIGHT
TZOFFSETFROM:-0800
TZOFFSETTO:-0700
TZNAME:PDT
DTSTART:20260308T100000
END:DAYLIGHT
BEGIN:STANDARD
TZOFFSETFROM:-0700
TZOFFSETTO:-0800
TZNAME:PST
DTSTART:20261101T090000
END:STANDARD
END:VTIMEZONE
BEGIN:VEVENT
DTSTART;TZID=America/Los_Angeles:20250402T100000
DTEND;TZID=America/Los_Angeles:20250402T120000
DTSTAMP:20260420T083710
CREATED:20241028T230014Z
LAST-MODIFIED:20241028T230014Z
UID:18888-1743588000-1743595200@bacwa.org
SUMMARY:Bay Area Pollution Prevention Group (BAPPG) Meeting
DESCRIPTION:This meeting will be conducted through the MS Teams Platform. For agenda and virtual meeting link\, contact Mary Cousins.
URL:https://bacwa.org/event/bay-area-pollution-prevention-group-bappg-meeting-2/
CATEGORIES:Bay Area Pollution Prevention Group
END:VEVENT
BEGIN:VEVENT
DTSTART;TZID=America/Los_Angeles:20250408T123000
DTEND;TZID=America/Los_Angeles:20250408T143000
DTSTAMP:20260420T083710
CREATED:20241220T234836Z
LAST-MODIFIED:20241220T234836Z
UID:19012-1744115400-1744122600@bacwa.org
SUMMARY:Permits Committee Meeting
DESCRIPTION:For virtual meeting information\, email mc******@***wa.org
URL:https://bacwa.org/event/permits-committee-meeting-37-2/
CATEGORIES:Permit
END:VEVENT
BEGIN:VEVENT
DTSTART;TZID=America/Los_Angeles:20250415T100000
DTEND;TZID=America/Los_Angeles:20250415T120000
DTSTAMP:20260420T083710
CREATED:20241220T235046Z
LAST-MODIFIED:20250317T170146Z
UID:19024-1744711200-1744718400@bacwa.org
SUMMARY:Lab Committee Meeting
DESCRIPTION:This meeting has been rescheduled from its original April 8th date to accommodate a presentation from ChemVal’s John Gumpper on revisions to standard methods for microbiology. \nFor virtual meeting information\, email mc******@***wa.org
URL:https://bacwa.org/event/lab-committee-meeting-2-2/
CATEGORIES:Laboratory
END:VEVENT
BEGIN:VEVENT
DTSTART;TZID=America/Los_Angeles:20250418T090000
DTEND;TZID=America/Los_Angeles:20250418T120000
DTSTAMP:20260420T083710
CREATED:20241011T170248Z
LAST-MODIFIED:20250415T182935Z
UID:18818-1744966800-1744977600@bacwa.org
SUMMARY:BACWA Executive Board Meeting
DESCRIPTION:An agenda will be posted on a few days before the meeting. \n  \nLocation: \nEBMUD\, 375 11th Street Oakland CA 94607 \n2nd floor
URL:https://bacwa.org/event/bacwa-executive-board-meeting-52/
CATEGORIES:Executive Board
END:VEVENT
BEGIN:VEVENT
DTSTART;TZID=America/Los_Angeles:20250429T093000
DTEND;TZID=America/Los_Angeles:20250429T150000
DTSTAMP:20260420T083710
CREATED:20241024T214058Z
LAST-MODIFIED:20250501T180854Z
UID:18865-1745919000-1745938800@bacwa.org
SUMMARY:Nutrients and Reuse Workshop (WateReuse and BACWA Joint Event)
DESCRIPTION:The BACWA Recycled Water Committee and WateReuse Northern California Chapter are co-hosting a workshop on the nexus between recycled water and nutrient removal. The agenda will cover regulatory topics related to the Nutrient Watershed Permit as well as RO concentrate management. \nSlides from the event are posted in the Recycled Water Library.
URL:https://bacwa.org/event/recycled-water-committee-meeting-18-2/
LOCATION:Central Contra Costa Sanitary District Office\, 5019 Imhoff Place\, Martinez\, CA\, 94553\, United States
CATEGORIES:Recycled Water
END:VEVENT
END:VCALENDAR