BEGIN:VCALENDAR
VERSION:2.0
PRODID:-//Bay Area Clean Water Agencies - ECPv6.15.20//NONSGML v1.0//EN
CALSCALE:GREGORIAN
METHOD:PUBLISH
X-WR-CALNAME:Bay Area Clean Water Agencies
X-ORIGINAL-URL:https://bacwa.org
X-WR-CALDESC:Events for Bay Area Clean Water Agencies
REFRESH-INTERVAL;VALUE=DURATION:PT1H
X-Robots-Tag:noindex
X-PUBLISHED-TTL:PT1H
BEGIN:VTIMEZONE
TZID:America/Los_Angeles
BEGIN:DAYLIGHT
TZOFFSETFROM:-0800
TZOFFSETTO:-0700
TZNAME:PDT
DTSTART:20240310T100000
END:DAYLIGHT
BEGIN:STANDARD
TZOFFSETFROM:-0700
TZOFFSETTO:-0800
TZNAME:PST
DTSTART:20241103T090000
END:STANDARD
BEGIN:DAYLIGHT
TZOFFSETFROM:-0800
TZOFFSETTO:-0700
TZNAME:PDT
DTSTART:20250309T100000
END:DAYLIGHT
BEGIN:STANDARD
TZOFFSETFROM:-0700
TZOFFSETTO:-0800
TZNAME:PST
DTSTART:20251102T090000
END:STANDARD
BEGIN:DAYLIGHT
TZOFFSETFROM:-0800
TZOFFSETTO:-0700
TZNAME:PDT
DTSTART:20260308T100000
END:DAYLIGHT
BEGIN:STANDARD
TZOFFSETFROM:-0700
TZOFFSETTO:-0800
TZNAME:PST
DTSTART:20261101T090000
END:STANDARD
END:VTIMEZONE
BEGIN:VEVENT
DTSTART;TZID=America/Los_Angeles:20250117T090000
DTEND;TZID=America/Los_Angeles:20250117T123000
DTSTAMP:20260420T153328
CREATED:20241011T165726Z
LAST-MODIFIED:20250109T181841Z
UID:18811-1737104400-1737117000@bacwa.org
SUMMARY:BACWA Executive Board Meeting
DESCRIPTION:An agenda will be posted on a few days before the meeting. \n  \nLocation: \nSFPUC \n525 Golden Gate Ave.\, San Francisco\, CA 94102 \nHetch Hetchy Room – 13th Floor
URL:https://bacwa.org/event/bacwa-executive-board-meeting-49/
CATEGORIES:Executive Board
END:VEVENT
BEGIN:VEVENT
DTSTART;TZID=America/Los_Angeles:20250121T103000
DTEND;TZID=America/Los_Angeles:20250121T123000
DTSTAMP:20260420T153328
CREATED:20241024T214036Z
LAST-MODIFIED:20241024T214036Z
UID:18863-1737455400-1737462600@bacwa.org
SUMMARY:Recycled Water Committee Meeting
DESCRIPTION:This virtual meeting will be held on MS Teams.  For agenda and virtual meeting link\, contact Mary Cousins. \n 
URL:https://bacwa.org/event/recycled-water-committee-meeting-18/
CATEGORIES:Recycled Water
END:VEVENT
BEGIN:VEVENT
DTSTART;TZID=America/Los_Angeles:20250127T080000
DTEND;TZID=America/Los_Angeles:20250127T090000
DTSTAMP:20260420T153328
CREATED:20250124T233615Z
LAST-MODIFIED:20250124T233710Z
UID:19136-1737964800-1737968400@bacwa.org
SUMMARY:Office Hours for Compliance Schedule Milestones Reporting
DESCRIPTION:BACWA has circulated a Request for Information related to Section 6.3.3 of the Nutrient Watershed Permit.\, and has requested responses by Wednesday\, February 19th. \nWe will hold office hours to assist agencies with responding. For virtual meeting information\, contact Mary Cousins.
URL:https://bacwa.org/event/office-hours-for-compliance-schedule-milestones-reporting/
END:VEVENT
BEGIN:VEVENT
DTSTART;TZID=America/Los_Angeles:20250129T100000
DTEND;TZID=America/Los_Angeles:20250129T120000
DTSTAMP:20260420T153328
CREATED:20241028T225955Z
LAST-MODIFIED:20241028T225955Z
UID:18886-1738144800-1738152000@bacwa.org
SUMMARY:Bay Area Pollution Prevention Group (BAPPG) Meeting
DESCRIPTION:This meeting will be conducted through the MS Teams Platform. For agenda and virtual meeting link\, contact Mary Cousins.
URL:https://bacwa.org/event/bay-area-pollution-prevention-group-bappg-meeting/
CATEGORIES:Bay Area Pollution Prevention Group
END:VEVENT
BEGIN:VEVENT
DTSTART;TZID=America/Los_Angeles:20250131T090000
DTEND;TZID=America/Los_Angeles:20250131T100000
DTSTAMP:20260420T153328
CREATED:20250124T233729Z
LAST-MODIFIED:20250124T233729Z
UID:19140-1738314000-1738317600@bacwa.org
SUMMARY:Office Hours for Compliance Schedule Milestones Reporting
DESCRIPTION:BACWA has circulated a Request for Information related to Section 6.3.3 of the Nutrient Watershed Permit.\, and has requested responses by Wednesday\, February 19th. \nWe will hold office hours to assist agencies with responding. For virtual meeting information\, contact Mary Cousins.
URL:https://bacwa.org/event/office-hours-for-compliance-schedule-milestones-reporting-2/
END:VEVENT
END:VCALENDAR