BEGIN:VCALENDAR
VERSION:2.0
PRODID:-//Bay Area Clean Water Agencies - ECPv6.15.20//NONSGML v1.0//EN
CALSCALE:GREGORIAN
METHOD:PUBLISH
X-WR-CALNAME:Bay Area Clean Water Agencies
X-ORIGINAL-URL:https://bacwa.org
X-WR-CALDESC:Events for Bay Area Clean Water Agencies
REFRESH-INTERVAL;VALUE=DURATION:PT1H
X-Robots-Tag:noindex
X-PUBLISHED-TTL:PT1H
BEGIN:VTIMEZONE
TZID:America/Los_Angeles
BEGIN:DAYLIGHT
TZOFFSETFROM:-0800
TZOFFSETTO:-0700
TZNAME:PDT
DTSTART:20230312T100000
END:DAYLIGHT
BEGIN:STANDARD
TZOFFSETFROM:-0700
TZOFFSETTO:-0800
TZNAME:PST
DTSTART:20231105T090000
END:STANDARD
BEGIN:DAYLIGHT
TZOFFSETFROM:-0800
TZOFFSETTO:-0700
TZNAME:PDT
DTSTART:20240310T100000
END:DAYLIGHT
BEGIN:STANDARD
TZOFFSETFROM:-0700
TZOFFSETTO:-0800
TZNAME:PST
DTSTART:20241103T090000
END:STANDARD
BEGIN:DAYLIGHT
TZOFFSETFROM:-0800
TZOFFSETTO:-0700
TZNAME:PDT
DTSTART:20250309T100000
END:DAYLIGHT
BEGIN:STANDARD
TZOFFSETFROM:-0700
TZOFFSETTO:-0800
TZNAME:PST
DTSTART:20251102T090000
END:STANDARD
END:VTIMEZONE
BEGIN:VEVENT
DTSTART;TZID=America/Los_Angeles:20240116T103000
DTEND;TZID=America/Los_Angeles:20240116T123000
DTSTAMP:20260421T102717
CREATED:20231130T221613Z
LAST-MODIFIED:20231130T221928Z
UID:17306-1705401000-1705408200@bacwa.org
SUMMARY:Recycled Water Committee Meeting
DESCRIPTION:This virtual meeting will be held on Zoom. \nFor agenda and virtual meeting link\, contact Mary Cousins. \n 
URL:https://bacwa.org/event/recycled-water-committee-meeting-17-2-2-2-2-3-2-2-2-2-2-2-2/
CATEGORIES:Recycled Water
END:VEVENT
BEGIN:VEVENT
DTSTART;TZID=America/Los_Angeles:20240119T090000
DTEND;TZID=America/Los_Angeles:20240119T120000
DTSTAMP:20260421T102717
CREATED:20231006T185716Z
LAST-MODIFIED:20231102T181752Z
UID:17087-1705654800-1705665600@bacwa.org
SUMMARY:BACWA Executive Board Meeting
DESCRIPTION:An agenda will be posted a few days before the meeting. \nLocation: EBMUD Downtown\, Admin Bldg\, Small Training Room 2nd Floor. \nTo attend the meeting via zoom or submit a public comment\, please see meeting guidelines: https://bacwa.org/general/bacwa-public-comments-guidelines/
URL:https://bacwa.org/event/bacwa-executive-board-meeting-47-2/
LOCATION:tbd
CATEGORIES:Executive Board
END:VEVENT
BEGIN:VEVENT
DTSTART;TZID=America/Los_Angeles:20240119T123000
DTEND;TZID=America/Los_Angeles:20240119T143000
DTSTAMP:20260421T102717
CREATED:20231006T190019Z
LAST-MODIFIED:20231102T181925Z
UID:17095-1705667400-1705674600@bacwa.org
SUMMARY:NST Meeting
DESCRIPTION:An agenda will be posted a few days before the meeting. \nLocation: EBMUD Downtown\, Admin Bldg\, Small Training Room 2nd Floor. \nTo attend the meeting via zoom or submit a public comment\, please see meeting guidelines: https://bacwa.org/general/bacwa-public-comments-guidelines/
URL:https://bacwa.org/event/nst-meeting-5-2/
LOCATION:tbd
CATEGORIES:Executive Board
END:VEVENT
END:VCALENDAR