BEGIN:VCALENDAR
VERSION:2.0
PRODID:-//Bay Area Clean Water Agencies - ECPv6.15.20//NONSGML v1.0//EN
CALSCALE:GREGORIAN
METHOD:PUBLISH
X-ORIGINAL-URL:https://bacwa.org
X-WR-CALDESC:Events for Bay Area Clean Water Agencies
REFRESH-INTERVAL;VALUE=DURATION:PT1H
X-Robots-Tag:noindex
X-PUBLISHED-TTL:PT1H
BEGIN:VTIMEZONE
TZID:America/Los_Angeles
BEGIN:DAYLIGHT
TZOFFSETFROM:-0800
TZOFFSETTO:-0700
TZNAME:PDT
DTSTART:20220313T100000
END:DAYLIGHT
BEGIN:STANDARD
TZOFFSETFROM:-0700
TZOFFSETTO:-0800
TZNAME:PST
DTSTART:20221106T090000
END:STANDARD
BEGIN:DAYLIGHT
TZOFFSETFROM:-0800
TZOFFSETTO:-0700
TZNAME:PDT
DTSTART:20230312T100000
END:DAYLIGHT
BEGIN:STANDARD
TZOFFSETFROM:-0700
TZOFFSETTO:-0800
TZNAME:PST
DTSTART:20231105T090000
END:STANDARD
BEGIN:DAYLIGHT
TZOFFSETFROM:-0800
TZOFFSETTO:-0700
TZNAME:PDT
DTSTART:20240310T100000
END:DAYLIGHT
BEGIN:STANDARD
TZOFFSETFROM:-0700
TZOFFSETTO:-0800
TZNAME:PST
DTSTART:20241103T090000
END:STANDARD
END:VTIMEZONE
BEGIN:VEVENT
DTSTART;TZID=America/Los_Angeles:20230718T100000
DTEND;TZID=America/Los_Angeles:20230718T120000
DTSTAMP:20260421T213911
CREATED:20230614T225725Z
LAST-MODIFIED:20230614T225725Z
UID:16674-1689674400-1689681600@bacwa.org
SUMMARY:Lab Committee - TNI Training Session
DESCRIPTION:This training session on implementing the 2016 TNI Standard is free for BACWA members. Attendees must have access to a valid copy of the 2016 TNI standard\, Rev 2.1. Training is provided by Diane Lawver of Quality Assurance Solutions\, LLC. \nFor more information or to obtain a link to the meeting\, contact Mary Cousins.
URL:https://bacwa.org/event/lab-committee-tni-monthly-training-session-2-2-2-2-2-2-2-2-2-2-2-2-2-2-2-2-3-2-2-2-2/
CATEGORIES:Laboratory
END:VEVENT
BEGIN:VEVENT
DTSTART;TZID=America/Los_Angeles:20230718T103000
DTEND;TZID=America/Los_Angeles:20230718T123000
DTSTAMP:20260421T213911
CREATED:20221115T224215Z
LAST-MODIFIED:20230516T202957Z
UID:15761-1689676200-1689683400@bacwa.org
SUMMARY:Recycled Water Committee Meeting
DESCRIPTION:This meeting will take place in hybrid format: In-person at EBMUD\, and on Zoom. \nFor agenda and virtual meeting link\, contact Reena Thomas or Stefanie Olson. \n 
URL:https://bacwa.org/event/recycled-water-committee-meeting-17-2-2-2-2-3-2-2-2-2/
LOCATION:EBMUD Headquarters\, 2nd Floor Small Training Room\, United States
CATEGORIES:Recycled Water
END:VEVENT
BEGIN:VEVENT
DTSTART;TZID=America/Los_Angeles:20230721T090000
DTEND;TZID=America/Los_Angeles:20230721T120000
DTSTAMP:20260421T213911
CREATED:20230710T195553Z
LAST-MODIFIED:20230710T195553Z
UID:16770-1689930000-1689940800@bacwa.org
SUMMARY:BACWA Executive Board Meeting
DESCRIPTION:Agenda & Packet will be posted on the website. \nMeeting location: \nSan Francisco Public Utilities Commission \n525 Golden Gate Ave\, San Francisco \nHetch Hetchy Conference Room\, 13th Floor \nTo attend the meeting via zoom or submit a public comment\, please see meeting guidelines: https://bacwa.org/general/bacwa-public-comments-guidelines/
URL:https://bacwa.org/event/bacwa-executive-board-meeting-43/
LOCATION:San Francisco Public Utilities Commission\, 525 Golden Gate Ave\, Hetch Hetchy Room\, San Francisco\, CA\, 94102\, United States
CATEGORIES:Executive Board
END:VEVENT
BEGIN:VEVENT
DTSTART;TZID=America/Los_Angeles:20230721T123000
DTEND;TZID=America/Los_Angeles:20230721T143000
DTSTAMP:20260421T213911
CREATED:20230710T205422Z
LAST-MODIFIED:20230710T205422Z
UID:16783-1689942600-1689949800@bacwa.org
SUMMARY:NST Meeting
DESCRIPTION:Agenda & Packet will be posted on the website. \nMeeting location: \nSan Francisco Public Utilities Commission \n525 Golden Gate Ave\, San Francisco \nHetch Hetchy Conference Room\, 13th Floor \nTo attend the meeting via zoom or submit a public comment\, please see meeting guidelines: https://bacwa.org/general/bacwa-public-comments-guidelines/
URL:https://bacwa.org/event/nst-meeting/
LOCATION:San Francisco Public Utilities Commission\, 525 Golden Gate Ave\, Hetch Hetchy Room\, San Francisco\, CA\, 94102\, United States
CATEGORIES:Executive Board
END:VEVENT
END:VCALENDAR