BEGIN:VCALENDAR
VERSION:2.0
PRODID:-//Bay Area Clean Water Agencies - ECPv6.15.20//NONSGML v1.0//EN
CALSCALE:GREGORIAN
METHOD:PUBLISH
X-WR-CALNAME:Bay Area Clean Water Agencies
X-ORIGINAL-URL:https://bacwa.org
X-WR-CALDESC:Events for Bay Area Clean Water Agencies
REFRESH-INTERVAL;VALUE=DURATION:PT1H
X-Robots-Tag:noindex
X-PUBLISHED-TTL:PT1H
BEGIN:VTIMEZONE
TZID:America/Los_Angeles
BEGIN:DAYLIGHT
TZOFFSETFROM:-0800
TZOFFSETTO:-0700
TZNAME:PDT
DTSTART:20220313T100000
END:DAYLIGHT
BEGIN:STANDARD
TZOFFSETFROM:-0700
TZOFFSETTO:-0800
TZNAME:PST
DTSTART:20221106T090000
END:STANDARD
BEGIN:DAYLIGHT
TZOFFSETFROM:-0800
TZOFFSETTO:-0700
TZNAME:PDT
DTSTART:20230312T100000
END:DAYLIGHT
BEGIN:STANDARD
TZOFFSETFROM:-0700
TZOFFSETTO:-0800
TZNAME:PST
DTSTART:20231105T090000
END:STANDARD
BEGIN:DAYLIGHT
TZOFFSETFROM:-0800
TZOFFSETTO:-0700
TZNAME:PDT
DTSTART:20240310T100000
END:DAYLIGHT
BEGIN:STANDARD
TZOFFSETFROM:-0700
TZOFFSETTO:-0800
TZNAME:PST
DTSTART:20241103T090000
END:STANDARD
END:VTIMEZONE
BEGIN:VEVENT
DTSTART;TZID=America/Los_Angeles:20230201T100000
DTEND;TZID=America/Los_Angeles:20230201T120000
DTSTAMP:20260422T044652
CREATED:20221215T164926Z
LAST-MODIFIED:20221215T164926Z
UID:15883-1675245600-1675252800@bacwa.org
SUMMARY:BAPPG Committee Meeting
DESCRIPTION:This meeting may be conducted by Zoom or in-person. \nFor agenda and virtual meeting link\, contact Mary Cousins.
URL:https://bacwa.org/event/bappg-committee-meeting-18-2-2-2-2-4-2/
CATEGORIES:Bay Area Pollution Prevention Group
END:VEVENT
BEGIN:VEVENT
DTSTART;TZID=America/Los_Angeles:20230209T100000
DTEND;TZID=America/Los_Angeles:20230209T120000
DTSTAMP:20260422T044652
CREATED:20221111T212111Z
LAST-MODIFIED:20221111T212111Z
UID:15734-1675936800-1675944000@bacwa.org
SUMMARY:Collection Systems Committee Meeting
DESCRIPTION:The meeting will take place on Zoom. For agenda and virtual meeting link\, contact Mary Cousins. \n 
URL:https://bacwa.org/event/recycled-water-committee-meeting-17-2-2-2-2-2-2-2-2-2/
CATEGORIES:Collection Systems
END:VEVENT
BEGIN:VEVENT
DTSTART;TZID=America/Los_Angeles:20230214T100000
DTEND;TZID=America/Los_Angeles:20230214T120000
DTSTAMP:20260422T044652
CREATED:20221220T183605Z
LAST-MODIFIED:20221220T183605Z
UID:15902-1676368800-1676376000@bacwa.org
SUMMARY:Laboratory Committee Meeting
DESCRIPTION:For Zoom meeting information\, email mc******@***wa.org
URL:https://bacwa.org/event/permits-committee-meeting-32-2-2-2-2-2-2-2-2-2-2-2-2-2/
CATEGORIES:Laboratory
END:VEVENT
BEGIN:VEVENT
DTSTART;TZID=America/Los_Angeles:20230214T123000
DTEND;TZID=America/Los_Angeles:20230214T143000
DTSTAMP:20260422T044652
CREATED:20221212T204247Z
LAST-MODIFIED:20221212T204247Z
UID:15816-1676377800-1676385000@bacwa.org
SUMMARY:Permits Committee Meeting
DESCRIPTION:For Zoom meeting information\, email mc******@***wa.org
URL:https://bacwa.org/event/permits-committee-meeting-32-2-2-2-2-2-2-3/
CATEGORIES:Permit
END:VEVENT
BEGIN:VEVENT
DTSTART;TZID=America/Los_Angeles:20230216T133000
DTEND;TZID=America/Los_Angeles:20230216T143000
DTSTAMP:20260422T044652
CREATED:20221216T221522Z
LAST-MODIFIED:20221216T221522Z
UID:15889-1676554200-1676557800@bacwa.org
SUMMARY:Asset Management Committee Meeting
DESCRIPTION:Topic: Round Table Discussion – What are your top priorities in asset management? \nFor Zoom meeting information or to join the Asset Management committee\, email mc******@***wa.org
URL:https://bacwa.org/event/permits-committee-meeting-32-2-2-2-2-2-2-2-2-2-3-2-2-2-2/
CATEGORIES:InfoShare Asset Management
END:VEVENT
BEGIN:VEVENT
DTSTART;TZID=America/Los_Angeles:20230217T090000
DTEND;TZID=America/Los_Angeles:20230217T130000
DTSTAMP:20260422T044652
CREATED:20221129T195848Z
LAST-MODIFIED:20221129T195848Z
UID:15792-1676624400-1676638800@bacwa.org
SUMMARY:BACWA Executive Board Meeting
DESCRIPTION:Agenda & Packet will be posted on the website. \nTo attend the meeting of submit a public comment\, please see meeting guidelines: https://bacwa.org/general/bacwa-public-comments-guidelines/
URL:https://bacwa.org/event/bacwa-executive-board-meeting-39/
LOCATION:Online Meeting
CATEGORIES:Executive Board
END:VEVENT
BEGIN:VEVENT
DTSTART;TZID=America/Los_Angeles:20230221T100000
DTEND;TZID=America/Los_Angeles:20230221T120000
DTSTAMP:20260422T044652
CREATED:20221215T071240Z
LAST-MODIFIED:20221215T071240Z
UID:15873-1676973600-1676980800@bacwa.org
SUMMARY:Lab Committee - TNI Monthly Training Session
DESCRIPTION:This monthly training session on implementing the 2016 TNI Standard is free for BACWA members. Attendees must have access to a valid copy of the 2016 TNI standard\, Rev 2.1. Training in February 2023 will be provided by ChemVal Consulting\, Inc. \nFor more information or to obtain a link to the meeting\, contact Nicole Van Aken.
URL:https://bacwa.org/event/lab-committee-tni-monthly-training-session-2-2-2-2-2-2-2-2-2-2-2-2-2-2-2-2-2-2/
CATEGORIES:Laboratory
END:VEVENT
END:VCALENDAR