BEGIN:VCALENDAR
VERSION:2.0
PRODID:-//Bay Area Clean Water Agencies - ECPv6.15.20//NONSGML v1.0//EN
CALSCALE:GREGORIAN
METHOD:PUBLISH
X-WR-CALNAME:Bay Area Clean Water Agencies
X-ORIGINAL-URL:https://bacwa.org
X-WR-CALDESC:Events for Bay Area Clean Water Agencies
REFRESH-INTERVAL;VALUE=DURATION:PT1H
X-Robots-Tag:noindex
X-PUBLISHED-TTL:PT1H
BEGIN:VTIMEZONE
TZID:America/Los_Angeles
BEGIN:DAYLIGHT
TZOFFSETFROM:-0800
TZOFFSETTO:-0700
TZNAME:PDT
DTSTART:20220313T100000
END:DAYLIGHT
BEGIN:STANDARD
TZOFFSETFROM:-0700
TZOFFSETTO:-0800
TZNAME:PST
DTSTART:20221106T090000
END:STANDARD
BEGIN:DAYLIGHT
TZOFFSETFROM:-0800
TZOFFSETTO:-0700
TZNAME:PDT
DTSTART:20230312T100000
END:DAYLIGHT
BEGIN:STANDARD
TZOFFSETFROM:-0700
TZOFFSETTO:-0800
TZNAME:PST
DTSTART:20231105T090000
END:STANDARD
BEGIN:DAYLIGHT
TZOFFSETFROM:-0800
TZOFFSETTO:-0700
TZNAME:PDT
DTSTART:20240310T100000
END:DAYLIGHT
BEGIN:STANDARD
TZOFFSETFROM:-0700
TZOFFSETTO:-0800
TZNAME:PST
DTSTART:20241103T090000
END:STANDARD
END:VTIMEZONE
BEGIN:VEVENT
DTSTART;TZID=America/Los_Angeles:20230111T090000
DTEND;TZID=America/Los_Angeles:20230111T123000
DTSTAMP:20260422T074547
CREATED:20221215T071007Z
LAST-MODIFIED:20221215T071047Z
UID:15868-1673427600-1673440200@bacwa.org
SUMMARY:Clean Water Summit Partners - Sanitary Sewer Systems Waste Discharge Requirements Order
DESCRIPTION:On January 11\, 2023\, the Clean Water Summit Partners will host a free Zoom webinar on the reissued statewide Sanitary Sewer System Waste Discharge Requirements (WWW-WDR) Order that the State Water Resources Control Board adopted on December 6\, 2022. The webinar will start at 9 AM and last for 3.5 hours. The new and modified requirements in the new Order become effective in June 2023\, and this event is designed specifically for collection system LROs\, data submitters\, managers\, and operators to understand: \n– The streamlined process for existing enrollees to transfer current Order enrollment to the new Order\, from April 4 through June 3\, 2023\, prior to the new Order becoming effective; \n– The priority actions to comply with modified spill reporting and updated Spill Emergency Response Plan requirements by June 2023; \n– Clarifications for updating Sewer System Management Plans in 2025 and 2026\, based on the current Plan update schedules in the existing Order. \nRegister here: \nWebinar Registration – Zoom
URL:https://bacwa.org/event/15868/
CATEGORIES:Collection Systems
END:VEVENT
BEGIN:VEVENT
DTSTART;TZID=America/Los_Angeles:20230117T100000
DTEND;TZID=America/Los_Angeles:20230117T120000
DTSTAMP:20260422T074547
CREATED:20221215T071217Z
LAST-MODIFIED:20221215T071217Z
UID:15871-1673949600-1673956800@bacwa.org
SUMMARY:Lab Committee - TNI Monthly Training Session
DESCRIPTION:This monthly training session on implementing the 2016 TNI Standard is free for BACWA members. Attendees must have access to a valid copy of the 2016 TNI standard\, Rev 2.1. Training in January 2023 will be provided by ChemVal Consulting\, Inc. \nFor more information or to obtain a link to the meeting\, contact Nicole Van Aken.
URL:https://bacwa.org/event/lab-committee-tni-monthly-training-session-2-2-2-2-2-2-2-2-2-2-2-2-2-2-2-2-2/
CATEGORIES:Laboratory
END:VEVENT
BEGIN:VEVENT
DTSTART;TZID=America/Los_Angeles:20230117T103000
DTEND;TZID=America/Los_Angeles:20230117T123000
DTSTAMP:20260422T074547
CREATED:20221115T224124Z
LAST-MODIFIED:20221115T224124Z
UID:15755-1673951400-1673958600@bacwa.org
SUMMARY:Recycled Water Committee Meeting
DESCRIPTION:Default meeting location is Zoom. In-person meeting option TBD. \nFor agenda and virtual meeting link\, contact Mary Cousins. \n 
URL:https://bacwa.org/event/recycled-water-committee-meeting-17-2-2-2-2-3-2/
CATEGORIES:Recycled Water
END:VEVENT
BEGIN:VEVENT
DTSTART;TZID=America/Los_Angeles:20230120T090000
DTEND;TZID=America/Los_Angeles:20230120T130000
DTSTAMP:20260422T074547
CREATED:20221129T195739Z
LAST-MODIFIED:20221129T195739Z
UID:15790-1674205200-1674219600@bacwa.org
SUMMARY:BACWA Executive Board Meeting
DESCRIPTION:Agenda & Packet will be posted on the website. \nTo attend the meeting of submit a public comment\, please see meeting guidelines: https://bacwa.org/general/bacwa-public-comments-guidelines/
URL:https://bacwa.org/event/bacwa-executive-board-meeting-38/
LOCATION:Online Meeting
CATEGORIES:Executive Board
END:VEVENT
END:VCALENDAR