BEGIN:VCALENDAR
VERSION:2.0
PRODID:-//Bay Area Clean Water Agencies - ECPv6.15.20//NONSGML v1.0//EN
CALSCALE:GREGORIAN
METHOD:PUBLISH
X-WR-CALNAME:Bay Area Clean Water Agencies
X-ORIGINAL-URL:https://bacwa.org
X-WR-CALDESC:Events for Bay Area Clean Water Agencies
REFRESH-INTERVAL;VALUE=DURATION:PT1H
X-Robots-Tag:noindex
X-PUBLISHED-TTL:PT1H
BEGIN:VTIMEZONE
TZID:America/Los_Angeles
BEGIN:DAYLIGHT
TZOFFSETFROM:-0800
TZOFFSETTO:-0700
TZNAME:PDT
DTSTART:20210314T100000
END:DAYLIGHT
BEGIN:STANDARD
TZOFFSETFROM:-0700
TZOFFSETTO:-0800
TZNAME:PST
DTSTART:20211107T090000
END:STANDARD
BEGIN:DAYLIGHT
TZOFFSETFROM:-0800
TZOFFSETTO:-0700
TZNAME:PDT
DTSTART:20220313T100000
END:DAYLIGHT
BEGIN:STANDARD
TZOFFSETFROM:-0700
TZOFFSETTO:-0800
TZNAME:PST
DTSTART:20221106T090000
END:STANDARD
BEGIN:DAYLIGHT
TZOFFSETFROM:-0800
TZOFFSETTO:-0700
TZNAME:PDT
DTSTART:20230312T100000
END:DAYLIGHT
BEGIN:STANDARD
TZOFFSETFROM:-0700
TZOFFSETTO:-0800
TZNAME:PST
DTSTART:20231105T090000
END:STANDARD
END:VTIMEZONE
BEGIN:VEVENT
DTSTART;TZID=America/Los_Angeles:20220803T100000
DTEND;TZID=America/Los_Angeles:20220803T120000
DTSTAMP:20260422T132613
CREATED:20211109T220453Z
LAST-MODIFIED:20211109T220453Z
UID:14389-1659520800-1659528000@bacwa.org
SUMMARY:BAPPG Committee Meeting
DESCRIPTION:This meeting may be conducted by Zoom or in-person. \nFor agenda and virtual meeting link\, contact Mary Cousins.
URL:https://bacwa.org/event/bappg-committee-meeting-18-2-2-2-2-2-2-2/
CATEGORIES:Bay Area Pollution Prevention Group
END:VEVENT
BEGIN:VEVENT
DTSTART;TZID=America/Los_Angeles:20220804T100000
DTEND;TZID=America/Los_Angeles:20220804T120000
DTSTAMP:20260422T132613
CREATED:20211123T235303Z
LAST-MODIFIED:20220526T175929Z
UID:14451-1659607200-1659614400@bacwa.org
SUMMARY:Collection Systems Committee Meeting
DESCRIPTION:Default meeting location is Zoom. In-person meeting option TBD. \nFor agenda and virtual meeting link\, contact Mary Cousins. \n 
URL:https://bacwa.org/event/recycled-water-committee-meeting-17-2-2-2-2-2-2-2/
CATEGORIES:Collection Systems
END:VEVENT
BEGIN:VEVENT
DTSTART;TZID=America/Los_Angeles:20220809T100000
DTEND;TZID=America/Los_Angeles:20220809T120000
DTSTAMP:20260422T132613
CREATED:20211221T071055Z
LAST-MODIFIED:20220517T222858Z
UID:14574-1660039200-1660046400@bacwa.org
SUMMARY:Laboratory Committee Meeting
DESCRIPTION:For Zoom meeting information\, email mc******@***wa.org
URL:https://bacwa.org/event/permits-committee-meeting-32-2-2-2-2-2-2-2-2-2-2-2/
CATEGORIES:Laboratory
END:VEVENT
BEGIN:VEVENT
DTSTART;TZID=America/Los_Angeles:20220809T123000
DTEND;TZID=America/Los_Angeles:20220809T143000
DTSTAMP:20260422T132613
CREATED:20211221T065942Z
LAST-MODIFIED:20220517T222922Z
UID:14560-1660048200-1660055400@bacwa.org
SUMMARY:Permits Committee Meeting
DESCRIPTION:For Zoom meeting information\, email mc******@***wa.org
URL:https://bacwa.org/event/permits-committee-meeting-32-2-2-2-2/
CATEGORIES:Permit
END:VEVENT
BEGIN:VEVENT
DTSTART;TZID=America/Los_Angeles:20220816T100000
DTEND;TZID=America/Los_Angeles:20220816T120000
DTSTAMP:20260422T132613
CREATED:20220517T215554Z
LAST-MODIFIED:20220517T215554Z
UID:15250-1660644000-1660651200@bacwa.org
SUMMARY:Lab Committee - TNI Monthly Training Session
DESCRIPTION:This monthly training session on implementing the 2016 TNI Standard is free for BACWA members. Attendees must have access to a valid copy of the 2016 TNI standard\, Rev 2.1. Training is provided by Diane Lawver of Quality Assurance Solutions\, LLC. \nFor more information or to obtain a link to the meeting\, contact Nicole Van Aken.
URL:https://bacwa.org/event/lab-committee-tni-monthly-training-session-2-2-2-2-2-2-2-2-2-2-2-2/
CATEGORIES:Laboratory
END:VEVENT
BEGIN:VEVENT
DTSTART;TZID=America/Los_Angeles:20220819T090000
DTEND;TZID=America/Los_Angeles:20220819T130000
DTSTAMP:20260422T132613
CREATED:20220712T212647Z
LAST-MODIFIED:20220712T212647Z
UID:15373-1660899600-1660914000@bacwa.org
SUMMARY:BACWA Executive Board Meeting
DESCRIPTION:Agenda & Packet will be posted on the website. \nTo attend the meeting of submit a public comment\, please see meeting guidelines: https://bacwa.org/general/bacwa-public-comments-guidelines/
URL:https://bacwa.org/event/bacwa-executive-board-meeting-34/
CATEGORIES:Executive Board
END:VEVENT
BEGIN:VEVENT
DTSTART;TZID=America/Los_Angeles:20220823T100000
DTEND;TZID=America/Los_Angeles:20220823T120000
DTSTAMP:20260422T132613
CREATED:20220708T213700Z
LAST-MODIFIED:20220720T222158Z
UID:15344-1661248800-1661256000@bacwa.org
SUMMARY:Roundtable on Sea Level Rise Planning
DESCRIPTION:Join your fellow BACWA agencies for a virtual roundtable discussion on adapting to sea level rise\, extreme precipitation\, and associated flood risks. Please plan to share: \n\nPartners – Who are you collaborating with?\nProcess – What does the adaptation planning process look like at your agency?  Where are you finding useful guidance? What are you struggling with?\nScenarios – What sea level rise and extreme precipitation scenarios is your agency assuming for capital planning?\nSupport – For effective planning\, what support do you need from regulators\, state & local government\, and organizations like BACWA and BayCAN?\n\nClick Here to Register \nSee Flyer \nParticipation by Mentimeter is also encouraged! \nhttps://www.mentimeter.com/integrations/zoom
URL:https://bacwa.org/event/roundtable-on-sea-level-rise-planning/
CATEGORIES:Permit
END:VEVENT
BEGIN:VEVENT
DTSTART;TZID=America/Los_Angeles:20220824T133000
DTEND;TZID=America/Los_Angeles:20220824T143000
DTSTAMP:20260422T132613
CREATED:20220512T034424Z
LAST-MODIFIED:20220512T034424Z
UID:15232-1661347800-1661351400@bacwa.org
SUMMARY:Asset Management Committee Meeting
DESCRIPTION:Meeting topic: Condition Assessment \nFor Zoom meeting information or to join the Asset Management committee\, email mc******@***wa.org
URL:https://bacwa.org/event/permits-committee-meeting-32-2-2-2-2-2-2-2-2-2-3-2-2/
CATEGORIES:InfoShare Asset Management
END:VEVENT
BEGIN:VEVENT
DTSTART;TZID=America/Los_Angeles:20220831T100000
DTEND;TZID=America/Los_Angeles:20220831T120000
DTSTAMP:20260422T132613
CREATED:20220808T221445Z
LAST-MODIFIED:20220808T221602Z
UID:15451-1661940000-1661947200@bacwa.org
SUMMARY:AIR Committee Meeting
DESCRIPTION:This meeting will be held on Microsoft Teams. For meeting information\, please contact Sarah Deslauriers or Courtney Mizutani.
URL:https://bacwa.org/event/air-committee-meeting-20/
CATEGORIES:Air Issues & Regulations (AIR)
END:VEVENT
END:VCALENDAR