BEGIN:VCALENDAR
VERSION:2.0
PRODID:-//Bay Area Clean Water Agencies - ECPv6.15.20//NONSGML v1.0//EN
CALSCALE:GREGORIAN
METHOD:PUBLISH
X-WR-CALNAME:Bay Area Clean Water Agencies
X-ORIGINAL-URL:https://bacwa.org
X-WR-CALDESC:Events for Bay Area Clean Water Agencies
REFRESH-INTERVAL;VALUE=DURATION:PT1H
X-Robots-Tag:noindex
X-PUBLISHED-TTL:PT1H
BEGIN:VTIMEZONE
TZID:America/Los_Angeles
BEGIN:DAYLIGHT
TZOFFSETFROM:-0800
TZOFFSETTO:-0700
TZNAME:PDT
DTSTART:20210314T100000
END:DAYLIGHT
BEGIN:STANDARD
TZOFFSETFROM:-0700
TZOFFSETTO:-0800
TZNAME:PST
DTSTART:20211107T090000
END:STANDARD
BEGIN:DAYLIGHT
TZOFFSETFROM:-0800
TZOFFSETTO:-0700
TZNAME:PDT
DTSTART:20220313T100000
END:DAYLIGHT
BEGIN:STANDARD
TZOFFSETFROM:-0700
TZOFFSETTO:-0800
TZNAME:PST
DTSTART:20221106T090000
END:STANDARD
BEGIN:DAYLIGHT
TZOFFSETFROM:-0800
TZOFFSETTO:-0700
TZNAME:PDT
DTSTART:20230312T100000
END:DAYLIGHT
BEGIN:STANDARD
TZOFFSETFROM:-0700
TZOFFSETTO:-0800
TZNAME:PST
DTSTART:20231105T090000
END:STANDARD
END:VTIMEZONE
BEGIN:VEVENT
DTSTART;TZID=America/Los_Angeles:20220601T100000
DTEND;TZID=America/Los_Angeles:20220601T120000
DTSTAMP:20260422T162910
CREATED:20211109T220234Z
LAST-MODIFIED:20211109T220321Z
UID:14383-1654077600-1654084800@bacwa.org
SUMMARY:BAPPG Committee Meeting
DESCRIPTION:This meeting may be conducted by Zoom or in-person. \nFor agenda and virtual meeting link\, contact Mary Cousins.
URL:https://bacwa.org/event/bappg-committee-meeting-18-2-2-2-2/
CATEGORIES:Bay Area Pollution Prevention Group
END:VEVENT
BEGIN:VEVENT
DTSTART;TZID=America/Los_Angeles:20220602T130000
DTEND;TZID=America/Los_Angeles:20220602T153000
DTSTAMP:20260422T162910
CREATED:20220425T232757Z
LAST-MODIFIED:20220524T164039Z
UID:15129-1654174800-1654183800@bacwa.org
SUMMARY:Pretreatment Committee Meeting
DESCRIPTION:BACWA Pretreatment Committee Meeting \nFor Zoom meeting information\, please email mc******@***wa.org \n 
URL:https://bacwa.org/event/pretreatment-committee-meeting-11-2-2/
CATEGORIES:Pretreatment
END:VEVENT
BEGIN:VEVENT
DTSTART;TZID=America/Los_Angeles:20220609T100000
DTEND;TZID=America/Los_Angeles:20220609T120000
DTSTAMP:20260422T162910
CREATED:20210701T190736Z
LAST-MODIFIED:20220503T202507Z
UID:13790-1654768800-1654776000@bacwa.org
SUMMARY:AIR Committee Meeting
DESCRIPTION:
URL:https://bacwa.org/event/13790/
CATEGORIES:Air Issues & Regulations (AIR)
END:VEVENT
BEGIN:VEVENT
DTSTART;TZID=America/Los_Angeles:20220614T100000
DTEND;TZID=America/Los_Angeles:20220614T120000
DTSTAMP:20260422T162910
CREATED:20211221T071112Z
LAST-MODIFIED:20211221T071112Z
UID:14576-1655200800-1655208000@bacwa.org
SUMMARY:Laboratory Committee Meeting
DESCRIPTION:For Zoom meeting information\, email mc******@***wa.org
URL:https://bacwa.org/event/permits-committee-meeting-32-2-2-2-2-2-2-2-2-2-2-2-2/
CATEGORIES:Laboratory
END:VEVENT
BEGIN:VEVENT
DTSTART;TZID=America/Los_Angeles:20220614T123000
DTEND;TZID=America/Los_Angeles:20220614T143000
DTSTAMP:20260422T162910
CREATED:20211221T065929Z
LAST-MODIFIED:20211221T065929Z
UID:14558-1655209800-1655217000@bacwa.org
SUMMARY:Permits Committee Meeting
DESCRIPTION:For Zoom meeting information\, email mc******@***wa.org
URL:https://bacwa.org/event/permits-committee-meeting-32-2-2-2/
CATEGORIES:Permit
END:VEVENT
BEGIN:VEVENT
DTSTART;TZID=America/Los_Angeles:20220617T090000
DTEND;TZID=America/Los_Angeles:20220617T130000
DTSTAMP:20260422T162910
CREATED:20211208T171227Z
LAST-MODIFIED:20211208T171227Z
UID:14504-1655456400-1655470800@bacwa.org
SUMMARY:BACWA Executive Board Meeting
DESCRIPTION:Agenda & Packet will be posted on the website. \nTo attend the meeting of submit a public comment\, please see meeting guidelines: https://bacwa.org/general/bacwa-public-comments-guidelines/
URL:https://bacwa.org/event/bacwa-executive-board-meeting-32/
CATEGORIES:Executive Board
END:VEVENT
BEGIN:VEVENT
DTSTART;TZID=America/Los_Angeles:20220621T100000
DTEND;TZID=America/Los_Angeles:20220621T120000
DTSTAMP:20260422T162910
CREATED:20220103T193702Z
LAST-MODIFIED:20220103T193702Z
UID:14603-1655805600-1655812800@bacwa.org
SUMMARY:Lab Committee - TNI Monthly Training Session
DESCRIPTION:This monthly training session on implementing the 2016 TNI Standard is free for BACWA members. Attendees must have access to a valid copy of the 2016 TNI standard\, Rev 2.1. Training is provided by Diane Lawver of Quality Assurance Solutions\, LLC. \nFor more information or to obtain a link to the meeting\, contact Nicole Van Aken.
URL:https://bacwa.org/event/lab-committee-tni-monthly-training-session-2-2-2-2-2-2-2-2-2-2/
CATEGORIES:Laboratory
END:VEVENT
END:VCALENDAR