BEGIN:VCALENDAR
VERSION:2.0
PRODID:-//Bay Area Clean Water Agencies - ECPv6.15.20//NONSGML v1.0//EN
CALSCALE:GREGORIAN
METHOD:PUBLISH
X-ORIGINAL-URL:https://bacwa.org
X-WR-CALDESC:Events for Bay Area Clean Water Agencies
REFRESH-INTERVAL;VALUE=DURATION:PT1H
X-Robots-Tag:noindex
X-PUBLISHED-TTL:PT1H
BEGIN:VTIMEZONE
TZID:America/Los_Angeles
BEGIN:DAYLIGHT
TZOFFSETFROM:-0800
TZOFFSETTO:-0700
TZNAME:PDT
DTSTART:20210314T100000
END:DAYLIGHT
BEGIN:STANDARD
TZOFFSETFROM:-0700
TZOFFSETTO:-0800
TZNAME:PST
DTSTART:20211107T090000
END:STANDARD
BEGIN:DAYLIGHT
TZOFFSETFROM:-0800
TZOFFSETTO:-0700
TZNAME:PDT
DTSTART:20220313T100000
END:DAYLIGHT
BEGIN:STANDARD
TZOFFSETFROM:-0700
TZOFFSETTO:-0800
TZNAME:PST
DTSTART:20221106T090000
END:STANDARD
BEGIN:DAYLIGHT
TZOFFSETFROM:-0800
TZOFFSETTO:-0700
TZNAME:PDT
DTSTART:20230312T100000
END:DAYLIGHT
BEGIN:STANDARD
TZOFFSETFROM:-0700
TZOFFSETTO:-0800
TZNAME:PST
DTSTART:20231105T090000
END:STANDARD
END:VTIMEZONE
BEGIN:VEVENT
DTSTART;TZID=America/Los_Angeles:20220202T100000
DTEND;TZID=America/Los_Angeles:20220202T120000
DTSTAMP:20260422T231806
CREATED:20210701T190708Z
LAST-MODIFIED:20210726T161724Z
UID:13788-1643796000-1643803200@bacwa.org
SUMMARY:AIR Committee Meeting
DESCRIPTION:
URL:https://bacwa.org/event/air-committee-meeting-19/
CATEGORIES:Air Issues & Regulations (AIR)
END:VEVENT
BEGIN:VEVENT
DTSTART;TZID=America/Los_Angeles:20220208T100000
DTEND;TZID=America/Los_Angeles:20220208T120000
DTSTAMP:20260422T231806
CREATED:20211221T070833Z
LAST-MODIFIED:20211221T070915Z
UID:14566-1644314400-1644321600@bacwa.org
SUMMARY:Laboratory Committee Meeting
DESCRIPTION:For Zoom meeting information\, email mc******@***wa.org
URL:https://bacwa.org/event/permits-committee-meeting-32-2-2-2-2-2-2-2/
CATEGORIES:Laboratory
END:VEVENT
BEGIN:VEVENT
DTSTART;TZID=America/Los_Angeles:20220208T123000
DTEND;TZID=America/Los_Angeles:20220208T143000
DTSTAMP:20260422T231806
CREATED:20211221T065725Z
LAST-MODIFIED:20211221T065725Z
UID:14554-1644323400-1644330600@bacwa.org
SUMMARY:Permits Committee Meeting
DESCRIPTION:For Zoom meeting information\, email mc******@***wa.org
URL:https://bacwa.org/event/permits-committee-meeting-32-2/
CATEGORIES:Permit
END:VEVENT
BEGIN:VEVENT
DTSTART;TZID=America/Los_Angeles:20220210T100000
DTEND;TZID=America/Los_Angeles:20220210T120000
DTSTAMP:20260422T231806
CREATED:20211123T233730Z
LAST-MODIFIED:20211123T235152Z
UID:14445-1644487200-1644494400@bacwa.org
SUMMARY:Collection Systems Committee Meeting
DESCRIPTION:Default meeting location is Zoom. In-person meeting option TBD. \nFor agenda and virtual meeting link\, contact Mary Cousins. \n 
URL:https://bacwa.org/event/recycled-water-committee-meeting-17-2-2-2-2-2/
CATEGORIES:Collection Systems
END:VEVENT
BEGIN:VEVENT
DTSTART;TZID=America/Los_Angeles:20220215T100000
DTEND;TZID=America/Los_Angeles:20220215T120000
DTSTAMP:20260422T231806
CREATED:20220103T193609Z
LAST-MODIFIED:20220103T193609Z
UID:14595-1644919200-1644926400@bacwa.org
SUMMARY:Lab Committee - TNI Monthly Training Session
DESCRIPTION:This monthly training session on implementing the 2016 TNI Standard is free for BACWA members. Attendees must have access to a valid copy of the 2016 TNI standard\, Rev 2.1. Training is provided by Diane Lawver of Quality Assurance Solutions\, LLC. \nFor more information or to obtain a link to the meeting\, contact Nicole Van Aken.
URL:https://bacwa.org/event/lab-committee-tni-monthly-training-session-2-2-2-2-2-2/
CATEGORIES:Laboratory
END:VEVENT
BEGIN:VEVENT
DTSTART;TZID=America/Los_Angeles:20220215T133000
DTEND;TZID=America/Los_Angeles:20220215T143000
DTSTAMP:20260422T231806
CREATED:20220121T001851Z
LAST-MODIFIED:20220121T001851Z
UID:14669-1644931800-1644935400@bacwa.org
SUMMARY:Asset Management Infoshare Group Meeting
DESCRIPTION:For Zoom meeting information\, email mc******@***wa.org
URL:https://bacwa.org/event/permits-committee-meeting-32-2-2-2-2-2-2-2-2-2-3/
CATEGORIES:InfoShare Asset Management
END:VEVENT
BEGIN:VEVENT
DTSTART;TZID=America/Los_Angeles:20220218T090000
DTEND;TZID=America/Los_Angeles:20220218T130000
DTSTAMP:20260422T231806
CREATED:20211208T170908Z
LAST-MODIFIED:20211208T170908Z
UID:14498-1645174800-1645189200@bacwa.org
SUMMARY:BACWA Executive Board Meeting
DESCRIPTION:Agenda & Packet will be posted on the website. \nTo attend the meeting of submit a public comment\, please see meeting guidelines: https://bacwa.org/general/bacwa-public-comments-guidelines/
URL:https://bacwa.org/event/bacwa-executive-board-meeting-25/
CATEGORIES:Executive Board
END:VEVENT
BEGIN:VEVENT
DTSTART;TZID=America/Los_Angeles:20220225T170000
DTEND;TZID=America/Los_Angeles:20220225T170000
DTSTAMP:20260422T231806
CREATED:20211101T172649Z
LAST-MODIFIED:20211221T065837Z
UID:14365-1645808400-1645808400@bacwa.org
SUMMARY:Arleen Navarret Award Nominations Due
DESCRIPTION:BACWA Arleen Navarret Award – Bay Area Clean Water Agencies
URL:https://bacwa.org/event/arleen-navarret-award-nominations-due/
END:VEVENT
END:VCALENDAR