BEGIN:VCALENDAR
VERSION:2.0
PRODID:-//Bay Area Clean Water Agencies - ECPv6.15.20//NONSGML v1.0//EN
CALSCALE:GREGORIAN
METHOD:PUBLISH
X-ORIGINAL-URL:https://bacwa.org
X-WR-CALDESC:Events for Bay Area Clean Water Agencies
REFRESH-INTERVAL;VALUE=DURATION:PT1H
X-Robots-Tag:noindex
X-PUBLISHED-TTL:PT1H
BEGIN:VTIMEZONE
TZID:America/Los_Angeles
BEGIN:DAYLIGHT
TZOFFSETFROM:-0800
TZOFFSETTO:-0700
TZNAME:PDT
DTSTART:20200308T100000
END:DAYLIGHT
BEGIN:STANDARD
TZOFFSETFROM:-0700
TZOFFSETTO:-0800
TZNAME:PST
DTSTART:20201101T090000
END:STANDARD
BEGIN:DAYLIGHT
TZOFFSETFROM:-0800
TZOFFSETTO:-0700
TZNAME:PDT
DTSTART:20210314T100000
END:DAYLIGHT
BEGIN:STANDARD
TZOFFSETFROM:-0700
TZOFFSETTO:-0800
TZNAME:PST
DTSTART:20211107T090000
END:STANDARD
BEGIN:DAYLIGHT
TZOFFSETFROM:-0800
TZOFFSETTO:-0700
TZNAME:PDT
DTSTART:20220313T100000
END:DAYLIGHT
BEGIN:STANDARD
TZOFFSETFROM:-0700
TZOFFSETTO:-0800
TZNAME:PST
DTSTART:20221106T090000
END:STANDARD
END:VTIMEZONE
BEGIN:VEVENT
DTSTART;TZID=America/Los_Angeles:20211201T100000
DTEND;TZID=America/Los_Angeles:20211201T120000
DTSTAMP:20260423T021352
CREATED:20210907T183853Z
LAST-MODIFIED:20210907T183853Z
UID:14146-1638352800-1638360000@bacwa.org
SUMMARY:BAPPG Committee Meeting
DESCRIPTION:This meeting will be conducted by Zoom. \nFor agenda and virtual meeting link\, contact Mary Cousins.
URL:https://bacwa.org/event/bappg-committee-meeting-18-2-2/
CATEGORIES:Bay Area Pollution Prevention Group
END:VEVENT
BEGIN:VEVENT
DTSTART;TZID=America/Los_Angeles:20211206T130000
DTEND;TZID=America/Los_Angeles:20211206T163000
DTSTAMP:20260423T021352
CREATED:20211102T225109Z
LAST-MODIFIED:20211102T225109Z
UID:14375-1638795600-1638808200@bacwa.org
SUMMARY:Advanced Treatment Webinar for Policymakers
DESCRIPTION:On December 6\, the Clean Water Summit Partners (BACWA\, CASA\, CVCWA\, CWEA\, and SCAP) will host this free afternoon webinar focusing on opportunities and challenges for advanced wastewater treatment. The webinar is designed to provide a high-level overview of various advanced treatment options as well as costs and limitations\, particularly in the context of finding the most effective means of addressing constituents of emerging concern (including PFAS)\, nutrients\, energy consumption and emissions issues\, and recycled water production and usage. All are welcome\, and the programming is intended for state legislative officials and staff\, State and Regional Water Board Members and staff\, and environmental advocacy organizations\, to hear from the experts on wastewater planning and treatment\, including specific case studies and examples being implemented or planned across California. You may register for the event here\, the event flyer is here\, and for additional information\, contact Jared Voskuhl.
URL:https://bacwa.org/event/advanced-treatment-webinar-for-policymakers/
END:VEVENT
BEGIN:VEVENT
DTSTART;TZID=America/Los_Angeles:20211213T160000
DTEND;TZID=America/Los_Angeles:20211213T170000
DTSTAMP:20260423T021352
CREATED:20211210T210713Z
LAST-MODIFIED:20211210T210713Z
UID:14510-1639411200-1639414800@bacwa.org
SUMMARY:BACWA Special Board Meeting Agenda
DESCRIPTION:Agenda & Packet will be posted on the website. \nTo attend the meeting of submit a public comment\, please see meeting guidelines: https://bacwa.org/general/bacwa-public-comments-guidelines/
URL:https://bacwa.org/event/bacwa-special-board-meeting-agenda/
LOCATION:Online Meeting
CATEGORIES:Executive Board
END:VEVENT
BEGIN:VEVENT
DTSTART;TZID=America/Los_Angeles:20211214T100000
DTEND;TZID=America/Los_Angeles:20211214T113000
DTSTAMP:20260423T021352
CREATED:20201211T064009Z
LAST-MODIFIED:20211207T010046Z
UID:12918-1639476000-1639481400@bacwa.org
SUMMARY:Laboratory Committee Meeting
DESCRIPTION:BACWA Laboratory Committee \nRequest Zoom meeting link from Mary Cousins
URL:https://bacwa.org/event/laboratory-committee-meeting-46/
CATEGORIES:Laboratory
END:VEVENT
BEGIN:VEVENT
DTSTART;TZID=America/Los_Angeles:20211214T113000
DTEND;TZID=America/Los_Angeles:20211214T123000
DTSTAMP:20260423T021352
CREATED:20211207T010151Z
LAST-MODIFIED:20211207T071846Z
UID:14483-1639481400-1639485000@bacwa.org
SUMMARY:Laboratory and Permits Committee Holiday Social
DESCRIPTION:BACWA Laboratory Committee and Permits Committee Holiday Social! \n\nHoliday Sweater Contest\nDrawing games on Gartic.io\n\nRequest Zoom meeting link from Mary Cousins
URL:https://bacwa.org/event/laboratory-committee-meeting-46-2/
CATEGORIES:Laboratory,Permit
END:VEVENT
BEGIN:VEVENT
DTSTART;TZID=America/Los_Angeles:20211214T123000
DTEND;TZID=America/Los_Angeles:20211214T143000
DTSTAMP:20260423T021352
CREATED:20201211T064911Z
LAST-MODIFIED:20210726T161744Z
UID:12934-1639485000-1639492200@bacwa.org
SUMMARY:Permits Committee Meeting
DESCRIPTION:BACWA Permits Committee \nMay be in-person or virtual\, TBD
URL:https://bacwa.org/event/permits-committee-meeting-36/
CATEGORIES:Permit
END:VEVENT
BEGIN:VEVENT
DTSTART;TZID=America/Los_Angeles:20211217T090000
DTEND;TZID=America/Los_Angeles:20211217T130000
DTSTAMP:20260423T021352
CREATED:20210726T161226Z
LAST-MODIFIED:20210726T161226Z
UID:13965-1639731600-1639746000@bacwa.org
SUMMARY:BACWA Executive Board Meeting
DESCRIPTION:Agenda & Packet will be posted on the website. \nTo attend the meeting of submit a public comment\, please see meeting guidelines: https://bacwa.org/general/bacwa-public-comments-guidelines/
URL:https://bacwa.org/event/bacwa-executive-board-meeting-29/
CATEGORIES:Executive Board
END:VEVENT
BEGIN:VEVENT
DTSTART;TZID=America/Los_Angeles:20211221T100000
DTEND;TZID=America/Los_Angeles:20211221T120000
DTSTAMP:20260423T021352
CREATED:20210804T225809Z
LAST-MODIFIED:20210804T225809Z
UID:14022-1640080800-1640088000@bacwa.org
SUMMARY:Lab Committee - TNI Monthly Training Session
DESCRIPTION:This monthly training session on implementing the 2016 TNI Standard is free for BACWA members. Attendees must have access to a valid copy of the 2016 TNI standard\, Rev 2.1. Training is provided by Diane Lawver of Quality Assurance Solutions\, LLC. \nFor more information or to obtain a link to the meeting\, contact Nicole Van Aken.
URL:https://bacwa.org/event/lab-committee-tni-monthly-training-session-2-2-2-2/
END:VEVENT
END:VCALENDAR