BEGIN:VCALENDAR
VERSION:2.0
PRODID:-//Bay Area Clean Water Agencies - ECPv6.15.20//NONSGML v1.0//EN
CALSCALE:GREGORIAN
METHOD:PUBLISH
X-WR-CALNAME:Bay Area Clean Water Agencies
X-ORIGINAL-URL:https://bacwa.org
X-WR-CALDESC:Events for Bay Area Clean Water Agencies
REFRESH-INTERVAL;VALUE=DURATION:PT1H
X-Robots-Tag:noindex
X-PUBLISHED-TTL:PT1H
BEGIN:VTIMEZONE
TZID:America/Los_Angeles
BEGIN:DAYLIGHT
TZOFFSETFROM:-0800
TZOFFSETTO:-0700
TZNAME:PDT
DTSTART:20200308T100000
END:DAYLIGHT
BEGIN:STANDARD
TZOFFSETFROM:-0700
TZOFFSETTO:-0800
TZNAME:PST
DTSTART:20201101T090000
END:STANDARD
BEGIN:DAYLIGHT
TZOFFSETFROM:-0800
TZOFFSETTO:-0700
TZNAME:PDT
DTSTART:20210314T100000
END:DAYLIGHT
BEGIN:STANDARD
TZOFFSETFROM:-0700
TZOFFSETTO:-0800
TZNAME:PST
DTSTART:20211107T090000
END:STANDARD
BEGIN:DAYLIGHT
TZOFFSETFROM:-0800
TZOFFSETTO:-0700
TZNAME:PDT
DTSTART:20220313T100000
END:DAYLIGHT
BEGIN:STANDARD
TZOFFSETFROM:-0700
TZOFFSETTO:-0800
TZNAME:PST
DTSTART:20221106T090000
END:STANDARD
END:VTIMEZONE
BEGIN:VEVENT
DTSTART;TZID=America/Los_Angeles:20211116T100000
DTEND;TZID=America/Los_Angeles:20211116T120000
DTSTAMP:20260423T035118
CREATED:20210804T225743Z
LAST-MODIFIED:20210804T225743Z
UID:14020-1637056800-1637064000@bacwa.org
SUMMARY:Lab Committee - TNI Monthly Training Session
DESCRIPTION:This monthly training session on implementing the 2016 TNI Standard is free for BACWA members. Attendees must have access to a valid copy of the 2016 TNI standard\, Rev 2.1. Training is provided by Diane Lawver of Quality Assurance Solutions\, LLC. \nFor more information or to obtain a link to the meeting\, contact Nicole Van Aken.
URL:https://bacwa.org/event/lab-committee-tni-monthly-training-session-2-2-2/
END:VEVENT
BEGIN:VEVENT
DTSTART;TZID=America/Los_Angeles:20211116T103000
DTEND;TZID=America/Los_Angeles:20211116T123000
DTSTAMP:20260423T035118
CREATED:20201117T214425Z
LAST-MODIFIED:20210726T161831Z
UID:12783-1637058600-1637065800@bacwa.org
SUMMARY:Recycled Water Committee Meeting
DESCRIPTION:Meeting agenda to follow. Meeting location (TBD) will be either the EBMUD Small Training room (375 11th Street\, Oakland\, 2nd Floor) and/or Zoom. \nFor agenda and virtual meeting link\, contact Mary Cousins. \n 
URL:https://bacwa.org/event/bacwa-recycled-water-committee-meeting-8/
CATEGORIES:Recycled Water
END:VEVENT
BEGIN:VEVENT
DTSTART;TZID=America/Los_Angeles:20211117T100000
DTEND;TZID=America/Los_Angeles:20211117T120000
DTSTAMP:20260423T035118
CREATED:20210701T190314Z
LAST-MODIFIED:20210726T161820Z
UID:13786-1637143200-1637150400@bacwa.org
SUMMARY:AIR Committee Meeting
DESCRIPTION:
URL:https://bacwa.org/event/air-committee-meeting-18/
CATEGORIES:Air Issues & Regulations (AIR)
END:VEVENT
BEGIN:VEVENT
DTSTART;TZID=America/Los_Angeles:20211118T100000
DTEND;TZID=America/Los_Angeles:20211118T120000
DTSTAMP:20260423T035118
CREATED:20201120T065234Z
LAST-MODIFIED:20210726T161806Z
UID:12804-1637229600-1637236800@bacwa.org
SUMMARY:Collection Systems Committee Meeting
DESCRIPTION:This meeting may be conducted in-person and/or via Zoom (TBD). \nFor agenda and virtual meeting link\, contact Mary Cousins.
URL:https://bacwa.org/event/collection-systems-committee-meeting-10/
CATEGORIES:Collection Systems
END:VEVENT
BEGIN:VEVENT
DTSTART;TZID=America/Los_Angeles:20211119T090000
DTEND;TZID=America/Los_Angeles:20211119T130000
DTSTAMP:20260423T035118
CREATED:20210726T161150Z
LAST-MODIFIED:20210726T161150Z
UID:13963-1637312400-1637326800@bacwa.org
SUMMARY:BACWA Executive Board Meeting
DESCRIPTION:Agenda & Packet will be posted on the website. \nTo attend the meeting of submit a public comment\, please see meeting guidelines: https://bacwa.org/general/bacwa-public-comments-guidelines/
URL:https://bacwa.org/event/bacwa-executive-board-meeting-28/
CATEGORIES:Executive Board
END:VEVENT
END:VCALENDAR