BEGIN:VCALENDAR
VERSION:2.0
PRODID:-//Bay Area Clean Water Agencies - ECPv6.15.20//NONSGML v1.0//EN
CALSCALE:GREGORIAN
METHOD:PUBLISH
X-WR-CALNAME:Bay Area Clean Water Agencies
X-ORIGINAL-URL:https://bacwa.org
X-WR-CALDESC:Events for Bay Area Clean Water Agencies
REFRESH-INTERVAL;VALUE=DURATION:PT1H
X-Robots-Tag:noindex
X-PUBLISHED-TTL:PT1H
BEGIN:VTIMEZONE
TZID:America/Los_Angeles
BEGIN:DAYLIGHT
TZOFFSETFROM:-0800
TZOFFSETTO:-0700
TZNAME:PDT
DTSTART:20200308T100000
END:DAYLIGHT
BEGIN:STANDARD
TZOFFSETFROM:-0700
TZOFFSETTO:-0800
TZNAME:PST
DTSTART:20201101T090000
END:STANDARD
BEGIN:DAYLIGHT
TZOFFSETFROM:-0800
TZOFFSETTO:-0700
TZNAME:PDT
DTSTART:20210314T100000
END:DAYLIGHT
BEGIN:STANDARD
TZOFFSETFROM:-0700
TZOFFSETTO:-0800
TZNAME:PST
DTSTART:20211107T090000
END:STANDARD
BEGIN:DAYLIGHT
TZOFFSETFROM:-0800
TZOFFSETTO:-0700
TZNAME:PDT
DTSTART:20220313T100000
END:DAYLIGHT
BEGIN:STANDARD
TZOFFSETFROM:-0700
TZOFFSETTO:-0800
TZNAME:PST
DTSTART:20221106T090000
END:STANDARD
END:VTIMEZONE
BEGIN:VEVENT
DTSTART;TZID=America/Los_Angeles:20210901T100000
DTEND;TZID=America/Los_Angeles:20210901T120000
DTSTAMP:20260423T064757
CREATED:20210701T190231Z
LAST-MODIFIED:20210726T161926Z
UID:13784-1630490400-1630497600@bacwa.org
SUMMARY:AIR Committee Meeting
DESCRIPTION:This meeting will be held virtually via MS Teams. For meeting information\, contact Sarah Deslauriers or Courtney Mizutani.
URL:https://bacwa.org/event/air-committee-meeting-17/
CATEGORIES:Air Issues & Regulations (AIR)
END:VEVENT
BEGIN:VEVENT
DTSTART;TZID=America/Los_Angeles:20210901T130000
DTEND;TZID=America/Los_Angeles:20210901T163000
DTSTAMP:20260423T064757
CREATED:20210803T155904Z
LAST-MODIFIED:20210803T160010Z
UID:14002-1630501200-1630513800@bacwa.org
SUMMARY:Clean Water Summit Partners Workshop
DESCRIPTION:Clean Water Summit Partners will host their fourth workshop on Wednesday\, September 1\, from 1 PM to 4:30 PM on the State Water Board’s investigative order of PFAS. \nTo Register please visit: https://us02web.zoom.us/webinar/register/WN_uFMW-FTbSHGzurCXjbxsZg \n  \n\nUpdates from the SWB on their statewide PFAS investigations – Wendy Link\nOverview + Q&A of the monitoring report required after all four quarters of sampling by POTWs – SWB team and POTW template creator\nUpdate from BACWA on the findings from Phase 1 of the Bay Area PFAS study – Lorien Fono\nEncore and updated presentation on residential wastewater PFAS concentrations from the AEHS conference – Matt Smith (OC SAN)\, Steve Luis (Ramboll)\, and Wendy Link (SWB)\nUpdates on Federal and State legislative and regulatory initiatives – Sarah Sapirstein\, Jessica Gauger\, and Jared Voskuhl\nIntroduction to the CASA-Clean Water Action PFAS policy coalition – Jessica Gauger\nCARB & Regional New Air Toxic Emissions Reporting Regulations – Sarah Deslauriers
URL:https://bacwa.org/event/clean-water-summit-partners-workshop/
LOCATION:Online Meeting
CATEGORIES:Executive Board
END:VEVENT
BEGIN:VEVENT
DTSTART;TZID=America/Los_Angeles:20210917T090000
DTEND;TZID=America/Los_Angeles:20210917T150000
DTSTAMP:20260423T064757
CREATED:20210726T161011Z
LAST-MODIFIED:20210726T161011Z
UID:13959-1631869200-1631890800@bacwa.org
SUMMARY:BACWA Executive Board Meeting
DESCRIPTION:Agenda and packet will be posted online. \nTo attend the meeting of submit a public comment\, please see meeting guidelines: https://bacwa.org/general/bacwa-public-comments-guidelines/
URL:https://bacwa.org/event/bacwa-executive-board-meeting-26/
CATEGORIES:Executive Board
END:VEVENT
BEGIN:VEVENT
DTSTART;TZID=America/Los_Angeles:20210921T100000
DTEND;TZID=America/Los_Angeles:20210921T120000
DTSTAMP:20260423T064757
CREATED:20210804T225647Z
LAST-MODIFIED:20210804T225647Z
UID:14016-1632218400-1632225600@bacwa.org
SUMMARY:Lab Committee - TNI Monthly Training Session
DESCRIPTION:This monthly training session on implementing the 2016 TNI Standard is free for BACWA members. Attendees must have access to a valid copy of the 2016 TNI standard\, Rev 2.1. Training is provided by Diane Lawver of Quality Assurance Solutions\, LLC. \nFor more information or to obtain a link to the meeting\, contact Nicole Van Aken.
URL:https://bacwa.org/event/lab-committee-tni-monthly-training-session-2/
END:VEVENT
BEGIN:VEVENT
DTSTART;TZID=America/Los_Angeles:20210928T103000
DTEND;TZID=America/Los_Angeles:20210928T123000
DTSTAMP:20260423T064757
CREATED:20201117T214332Z
LAST-MODIFIED:20210726T161911Z
UID:12781-1632825000-1632832200@bacwa.org
SUMMARY:Recycled Water Committee Meeting
DESCRIPTION:The meeting will be conducted virtually by Zoom. \nFor agenda and virtual meeting link\, contact Mary Cousins. \n  \n  \n  \n  \n 
URL:https://bacwa.org/event/bacwa-recycled-water-committee-meeting-7/
CATEGORIES:Recycled Water
END:VEVENT
BEGIN:VEVENT
DTSTART;TZID=America/Los_Angeles:20210930T090000
DTEND;TZID=America/Los_Angeles:20210930T110000
DTSTAMP:20260423T064757
CREATED:20210907T164512Z
LAST-MODIFIED:20210907T164512Z
UID:14137-1632992400-1632999600@bacwa.org
SUMMARY:O&M Infoshare Meeting
DESCRIPTION:Operations & Maintenance Infoshare Group Meeting \nFor Zoom meeting information\, email mc******@***wa.org
URL:https://bacwa.org/event/om-infoshare-meeting/
CATEGORIES:InfoShare Operations Group
END:VEVENT
BEGIN:VEVENT
DTSTART;TZID=America/Los_Angeles:20210930T130000
DTEND;TZID=America/Los_Angeles:20210930T153000
DTSTAMP:20260423T064757
CREATED:20210911T001110Z
LAST-MODIFIED:20210911T001110Z
UID:14151-1633006800-1633015800@bacwa.org
SUMMARY:Pretreatment Committee Meeting
DESCRIPTION:BACWA Pretreatment Committee Meeting \nFor Zoom meeting information\, please email mc******@***wa.org \n 
URL:https://bacwa.org/event/pretreatment-committee-meeting-11-2/
CATEGORIES:Pretreatment
END:VEVENT
END:VCALENDAR