BEGIN:VCALENDAR
VERSION:2.0
PRODID:-//Bay Area Clean Water Agencies - ECPv6.15.20//NONSGML v1.0//EN
CALSCALE:GREGORIAN
METHOD:PUBLISH
X-ORIGINAL-URL:https://bacwa.org
X-WR-CALDESC:Events for Bay Area Clean Water Agencies
REFRESH-INTERVAL;VALUE=DURATION:PT1H
X-Robots-Tag:noindex
X-PUBLISHED-TTL:PT1H
BEGIN:VTIMEZONE
TZID:America/Los_Angeles
BEGIN:DAYLIGHT
TZOFFSETFROM:-0800
TZOFFSETTO:-0700
TZNAME:PDT
DTSTART:20200308T100000
END:DAYLIGHT
BEGIN:STANDARD
TZOFFSETFROM:-0700
TZOFFSETTO:-0800
TZNAME:PST
DTSTART:20201101T090000
END:STANDARD
BEGIN:DAYLIGHT
TZOFFSETFROM:-0800
TZOFFSETTO:-0700
TZNAME:PDT
DTSTART:20210314T100000
END:DAYLIGHT
BEGIN:STANDARD
TZOFFSETFROM:-0700
TZOFFSETTO:-0800
TZNAME:PST
DTSTART:20211107T090000
END:STANDARD
BEGIN:DAYLIGHT
TZOFFSETFROM:-0800
TZOFFSETTO:-0700
TZNAME:PDT
DTSTART:20220313T100000
END:DAYLIGHT
BEGIN:STANDARD
TZOFFSETFROM:-0700
TZOFFSETTO:-0800
TZNAME:PST
DTSTART:20221106T090000
END:STANDARD
END:VTIMEZONE
BEGIN:VEVENT
DTSTART;TZID=America/Los_Angeles:20210402T130000
DTEND;TZID=America/Los_Angeles:20210402T150000
DTSTAMP:20260423T141533
CREATED:20210329T215803Z
LAST-MODIFIED:20210329T215803Z
UID:13409-1617368400-1617375600@bacwa.org
SUMMARY:SF Bay Regional Water Board / BACWA Executive Board Joint Meeting
DESCRIPTION:SF Bay Regional Water Board / BACWA Executive Board Joint Meeting\nFriday\, April 2\,  1 – 3 PM\nThis meeting will be held online. \nIf you would like to submit a comment or attend this email please visit: https://bacwa.org/general/bacwa-public-comments-guidelines/ \n 
URL:https://bacwa.org/event/sf-bay-regional-water-board-bacwa-executive-board-joint-meeting/
CATEGORIES:Executive Board
END:VEVENT
BEGIN:VEVENT
DTSTART;TZID=America/Los_Angeles:20210407T100000
DTEND;TZID=America/Los_Angeles:20210407T120000
DTSTAMP:20260423T141533
CREATED:20201207T184134Z
LAST-MODIFIED:20201207T184134Z
UID:12887-1617789600-1617796800@bacwa.org
SUMMARY:BAPPG Committee Meeting
DESCRIPTION:This meeting will be conducted by Zoom only (no in-person option). \nFor agenda and virtual meeting link\, contact Mary Cousins.
URL:https://bacwa.org/event/bappg-committee-meeting-16/
CATEGORIES:Bay Area Pollution Prevention Group
END:VEVENT
BEGIN:VEVENT
DTSTART;TZID=America/Los_Angeles:20210413T100000
DTEND;TZID=America/Los_Angeles:20210413T120000
DTSTAMP:20260423T141533
CREATED:20201211T064349Z
LAST-MODIFIED:20210311T214405Z
UID:12924-1618308000-1618315200@bacwa.org
SUMMARY:Permits Committee Meeting
DESCRIPTION:BACWA Permits Committee. The April meeting will be held earlier in the day to facilitate attendance at a State Water Board workshop on the Statewide Sanitary Sewer Systems General Order\, which will be occurring during our normal afternoon time slot. \nFor Zoom meeting information\, email mc******@***wa.org
URL:https://bacwa.org/event/permits-committee-meeting-32/
CATEGORIES:Permit
END:VEVENT
BEGIN:VEVENT
DTSTART;TZID=America/Los_Angeles:20210416T090000
DTEND;TZID=America/Los_Angeles:20210416T130000
DTSTAMP:20260423T141533
CREATED:20210115T213711Z
LAST-MODIFIED:20210115T213711Z
UID:13125-1618563600-1618578000@bacwa.org
SUMMARY:BACWA Executive Board Meeting
DESCRIPTION:Agenda & Packet will be posted on the website. \nTo attend the meeting of submit a public comment\, please see meeting guidelines: https://bacwa.org/general/bacwa-public-comments-guidelines/
URL:https://bacwa.org/event/bacwa-executive-board-meeting-20/
LOCATION:Online Meeting
CATEGORIES:Executive Board
END:VEVENT
BEGIN:VEVENT
DTSTART;TZID=America/Los_Angeles:20210420T090000
DTEND;TZID=America/Los_Angeles:20210420T130000
DTSTAMP:20260423T141533
CREATED:20201211T063627Z
LAST-MODIFIED:20210312T181703Z
UID:12908-1618909200-1618923600@bacwa.org
SUMMARY:Laboratory Committee - TNI Training
DESCRIPTION:The BACWA Laboratory Committee will be hosting a workshop regarding implementation of TNI standards\, with representatives from TNI\, ELAP\, and third-party audit firms. Join us! \nFor Zoom meeting information\, email mc******@***wa.org
URL:https://bacwa.org/event/laboratory-committee-meeting-43/
CATEGORIES:Laboratory
END:VEVENT
END:VCALENDAR