BEGIN:VCALENDAR
VERSION:2.0
PRODID:-//Bay Area Clean Water Agencies - ECPv6.15.20//NONSGML v1.0//EN
CALSCALE:GREGORIAN
METHOD:PUBLISH
X-ORIGINAL-URL:https://bacwa.org
X-WR-CALDESC:Events for Bay Area Clean Water Agencies
REFRESH-INTERVAL;VALUE=DURATION:PT1H
X-Robots-Tag:noindex
X-PUBLISHED-TTL:PT1H
BEGIN:VTIMEZONE
TZID:America/Los_Angeles
BEGIN:DAYLIGHT
TZOFFSETFROM:-0800
TZOFFSETTO:-0700
TZNAME:PDT
DTSTART:20200308T100000
END:DAYLIGHT
BEGIN:STANDARD
TZOFFSETFROM:-0700
TZOFFSETTO:-0800
TZNAME:PST
DTSTART:20201101T090000
END:STANDARD
BEGIN:DAYLIGHT
TZOFFSETFROM:-0800
TZOFFSETTO:-0700
TZNAME:PDT
DTSTART:20210314T100000
END:DAYLIGHT
BEGIN:STANDARD
TZOFFSETFROM:-0700
TZOFFSETTO:-0800
TZNAME:PST
DTSTART:20211107T090000
END:STANDARD
BEGIN:DAYLIGHT
TZOFFSETFROM:-0800
TZOFFSETTO:-0700
TZNAME:PDT
DTSTART:20220313T100000
END:DAYLIGHT
BEGIN:STANDARD
TZOFFSETFROM:-0700
TZOFFSETTO:-0800
TZNAME:PST
DTSTART:20221106T090000
END:STANDARD
END:VTIMEZONE
BEGIN:VEVENT
DTSTART;TZID=America/Los_Angeles:20210203T100000
DTEND;TZID=America/Los_Angeles:20210203T120000
DTSTAMP:20260423T170608
CREATED:20201207T183929Z
LAST-MODIFIED:20201207T183929Z
UID:12885-1612346400-1612353600@bacwa.org
SUMMARY:BAPPG Committee Meeting
DESCRIPTION:This meeting will be conducted by Zoom only (no in-person option). \nFor agenda and virtual meeting link\, contact Mary Cousins.
URL:https://bacwa.org/event/bappg-committee-meeting-15/
CATEGORIES:Bay Area Pollution Prevention Group
END:VEVENT
BEGIN:VEVENT
DTSTART;TZID=America/Los_Angeles:20210205T090000
DTEND;TZID=America/Los_Angeles:20210205T120000
DTSTAMP:20260423T170608
CREATED:20201230T212433Z
LAST-MODIFIED:20201230T212433Z
UID:13007-1612515600-1612526400@bacwa.org
SUMMARY:Power Supply Reliability Infoshare
DESCRIPTION: This Infoshare virtual meeting is open to all BACWA member agency staff\, as well as consultants who are invited by a member agency. Register here.
URL:https://bacwa.org/event/power-supply-reliability-infoshare/
END:VEVENT
BEGIN:VEVENT
DTSTART;TZID=America/Los_Angeles:20210209T100000
DTEND;TZID=America/Los_Angeles:20210209T120000
DTSTAMP:20260423T170608
CREATED:20201211T063545Z
LAST-MODIFIED:20201211T063545Z
UID:12906-1612864800-1612872000@bacwa.org
SUMMARY:Laboratory Committee Meeting
DESCRIPTION:BACWA Laboratory Committee \nFor Zoom meeting information\, email mc******@***wa.org
URL:https://bacwa.org/event/laboratory-committee-meeting-42/
CATEGORIES:Laboratory
END:VEVENT
BEGIN:VEVENT
DTSTART;TZID=America/Los_Angeles:20210209T123000
DTEND;TZID=America/Los_Angeles:20210209T143000
DTSTAMP:20260423T170608
CREATED:20201211T064311Z
LAST-MODIFIED:20201211T064311Z
UID:12922-1612873800-1612881000@bacwa.org
SUMMARY:Permits Committee Meeting
DESCRIPTION:BACWA Permits Committee \nFor Zoom meeting information\, email mc******@***wa.org
URL:https://bacwa.org/event/permits-committee-meeting-31/
CATEGORIES:Permit
END:VEVENT
BEGIN:VEVENT
DTSTART;TZID=America/Los_Angeles:20210218T100000
DTEND;TZID=America/Los_Angeles:20210218T120000
DTSTAMP:20260423T170608
CREATED:20201120T064430Z
LAST-MODIFIED:20201207T180805Z
UID:12789-1613642400-1613649600@bacwa.org
SUMMARY:Collection Systems Committee Meeting
DESCRIPTION:This meeting will be conducted by Zoom only (no in-person option). \nFor agenda and virtual meeting link\, contact Mary Cousins.
URL:https://bacwa.org/event/bacwa-collection-systems-committee-meeting/
CATEGORIES:Collection Systems
END:VEVENT
BEGIN:VEVENT
DTSTART;TZID=America/Los_Angeles:20210219T090000
DTEND;TZID=America/Los_Angeles:20210219T150000
DTSTAMP:20260423T170608
CREATED:20201005T190815Z
LAST-MODIFIED:20210120T191657Z
UID:12518-1613725200-1613746800@bacwa.org
SUMMARY:BACWA Annual Members Meeting
DESCRIPTION:Meeting Program \nLink to Registration
URL:https://bacwa.org/event/bacwa-annual-members-meeting-3/
LOCATION:Online Meeting
END:VEVENT
END:VCALENDAR