BEGIN:VCALENDAR
VERSION:2.0
PRODID:-//Bay Area Clean Water Agencies - ECPv6.15.20//NONSGML v1.0//EN
CALSCALE:GREGORIAN
METHOD:PUBLISH
X-WR-CALNAME:Bay Area Clean Water Agencies
X-ORIGINAL-URL:https://bacwa.org
X-WR-CALDESC:Events for Bay Area Clean Water Agencies
REFRESH-INTERVAL;VALUE=DURATION:PT1H
X-Robots-Tag:noindex
X-PUBLISHED-TTL:PT1H
BEGIN:VTIMEZONE
TZID:America/Los_Angeles
BEGIN:DAYLIGHT
TZOFFSETFROM:-0800
TZOFFSETTO:-0700
TZNAME:PDT
DTSTART:20190310T100000
END:DAYLIGHT
BEGIN:STANDARD
TZOFFSETFROM:-0700
TZOFFSETTO:-0800
TZNAME:PST
DTSTART:20191103T090000
END:STANDARD
BEGIN:DAYLIGHT
TZOFFSETFROM:-0800
TZOFFSETTO:-0700
TZNAME:PDT
DTSTART:20200308T100000
END:DAYLIGHT
BEGIN:STANDARD
TZOFFSETFROM:-0700
TZOFFSETTO:-0800
TZNAME:PST
DTSTART:20201101T090000
END:STANDARD
BEGIN:DAYLIGHT
TZOFFSETFROM:-0800
TZOFFSETTO:-0700
TZNAME:PDT
DTSTART:20210314T100000
END:DAYLIGHT
BEGIN:STANDARD
TZOFFSETFROM:-0700
TZOFFSETTO:-0800
TZNAME:PST
DTSTART:20211107T090000
END:STANDARD
END:VTIMEZONE
BEGIN:VEVENT
DTSTART;TZID=America/Los_Angeles:20201007T100000
DTEND;TZID=America/Los_Angeles:20201007T120000
DTSTAMP:20260424T001925
CREATED:20200908T194442Z
LAST-MODIFIED:20200908T194506Z
UID:12430-1602064800-1602072000@bacwa.org
SUMMARY:BACWA BAPPG Committee Meeting
DESCRIPTION:BAPPG October Meeting\nWed\, Oct 7\, 2020 10:00 AM – 12:00 PM (PDT) \nPlease join my meeting from your computer\, tablet or smartphone. \nhttps://global.gotomeeting.com/join/964724909 \nYou can also dial in using your phone.\n+1 (408) 650-3123 Access Code: 964-724-909
URL:https://bacwa.org/event/bacwa-bappg-committee-meeting/
LOCATION:Online Meeting
CATEGORIES:Bay Area Pollution Prevention Group
END:VEVENT
BEGIN:VEVENT
DTSTART;TZID=America/Los_Angeles:20201009T120000
DTEND;TZID=America/Los_Angeles:20201009T150000
DTSTAMP:20260424T001925
CREATED:20200928T204112Z
LAST-MODIFIED:20200928T204405Z
UID:12499-1602244800-1602255600@bacwa.org
SUMMARY:BACWA Strategic Planning Meeting
DESCRIPTION:Public comment guidelines \nBACWA is inviting you to a scheduled Zoom meeting. \nJoin Zoom Meeting\nhttps://zoom.us/j/91561232470 \nMeeting ID: 915 6123 2470\nOne tap mobile\n+16699009128\,\,91561232470# US (San Jose)\n+12532158782\,\,91561232470# US (Tacoma) \nDial by your location\n+1 669 900 9128 US (San Jose)\n+1 253 215 8782 US (Tacoma)\n+1 346 248 7799 US (Houston)\n+1 646 558 8656 US (New York)\n+1 301 715 8592 US (Germantown)\n+1 312 626 6799 US (Chicago)\nMeeting ID: 915 6123 2470\nFind your local number: https://zoom.us/u/aJopbIhDR \n  \n  \n 
URL:https://bacwa.org/event/bacwa-strategic-planning-meeting/
LOCATION:Online Meeting
END:VEVENT
BEGIN:VEVENT
DTSTART;TZID=America/Los_Angeles:20201009T120000
DTEND;TZID=America/Los_Angeles:20201009T150000
DTSTAMP:20260424T001925
CREATED:20201008T163127Z
LAST-MODIFIED:20201008T163127Z
UID:12528-1602244800-1602255600@bacwa.org
SUMMARY:BACWA Strategic Plan Meeting 2
DESCRIPTION:Public Comment Guidelines \nFriday October 9\, 12-3pm \nZoom Meeting link: https://zoom.us/j/91561232470 \nAgenda \n\nIntroductions/roll call – 12:00pm\nInstructions and etiquette – 12:05\nReview Mission\, Vision & Values – 12:10\nReview Goals 1 – 5\, Update Strategies and Objectives 12:30\nBREAK – 1:30\nUpdate Strategies and Objectives (cont’d) – 1:40\nNext steps – 2:55pm\nAdjourn – 3:00pm
URL:https://bacwa.org/event/bacwa-strategic-plan-meeting-2/
LOCATION:Online Meeting
END:VEVENT
BEGIN:VEVENT
DTSTART;TZID=America/Los_Angeles:20201013T100000
DTEND;TZID=America/Los_Angeles:20201013T120000
DTSTAMP:20260424T001925
CREATED:20200903T194341Z
LAST-MODIFIED:20200903T194341Z
UID:12415-1602583200-1602590400@bacwa.org
SUMMARY:BACWA Lab Committee Meeting
DESCRIPTION:This meeting will be held online. \nBACWA Lab Committee Meeting – Oct 2020\nTue\, Oct 13\, 2020 10:00 AM – 12:00 PM (PDT) \nPlease join my meeting from your computer\, tablet or smartphone. \nhttps://global.gotomeeting.com/join/325163949 \nYou can also dial in using your phone.\n+1 (646) 749-3122 Access Code: 325-163-949 \n 
URL:https://bacwa.org/event/bacwa-lab-committee-meeting-2/
LOCATION:Online Meeting
CATEGORIES:Laboratory
END:VEVENT
BEGIN:VEVENT
DTSTART;TZID=America/Los_Angeles:20201013T123000
DTEND;TZID=America/Los_Angeles:20201013T143000
DTSTAMP:20260424T001925
CREATED:20200903T194554Z
LAST-MODIFIED:20200903T194554Z
UID:12419-1602592200-1602599400@bacwa.org
SUMMARY:BACWA Permits Committee
DESCRIPTION:This meeting will be held online. \nBACWA Permits Committee – Oct 2020 meeting\nTue\, Oct 13\, 2020 12:30 PM – 2:30 PM (PDT) \nPlease join my meeting from your computer\, tablet or smartphone. \nhttps://global.gotomeeting.com/join/161594117 \nYou can also dial in using your phone.\n+1 (872) 240-3412 Access Code: 161-594-117
URL:https://bacwa.org/event/bacwa-permits-committee/
LOCATION:Online Meeting
CATEGORIES:Permit
END:VEVENT
BEGIN:VEVENT
DTSTART;TZID=America/Los_Angeles:20201016T090000
DTEND;TZID=America/Los_Angeles:20201016T123000
DTSTAMP:20260424T001925
CREATED:20200123T000617Z
LAST-MODIFIED:20201013T152205Z
UID:11678-1602838800-1602851400@bacwa.org
SUMMARY:BACWA Executive Board Meeting
DESCRIPTION:Public Comment Guidelines: https://bacwa.org/general/bacwa-public-comments-guidelines/ \nThis meeting will be held online. \nMeeting link: https://zoom.us/j/92500766200?pwd=MjRUNkJuVVV5T1RudHlTNmJwWlluQT09 \nOr you can call in. \nCall in number: +1 669 900 9128 \nMeeting ID: 925 0076 6200 \nPasscode: 486505
URL:https://bacwa.org/event/bacwa-executive-board-meeting-17-2-2-2-6/
LOCATION:Online Meeting
CATEGORIES:Executive Board
END:VEVENT
BEGIN:VEVENT
DTSTART;TZID=America/Los_Angeles:20201026T103000
DTEND;TZID=America/Los_Angeles:20201026T110000
DTSTAMP:20260424T001925
CREATED:20201020T200827Z
LAST-MODIFIED:20201020T200827Z
UID:12580-1603708200-1603710000@bacwa.org
SUMMARY:BACWA Executive Board Meeting - Special Meeting
DESCRIPTION:This meeting will be online. \nPublic Comment Guidelines \nJoin Zoom Meeting\nhttps://zoom.us/j/98715606898?pwd=c1IzSHhIakdOTlNhYlFSRUx1YTRRdz09 \nMeeting ID: 987 1560 6898\nPasscode: 610078\nOne tap mobile\n+16699009128\,\,98715606898#\,\,\,\,\,\,0#\,\,610078# US (San Jose)\n+12532158782\,\,98715606898#\,\,\,\,\,\,0#\,\,610078# US (Tacoma) \nDial by your location\n+1 669 900 9128 US (San Jose)\n+1 253 215 8782 US (Tacoma)\n+1 346 248 7799 US (Houston)\n+1 646 558 8656 US (New York)\n+1 301 715 8592 US (Germantown)\n+1 312 626 6799 US (Chicago)\nMeeting ID: 987 1560 6898\nPasscode: 610078\nFind your local number: https://zoom.us/u/adu6qijL2n
URL:https://bacwa.org/event/bacwa-executive-board-meeting-special-meeting/
LOCATION:Online Meeting
CATEGORIES:Executive Board
END:VEVENT
BEGIN:VEVENT
DTSTART;TZID=America/Los_Angeles:20201028T090000
DTEND;TZID=America/Los_Angeles:20201028T130000
DTSTAMP:20260424T001925
CREATED:20201021T194521Z
LAST-MODIFIED:20201021T194521Z
UID:12609-1603875600-1603890000@bacwa.org
SUMMARY:Summit Partners – PFAS Order Workshop #2
DESCRIPTION:Register now for Tuesday\, October 28th\, from 9 AM to 1 PM for the next series of virtual presentations by clean water professionals and regulators about the State Water Board’s investigative order of PFAS at publicly owned treatment works. \nThere will be no charge to participate\, and the event is being sponsored by the Clean Water Summit Partners (BACWA\, CASA\, CVCWA\, CWEA\, and SCAP). \n\nSpeakers will include managers from clean water agencies discussing QAPPs and SLAPs\, commercial laboratory representatives discussing best practices\, a legal perspective on responding to the questionnaire and data disclaimers due to lack of EPA approved test methods\, toxicologists sharing about the risk of PFAS for human health exposure and OEHHA’s corresponding work\, and PFAS researchers examining the fate of PFAS at long term biosolids application sites. Confirmed speakers include Amber Baylor (SOCWA)\, Syljohn Estil (LACSD)\, Lyndy Lewis (Western Municipal Water District)\, Ian Pepper (University of Arizona)\, Patrick Veasy (Downey Brand)\, and Brett Winters (GSI).
URL:https://bacwa.org/event/summit-partners-pfas-order-workshop-2/
END:VEVENT
END:VCALENDAR