BEGIN:VCALENDAR
VERSION:2.0
PRODID:-//Bay Area Clean Water Agencies - ECPv6.15.20//NONSGML v1.0//EN
CALSCALE:GREGORIAN
METHOD:PUBLISH
X-ORIGINAL-URL:https://bacwa.org
X-WR-CALDESC:Events for Bay Area Clean Water Agencies
REFRESH-INTERVAL;VALUE=DURATION:PT1H
X-Robots-Tag:noindex
X-PUBLISHED-TTL:PT1H
BEGIN:VTIMEZONE
TZID:America/Los_Angeles
BEGIN:DAYLIGHT
TZOFFSETFROM:-0800
TZOFFSETTO:-0700
TZNAME:PDT
DTSTART:20190310T100000
END:DAYLIGHT
BEGIN:STANDARD
TZOFFSETFROM:-0700
TZOFFSETTO:-0800
TZNAME:PST
DTSTART:20191103T090000
END:STANDARD
BEGIN:DAYLIGHT
TZOFFSETFROM:-0800
TZOFFSETTO:-0700
TZNAME:PDT
DTSTART:20200308T100000
END:DAYLIGHT
BEGIN:STANDARD
TZOFFSETFROM:-0700
TZOFFSETTO:-0800
TZNAME:PST
DTSTART:20201101T090000
END:STANDARD
BEGIN:DAYLIGHT
TZOFFSETFROM:-0800
TZOFFSETTO:-0700
TZNAME:PDT
DTSTART:20210314T100000
END:DAYLIGHT
BEGIN:STANDARD
TZOFFSETFROM:-0700
TZOFFSETTO:-0800
TZNAME:PST
DTSTART:20211107T090000
END:STANDARD
END:VTIMEZONE
BEGIN:VEVENT
DTSTART;TZID=America/Los_Angeles:20200901T100000
DTEND;TZID=America/Los_Angeles:20200901T110000
DTSTAMP:20260424T001932
CREATED:20200831T162115Z
LAST-MODIFIED:20200831T162115Z
UID:12397-1598954400-1598958000@bacwa.org
SUMMARY:BACWA Lab discussion about ELAP letters
DESCRIPTION:BACWA Lab discussion about ELAP letters\nTue\, Sep 1\, 2020 10:00 AM – 11:00 AM (PDT) \nPlease join my meeting from your computer\, tablet or smartphone. \nhttps://global.gotomeeting.com/join/401789365 \nYou can also dial in using your phone.\n+1 (571) 317-3122 Access Code: 401-789-365
URL:https://bacwa.org/event/bacwa-lab-discussion-about-elap-letters/
CATEGORIES:Laboratory
END:VEVENT
BEGIN:VEVENT
DTSTART;TZID=America/Los_Angeles:20200902T100000
DTEND;TZID=America/Los_Angeles:20200902T130000
DTSTAMP:20260424T001932
CREATED:20200723T165635Z
LAST-MODIFIED:20200723T165635Z
UID:12299-1599040800-1599051600@bacwa.org
SUMMARY:AIR Committee Meeting
DESCRIPTION:This is a placeholder for a quarterly BACWA AIR Committee meeting – the meeting location\, length\, and materials will be finalized as we get closer to the date. In the meantime\,  the AIR Committee will send more regular email updates between meetings to keep you all up to speed on priority issues.
URL:https://bacwa.org/event/air-committee-meeting-13/
CATEGORIES:Air Issues & Regulations (AIR)
END:VEVENT
BEGIN:VEVENT
DTSTART;TZID=America/Los_Angeles:20200909T130000
DTEND;TZID=America/Los_Angeles:20200909T160000
DTSTAMP:20260424T001932
CREATED:20200908T171727Z
LAST-MODIFIED:20200908T171727Z
UID:12423-1599656400-1599667200@bacwa.org
SUMMARY:BACWA Strategic Plan Meeting
DESCRIPTION:Wednesday\, September 9\, 2020 1-4pm \nZoom Meeting link: https://zoom.us/j/95403200207 \nCreate a Poll Everywhere account: https://pollev.com/lorienfono421/register \nAgenda \n\nIntroductions/roll call\nInstructions and etiquette\nPractice activity (one or two)\nMission\, Vision\, Values & Goals\nSet date for next meeting
URL:https://bacwa.org/event/bacwa-strategic-plan-meeting/
LOCATION:Online Meeting
END:VEVENT
BEGIN:VEVENT
DTSTART;TZID=America/Los_Angeles:20200915T103000
DTEND;TZID=America/Los_Angeles:20200915T123000
DTSTAMP:20260424T001932
CREATED:20200908T194345Z
LAST-MODIFIED:20200908T194529Z
UID:12428-1600165800-1600173000@bacwa.org
SUMMARY:BACWA Recycled Water Committee Meeting
DESCRIPTION:BACWA Recycled Water Committee Meeting\nTue\, Sep 15\, 2020 10:30 AM – 12:30 PM (PDT) \nPlease join my meeting from your computer\, tablet or smartphone.\nhttps://global.gotomeeting.com/join/451580173 \n  \nYou can also dial in using your phone: (408) 650-3123 Access Code: 451-580-173 \nOne-touch: +14086503123\,\,451580173# \n 
URL:https://bacwa.org/event/bacwa-recycled-water-committee-meeting/
LOCATION:Online Meeting
CATEGORIES:Recycled Water
END:VEVENT
BEGIN:VEVENT
DTSTART;TZID=America/Los_Angeles:20200916T090000
DTEND;TZID=America/Los_Angeles:20200916T120000
DTSTAMP:20260424T001932
CREATED:20200825T174348Z
LAST-MODIFIED:20200911T052717Z
UID:12379-1600246800-1600257600@bacwa.org
SUMMARY:Summit Partners - PFAS Order Workshop
DESCRIPTION:Register now for Wednesday\, September 16\, from 9 AM to 12 PM for a series of virtual presentations by clean water professionals and regulators about the State Water Board’s investigative order to publicly owned treatment works. \nThere will be no charge to participate\, and the event is being sponsored by the Clean Water Summit Partners (BACWA\, CASA\, CVCWA\, CWEA\, and SCAP). Stay tuned for more details about presentations and speakers!
URL:https://bacwa.org/event/casa-pfas-order-workshop/
LOCATION:Online Meeting
END:VEVENT
BEGIN:VEVENT
DTSTART;VALUE=DATE:20200917
DTEND;VALUE=DATE:20200919
DTSTAMP:20260424T001932
CREATED:20200123T001415Z
LAST-MODIFIED:20200916T151642Z
UID:11706-1600300800-1600473599@bacwa.org
SUMMARY:BACWA Online Pardee Technical Seminar
DESCRIPTION:The agenda for the BACWA Online Pardee meeting is located here: \nhttps://bacwa.org/wp-content/uploads/2020/09/BACWA-Online-Pardee-Agenda.pdf \nPublic Comment Guidelines: https://bacwa.org/general/bacwa-public-comments-guidelines/ \n  \nThe Zoom link for both days is: \nTopic: BACWA Online Pardee Meeting \nTime: Thursday September 17th 9:00-4:00pm \nFriday September 18th 9:00-3:30pm \nJoin Zoom Meeting \nhttps://zoom.us/j/98925243558 \n  \nMeeting ID: 989 2524 3558 \nOne tap mobile \n+16699009128\,\,98925243558# US (San Jose) \n+12532158782\,\,98925243558# US (Tacoma) \n  \nDial by your location \n+1 669 900 9128 US (San Jose) \n+1 253 215 8782 US (Tacoma) \n+1 346 248 7799 US (Houston) \n+1 301 715 8592 US (Germantown) \n+1 312 626 6799 US (Chicago) \n+1 646 558 8656 US (New York) \nMeeting ID: 989 2524 3558 \nFind your local number: https://zoom.us/u/acxIb5i7p
URL:https://bacwa.org/event/bacwa-executive-board-meeting-17-2-2-2-2-2/
LOCATION:Online Meeting
CATEGORIES:Executive Board
END:VEVENT
BEGIN:VEVENT
DTSTART;TZID=America/Los_Angeles:20200924T100000
DTEND;TZID=America/Los_Angeles:20200924T120000
DTSTAMP:20260424T001932
CREATED:20200831T161945Z
LAST-MODIFIED:20200831T161945Z
UID:12395-1600941600-1600948800@bacwa.org
SUMMARY:BACWA Collection Systems Meeting
DESCRIPTION:This meeting will be held online. \nBACWA Collection Systems Meeting\nThu\, Sep 24\, 2020 10:00 AM – 12:00 PM (PDT) \nPlease join my meeting from your computer\, tablet or smartphone. \nhttps://global.gotomeeting.com/join/969774069 \nYou can also dial in using your phone.\n+1 (571) 317-3112 Access Code: 969-774-069
URL:https://bacwa.org/event/bacwa-collection-systems-meeting/
LOCATION:Online Meeting
CATEGORIES:Collection Systems
END:VEVENT
END:VCALENDAR