BEGIN:VCALENDAR
VERSION:2.0
PRODID:-//Bay Area Clean Water Agencies - ECPv6.15.20//NONSGML v1.0//EN
CALSCALE:GREGORIAN
METHOD:PUBLISH
X-ORIGINAL-URL:https://bacwa.org
X-WR-CALDESC:Events for Bay Area Clean Water Agencies
REFRESH-INTERVAL;VALUE=DURATION:PT1H
X-Robots-Tag:noindex
X-PUBLISHED-TTL:PT1H
BEGIN:VTIMEZONE
TZID:America/Los_Angeles
BEGIN:DAYLIGHT
TZOFFSETFROM:-0800
TZOFFSETTO:-0700
TZNAME:PDT
DTSTART:20190310T100000
END:DAYLIGHT
BEGIN:STANDARD
TZOFFSETFROM:-0700
TZOFFSETTO:-0800
TZNAME:PST
DTSTART:20191103T090000
END:STANDARD
BEGIN:DAYLIGHT
TZOFFSETFROM:-0800
TZOFFSETTO:-0700
TZNAME:PDT
DTSTART:20200308T100000
END:DAYLIGHT
BEGIN:STANDARD
TZOFFSETFROM:-0700
TZOFFSETTO:-0800
TZNAME:PST
DTSTART:20201101T090000
END:STANDARD
BEGIN:DAYLIGHT
TZOFFSETFROM:-0800
TZOFFSETTO:-0700
TZNAME:PDT
DTSTART:20210314T100000
END:DAYLIGHT
BEGIN:STANDARD
TZOFFSETFROM:-0700
TZOFFSETTO:-0800
TZNAME:PST
DTSTART:20211107T090000
END:STANDARD
END:VTIMEZONE
BEGIN:VEVENT
DTSTART;TZID=America/Los_Angeles:20200414T100000
DTEND;TZID=America/Los_Angeles:20200414T120000
DTSTAMP:20260424T075951
CREATED:20200407T192934Z
LAST-MODIFIED:20200407T192934Z
UID:11885-1586858400-1586865600@bacwa.org
SUMMARY:Laboratory Committee Meeting
DESCRIPTION:Please join my meeting from your computer\, tablet or smartphone.\nhttps://global.gotomeeting.com/join/459488293 \nYou can also dial in using your phone.\nUnited States: +1 (872) 240-3212 \nAccess Code: 459-488-293 \nNew to GoToMeeting? Get the app now and be ready when your first meeting starts:\nhttps://global.gotomeeting.com/install/459488293
URL:https://bacwa.org/event/laboratory-committee-meeting-40/
LOCATION:Online Meeting
CATEGORIES:Laboratory
END:VEVENT
BEGIN:VEVENT
DTSTART;TZID=America/Los_Angeles:20200414T123000
DTEND;TZID=America/Los_Angeles:20200414T143000
DTSTAMP:20260424T075951
CREATED:20200407T193221Z
LAST-MODIFIED:20200407T193221Z
UID:11887-1586867400-1586874600@bacwa.org
SUMMARY:Permits Committee Meeting
DESCRIPTION:Please join my meeting from your computer\, tablet or smartphone.\nhttps://global.gotomeeting.com/join/459488293 \nYou can also dial in using your phone.\nUnited States: +1 (872) 240-3212 \nAccess Code: 459-488-293 \nNew to GoToMeeting? Get the app now and be ready when your first meeting starts:\nhttps://global.gotomeeting.com/install/459488293
URL:https://bacwa.org/event/permits-committee-meeting-20/
LOCATION:Online Meeting
CATEGORIES:Permit
END:VEVENT
BEGIN:VEVENT
DTSTART;TZID=America/Los_Angeles:20200417T090000
DTEND;TZID=America/Los_Angeles:20200417T123000
DTSTAMP:20260424T075951
CREATED:20200123T000149Z
LAST-MODIFIED:20200413T221540Z
UID:11693-1587114000-1587126600@bacwa.org
SUMMARY:BACWA Executive Board Meeting
DESCRIPTION:Executive Board Meeting \nAGENDA \nFriday\, April 17\, 2020\, 9:00a.m. – 12:30 p.m. \nhttps://global.gotomeeting.com/join/687224877 \nYou can also dial in using your phone.\nUnited States: +1 (224) 501-3412\nAccess Code: 687-224-8770
URL:https://bacwa.org/event/bacwa-executive-board-meeting-17-2-2-2-4-3/
LOCATION:Online Meeting
CATEGORIES:Executive Board
END:VEVENT
BEGIN:VEVENT
DTSTART;TZID=America/Los_Angeles:20200423T100000
DTEND;TZID=America/Los_Angeles:20200423T120000
DTSTAMP:20260424T075951
CREATED:20200407T194132Z
LAST-MODIFIED:20200407T194132Z
UID:11889-1587636000-1587643200@bacwa.org
SUMMARY:Collection System Committee
DESCRIPTION:Online meeting details to follow
URL:https://bacwa.org/event/collection-system-committee/
LOCATION:Online Meeting
CATEGORIES:Collection Systems
END:VEVENT
END:VCALENDAR