BEGIN:VCALENDAR
VERSION:2.0
PRODID:-//Bay Area Clean Water Agencies - ECPv6.15.20//NONSGML v1.0//EN
CALSCALE:GREGORIAN
METHOD:PUBLISH
X-WR-CALNAME:Bay Area Clean Water Agencies
X-ORIGINAL-URL:https://bacwa.org
X-WR-CALDESC:Events for Bay Area Clean Water Agencies
REFRESH-INTERVAL;VALUE=DURATION:PT1H
X-Robots-Tag:noindex
X-PUBLISHED-TTL:PT1H
BEGIN:VTIMEZONE
TZID:America/Los_Angeles
BEGIN:DAYLIGHT
TZOFFSETFROM:-0800
TZOFFSETTO:-0700
TZNAME:PDT
DTSTART:20190310T100000
END:DAYLIGHT
BEGIN:STANDARD
TZOFFSETFROM:-0700
TZOFFSETTO:-0800
TZNAME:PST
DTSTART:20191103T090000
END:STANDARD
BEGIN:DAYLIGHT
TZOFFSETFROM:-0800
TZOFFSETTO:-0700
TZNAME:PDT
DTSTART:20200308T100000
END:DAYLIGHT
BEGIN:STANDARD
TZOFFSETFROM:-0700
TZOFFSETTO:-0800
TZNAME:PST
DTSTART:20201101T090000
END:STANDARD
BEGIN:DAYLIGHT
TZOFFSETFROM:-0800
TZOFFSETTO:-0700
TZNAME:PDT
DTSTART:20210314T100000
END:DAYLIGHT
BEGIN:STANDARD
TZOFFSETFROM:-0700
TZOFFSETTO:-0800
TZNAME:PST
DTSTART:20211107T090000
END:STANDARD
END:VTIMEZONE
BEGIN:VEVENT
DTSTART;TZID=America/Los_Angeles:20200205T093000
DTEND;TZID=America/Los_Angeles:20200205T123000
DTSTAMP:20260424T110232
CREATED:20200125T001412Z
LAST-MODIFIED:20200125T001713Z
UID:11726-1580895000-1580905800@bacwa.org
SUMMARY:Pretreatment Committee Meeting
DESCRIPTION:
URL:https://bacwa.org/event/pretreatment-committee-meeting-10-2-2-2/
LOCATION:EBMUD Headquarters\, 2nd Floor Small Training Room\, United States
CATEGORIES:Pretreatment
END:VEVENT
BEGIN:VEVENT
DTSTART;TZID=America/Los_Angeles:20200205T100000
DTEND;TZID=America/Los_Angeles:20200205T120000
DTSTAMP:20260424T110232
CREATED:20200114T185750Z
LAST-MODIFIED:20200114T185750Z
UID:11583-1580896800-1580904000@bacwa.org
SUMMARY:BAPPG Committee Meeting
DESCRIPTION:
URL:https://bacwa.org/event/bappg-committee-meeting-13-2-2-2-2-2-2-2-2-2-2-2/
LOCATION:San Francisco Bay Regional Water Quality Control Board\, Elihu M. Harris State Office Building\, 1515 Clay Street\, Oakland\, CA\, United States
CATEGORIES:Bay Area Pollution Prevention Group
END:VEVENT
BEGIN:VEVENT
DTSTART;TZID=America/Los_Angeles:20200211T100000
DTEND;TZID=America/Los_Angeles:20200211T120000
DTSTAMP:20260424T110232
CREATED:20200125T001614Z
LAST-MODIFIED:20200125T001614Z
UID:11730-1581415200-1581422400@bacwa.org
SUMMARY:Laboratory Committee Meeting
DESCRIPTION:
URL:https://bacwa.org/event/laboratory-committee-meeting-39-2-2-2-2-2-2-2-2-2-2-2-2/
LOCATION:EBMUD Treatment Plant\, Library\, 2020 Wake Avenue\, Oakland\, CA\, United States
CATEGORIES:Laboratory
END:VEVENT
BEGIN:VEVENT
DTSTART;TZID=America/Los_Angeles:20200211T120000
DTEND;TZID=America/Los_Angeles:20200211T140000
DTSTAMP:20260424T110232
CREATED:20200125T001524Z
LAST-MODIFIED:20200125T001524Z
UID:11728-1581422400-1581429600@bacwa.org
SUMMARY:Permits Committee Meeting
DESCRIPTION:
URL:https://bacwa.org/event/permits-committee-meeting-28-2-2-2-2-2-3-2-2-2-2-2-2-2-2-3/
LOCATION:EBMUD Treatment Plant\, Library\, 2020 Wake Avenue\, Oakland\, CA\, United States
CATEGORIES:Permit
END:VEVENT
BEGIN:VEVENT
DTSTART;TZID=America/Los_Angeles:20200221T090000
DTEND;TZID=America/Los_Angeles:20200221T123000
DTSTAMP:20260424T110232
CREATED:20200122T235628Z
LAST-MODIFIED:20200122T235628Z
UID:11685-1582275600-1582288200@bacwa.org
SUMMARY:BACWA Executive Board Meeting
DESCRIPTION:
URL:https://bacwa.org/event/bacwa-executive-board-meeting-17-2-2-2-4/
LOCATION:San Francisco Public Utilities Commission\, 525 Golden Gate Ave\, Hetch Hetchy Room\, San Francisco\, CA\, 94102\, United States
CATEGORIES:Executive Board
END:VEVENT
END:VCALENDAR