BEGIN:VCALENDAR
VERSION:2.0
PRODID:-//Bay Area Clean Water Agencies - ECPv6.15.20//NONSGML v1.0//EN
CALSCALE:GREGORIAN
METHOD:PUBLISH
X-ORIGINAL-URL:https://bacwa.org
X-WR-CALDESC:Events for Bay Area Clean Water Agencies
REFRESH-INTERVAL;VALUE=DURATION:PT1H
X-Robots-Tag:noindex
X-PUBLISHED-TTL:PT1H
BEGIN:VTIMEZONE
TZID:America/Los_Angeles
BEGIN:DAYLIGHT
TZOFFSETFROM:-0800
TZOFFSETTO:-0700
TZNAME:PDT
DTSTART:20180311T100000
END:DAYLIGHT
BEGIN:STANDARD
TZOFFSETFROM:-0700
TZOFFSETTO:-0800
TZNAME:PST
DTSTART:20181104T090000
END:STANDARD
BEGIN:DAYLIGHT
TZOFFSETFROM:-0800
TZOFFSETTO:-0700
TZNAME:PDT
DTSTART:20190310T100000
END:DAYLIGHT
BEGIN:STANDARD
TZOFFSETFROM:-0700
TZOFFSETTO:-0800
TZNAME:PST
DTSTART:20191103T090000
END:STANDARD
BEGIN:DAYLIGHT
TZOFFSETFROM:-0800
TZOFFSETTO:-0700
TZNAME:PDT
DTSTART:20200308T100000
END:DAYLIGHT
BEGIN:STANDARD
TZOFFSETFROM:-0700
TZOFFSETTO:-0800
TZNAME:PST
DTSTART:20201101T090000
END:STANDARD
END:VTIMEZONE
BEGIN:VEVENT
DTSTART;TZID=America/Los_Angeles:20190807T100000
DTEND;TZID=America/Los_Angeles:20190807T120000
DTSTAMP:20260424T193456
CREATED:20190613T235520Z
LAST-MODIFIED:20190613T235813Z
UID:11056-1565172000-1565179200@bacwa.org
SUMMARY:BAPPG Committee Meeting
DESCRIPTION:
URL:https://bacwa.org/event/bappg-committee-meeting-13-2-2-2-2-2-2-2-2-2/
LOCATION:SFPUC\, 525 Golden Gate Ave\, San Joaquin Conference Room\, 4th floor\, San Francisco\, CA
CATEGORIES:Bay Area Pollution Prevention Group
END:VEVENT
BEGIN:VEVENT
DTSTART;TZID=America/Los_Angeles:20190813T100000
DTEND;TZID=America/Los_Angeles:20190813T120000
DTSTAMP:20260424T193456
CREATED:20181026T230355Z
LAST-MODIFIED:20190626T182103Z
UID:6341-1565690400-1565697600@bacwa.org
SUMMARY:Laboratory Committee Meeting
DESCRIPTION:
URL:https://bacwa.org/event/laboratory-committee-meeting-39-2-2-2-2-2-2-2/
LOCATION:EBMUD Treatment Plant\, Library\, 2020 Wake Avenue\, Oakland\, CA\, United States
CATEGORIES:Laboratory
END:VEVENT
BEGIN:VEVENT
DTSTART;TZID=America/Los_Angeles:20190813T120000
DTEND;TZID=America/Los_Angeles:20190813T140000
DTSTAMP:20260424T193456
CREATED:20190730T190534Z
LAST-MODIFIED:20190730T190534Z
UID:11140-1565697600-1565704800@bacwa.org
SUMMARY:Permits Committee Meeting
DESCRIPTION:
URL:https://bacwa.org/event/permits-committee-meeting-28-2-2-2-2-2-3-2-2-2-2-2-2-2/
LOCATION:EBMUD Treatment Plant\, Library\, 2020 Wake Avenue\, Oakland\, CA\, United States
CATEGORIES:Permit
END:VEVENT
BEGIN:VEVENT
DTSTART;TZID=America/Los_Angeles:20190816T090000
DTEND;TZID=America/Los_Angeles:20190816T140000
DTSTAMP:20260424T193456
CREATED:20181009T192959Z
LAST-MODIFIED:20190715T210020Z
UID:6290-1565946000-1565964000@bacwa.org
SUMMARY:BACWA Executive Board Meeting
DESCRIPTION:
URL:https://bacwa.org/event/bacwa-executive-board-meeting-16-2-2-2/
LOCATION:SFPUC\, Hetch Hetchy Room\, 13th Floor\, 525 Golden Gate Ave\, San Francisco\, CA\, United States
CATEGORIES:Executive Board
END:VEVENT
END:VCALENDAR