BEGIN:VCALENDAR
VERSION:2.0
PRODID:-//Bay Area Clean Water Agencies - ECPv6.15.20//NONSGML v1.0//EN
CALSCALE:GREGORIAN
METHOD:PUBLISH
X-ORIGINAL-URL:https://bacwa.org
X-WR-CALDESC:Events for Bay Area Clean Water Agencies
REFRESH-INTERVAL;VALUE=DURATION:PT1H
X-Robots-Tag:noindex
X-PUBLISHED-TTL:PT1H
BEGIN:VTIMEZONE
TZID:America/Los_Angeles
BEGIN:DAYLIGHT
TZOFFSETFROM:-0800
TZOFFSETTO:-0700
TZNAME:PDT
DTSTART:20180311T100000
END:DAYLIGHT
BEGIN:STANDARD
TZOFFSETFROM:-0700
TZOFFSETTO:-0800
TZNAME:PST
DTSTART:20181104T090000
END:STANDARD
BEGIN:DAYLIGHT
TZOFFSETFROM:-0800
TZOFFSETTO:-0700
TZNAME:PDT
DTSTART:20190310T100000
END:DAYLIGHT
BEGIN:STANDARD
TZOFFSETFROM:-0700
TZOFFSETTO:-0800
TZNAME:PST
DTSTART:20191103T090000
END:STANDARD
BEGIN:DAYLIGHT
TZOFFSETFROM:-0800
TZOFFSETTO:-0700
TZNAME:PDT
DTSTART:20200308T100000
END:DAYLIGHT
BEGIN:STANDARD
TZOFFSETFROM:-0700
TZOFFSETTO:-0800
TZNAME:PST
DTSTART:20201101T090000
END:STANDARD
END:VTIMEZONE
BEGIN:VEVENT
DTSTART;TZID=America/Los_Angeles:20190305T103000
DTEND;TZID=America/Los_Angeles:20190305T123000
DTSTAMP:20260425T032122
CREATED:20190129T190122Z
LAST-MODIFIED:20190129T190122Z
UID:10649-1551781800-1551789000@bacwa.org
SUMMARY:Recycled Water Committee Meeting
DESCRIPTION:
URL:https://bacwa.org/event/recycled-water-committee-meeting-16-2-2/
LOCATION:EBMUD Headquarters\, 2nd Floor\, Board Annex\, 375 11th St.\, Oakland\, CA\, 94607\, United States
CATEGORIES:Recycled Water
END:VEVENT
BEGIN:VEVENT
DTSTART;TZID=America/Los_Angeles:20190311T083000
DTEND;TZID=America/Los_Angeles:20190311T163000
DTSTAMP:20260425T032122
CREATED:20190228T203951Z
LAST-MODIFIED:20190228T203951Z
UID:10788-1552293000-1552321800@bacwa.org
SUMMARY:Pretreatment Master Class
DESCRIPTION:
URL:https://bacwa.org/event/pretreatment-master-class/
LOCATION:EBMUD Headquarters\, 2nd Floor Large Training Room\, 375 11th St. \, Oakland\, CA\, United States
CATEGORIES:Pretreatment
END:VEVENT
BEGIN:VEVENT
DTSTART;TZID=America/Los_Angeles:20190313T100000
DTEND;TZID=America/Los_Angeles:20190313T120000
DTSTAMP:20260425T032122
CREATED:20181026T225629Z
LAST-MODIFIED:20181026T225629Z
UID:6331-1552471200-1552478400@bacwa.org
SUMMARY:Laboratory Committee Meeting
DESCRIPTION:
URL:https://bacwa.org/event/laboratory-committee-meeting-39-2-2/
LOCATION:EBMUD Treatment Plant\, Library\, 2020 Wake Avenue\, Oakland\, CA\, United States
CATEGORIES:Laboratory
END:VEVENT
BEGIN:VEVENT
DTSTART;TZID=America/Los_Angeles:20190315T090000
DTEND;TZID=America/Los_Angeles:20190315T123000
DTSTAMP:20260425T032122
CREATED:20181009T193200Z
LAST-MODIFIED:20181009T193200Z
UID:6294-1552640400-1552653000@bacwa.org
SUMMARY:BACWA Executive Board Meeting
DESCRIPTION:
URL:https://bacwa.org/event/bacwa-executive-board-meeting-17/
LOCATION:EBMUD Headquarters\, 2nd Floor Large Training Room\, 375 11th St. \, Oakland\, CA\, United States
CATEGORIES:Executive Board
END:VEVENT
BEGIN:VEVENT
DTSTART;TZID=America/Los_Angeles:20190320T093000
DTEND;TZID=America/Los_Angeles:20190320T123000
DTSTAMP:20260425T032122
CREATED:20190221T183831Z
LAST-MODIFIED:20190221T183831Z
UID:10777-1553074200-1553085000@bacwa.org
SUMMARY:Pretreatment Committee Meeting
DESCRIPTION:
URL:https://bacwa.org/event/pretreatment-committee-meeting-10-2/
LOCATION:EBMUD Headquarters\, 2nd Floor Small Training Room\, United States
CATEGORIES:Pretreatment
END:VEVENT
BEGIN:VEVENT
DTSTART;TZID=America/Los_Angeles:20190322T130000
DTEND;TZID=America/Los_Angeles:20190322T150000
DTSTAMP:20260425T032122
CREATED:20190321T155532Z
LAST-MODIFIED:20190321T155532Z
UID:10858-1553259600-1553266800@bacwa.org
SUMMARY:BACWA Joint Meeting with Water Board Staff
DESCRIPTION:
URL:https://bacwa.org/event/bacwa-joint-meeting-with-water-board-staff-3/
LOCATION:San Francisco Bay Regional Water Quality Control Board\, Elihu M. Harris State Office Building\, 1515 Clay Street\, Oakland\, CA\, United States
CATEGORIES:Executive Board
END:VEVENT
BEGIN:VEVENT
DTSTART;TZID=America/Los_Angeles:20190326T100000
DTEND;TZID=America/Los_Angeles:20190326T130000
DTSTAMP:20260425T032122
CREATED:20190304T203336Z
LAST-MODIFIED:20190304T203336Z
UID:10793-1553594400-1553605200@bacwa.org
SUMMARY:AIR Committee Meeting
DESCRIPTION:  \n 
URL:https://bacwa.org/event/air-committee-meeting-11-2-2/
LOCATION:delta diablo\, 2500 Pittsburg-Antioch Hwy\,\, Antioch\, CA\, CA\, 94509\, United States
CATEGORIES:Air Issues & Regulations (AIR)
END:VEVENT
END:VCALENDAR