BEGIN:VCALENDAR
VERSION:2.0
PRODID:-//Bay Area Clean Water Agencies - ECPv6.15.20//NONSGML v1.0//EN
CALSCALE:GREGORIAN
METHOD:PUBLISH
X-ORIGINAL-URL:https://bacwa.org
X-WR-CALDESC:Events for Bay Area Clean Water Agencies
REFRESH-INTERVAL;VALUE=DURATION:PT1H
X-Robots-Tag:noindex
X-PUBLISHED-TTL:PT1H
BEGIN:VTIMEZONE
TZID:America/Los_Angeles
BEGIN:DAYLIGHT
TZOFFSETFROM:-0800
TZOFFSETTO:-0700
TZNAME:PDT
DTSTART:20170312T100000
END:DAYLIGHT
BEGIN:STANDARD
TZOFFSETFROM:-0700
TZOFFSETTO:-0800
TZNAME:PST
DTSTART:20171105T090000
END:STANDARD
BEGIN:DAYLIGHT
TZOFFSETFROM:-0800
TZOFFSETTO:-0700
TZNAME:PDT
DTSTART:20180311T100000
END:DAYLIGHT
BEGIN:STANDARD
TZOFFSETFROM:-0700
TZOFFSETTO:-0800
TZNAME:PST
DTSTART:20181104T090000
END:STANDARD
BEGIN:DAYLIGHT
TZOFFSETFROM:-0800
TZOFFSETTO:-0700
TZNAME:PDT
DTSTART:20190310T100000
END:DAYLIGHT
BEGIN:STANDARD
TZOFFSETFROM:-0700
TZOFFSETTO:-0800
TZNAME:PST
DTSTART:20191103T090000
END:STANDARD
END:VTIMEZONE
BEGIN:VEVENT
DTSTART;TZID=America/Los_Angeles:20181003T100000
DTEND;TZID=America/Los_Angeles:20181003T120000
DTSTAMP:20260425T110915
CREATED:20180129T235817Z
LAST-MODIFIED:20180129T235817Z
UID:5666-1538560800-1538568000@bacwa.org
SUMMARY:BAPPG Committee Meeting
DESCRIPTION:
URL:https://bacwa.org/event/bappg-committee-meeting-13-2-2-2-2/
LOCATION:San Francisco Bay Regional Water Quality Control Board\, Elihu M. Harris State Office Building\, 1515 Clay Street\, Oakland\, CA\, United States
CATEGORIES:Bay Area Pollution Prevention Group
END:VEVENT
BEGIN:VEVENT
DTSTART;TZID=America/Los_Angeles:20181009T120000
DTEND;TZID=America/Los_Angeles:20181009T140000
DTSTAMP:20260425T110915
CREATED:20180926T200727Z
LAST-MODIFIED:20180926T200818Z
UID:6252-1539086400-1539093600@bacwa.org
SUMMARY:Permits Committee Meeting
DESCRIPTION:
URL:https://bacwa.org/event/permits-committee-meeting-28-2-2-2-2-2-3-2-2/
LOCATION:EBMUD Treatment Plant\, Library\, 2020 Wake Avenue\, Oakland\, CA\, United States
CATEGORIES:Permit
END:VEVENT
BEGIN:VEVENT
DTSTART;TZID=America/Los_Angeles:20181010T100000
DTEND;TZID=America/Los_Angeles:20181010T120000
DTSTAMP:20260425T110915
CREATED:20170918T223526Z
LAST-MODIFIED:20170918T223526Z
UID:5180-1539165600-1539172800@bacwa.org
SUMMARY:Laboratory Committee Meeting
DESCRIPTION:
URL:https://bacwa.org/event/laboratory-committee-meeting-37/
LOCATION:EBMUD Treatment Plant\, Library\, 2020 Wake Avenue\, Oakland\, CA\, United States
CATEGORIES:Laboratory
END:VEVENT
BEGIN:VEVENT
DTSTART;TZID=America/Los_Angeles:20181017T100000
DTEND;TZID=America/Los_Angeles:20181017T133000
DTSTAMP:20260425T110915
CREATED:20180926T204501Z
LAST-MODIFIED:20180926T204526Z
UID:6256-1539770400-1539783000@bacwa.org
SUMMARY:AIR Committee Meeting
DESCRIPTION:  \n 
URL:https://bacwa.org/event/air-committee-meeting-11-2/
LOCATION:tbd
CATEGORIES:Air Issues & Regulations (AIR)
END:VEVENT
BEGIN:VEVENT
DTSTART;VALUE=DATE:20181025
DTEND;VALUE=DATE:20181027
DTSTAMP:20260425T110915
CREATED:20180926T201722Z
LAST-MODIFIED:20180926T201722Z
UID:6254-1540425600-1540598399@bacwa.org
SUMMARY:BACWA Technical Seminar at Pardee
DESCRIPTION:
URL:https://bacwa.org/event/bacwa-technical-seminar-pardee-2-2/
CATEGORIES:Executive Board
END:VEVENT
BEGIN:VEVENT
DTSTART;TZID=America/Los_Angeles:20181030T093000
DTEND;TZID=America/Los_Angeles:20181030T123000
DTSTAMP:20260425T110915
CREATED:20181013T001338Z
LAST-MODIFIED:20181013T001338Z
UID:6309-1540891800-1540902600@bacwa.org
SUMMARY:Pretreatment Committee Meeting
DESCRIPTION:
URL:https://bacwa.org/event/pretreatment-committee-meeting-10/
LOCATION:DSRSD\, 7035 Commerce Circle\, Field Operations Facility\, Conference Room\, Pleasanton\, CA\, 94588\, United States
CATEGORIES:Pretreatment
END:VEVENT
BEGIN:VEVENT
DTSTART;TZID=America/Los_Angeles:20181030T103000
DTEND;TZID=America/Los_Angeles:20181030T123000
DTSTAMP:20260425T110915
CREATED:20181024T200212Z
LAST-MODIFIED:20181024T200212Z
UID:6324-1540895400-1540902600@bacwa.org
SUMMARY:Recycled Water Committee Meeting
DESCRIPTION:
URL:https://bacwa.org/event/recycled-water-committee-meeting-16/
LOCATION:EBMUD Headquarters\, 2nd Floor\, Board Annex\, 375 11th St.\, Oakland\, CA\, 94607\, United States
CATEGORIES:Recycled Water
END:VEVENT
END:VCALENDAR