BEGIN:VCALENDAR
VERSION:2.0
PRODID:-//Bay Area Clean Water Agencies - ECPv6.15.20//NONSGML v1.0//EN
CALSCALE:GREGORIAN
METHOD:PUBLISH
X-ORIGINAL-URL:https://bacwa.org
X-WR-CALDESC:Events for Bay Area Clean Water Agencies
REFRESH-INTERVAL;VALUE=DURATION:PT1H
X-Robots-Tag:noindex
X-PUBLISHED-TTL:PT1H
BEGIN:VTIMEZONE
TZID:America/Los_Angeles
BEGIN:DAYLIGHT
TZOFFSETFROM:-0800
TZOFFSETTO:-0700
TZNAME:PDT
DTSTART:20140309T100000
END:DAYLIGHT
BEGIN:STANDARD
TZOFFSETFROM:-0700
TZOFFSETTO:-0800
TZNAME:PST
DTSTART:20141102T090000
END:STANDARD
BEGIN:DAYLIGHT
TZOFFSETFROM:-0800
TZOFFSETTO:-0700
TZNAME:PDT
DTSTART:20150308T100000
END:DAYLIGHT
BEGIN:STANDARD
TZOFFSETFROM:-0700
TZOFFSETTO:-0800
TZNAME:PST
DTSTART:20151101T090000
END:STANDARD
BEGIN:DAYLIGHT
TZOFFSETFROM:-0800
TZOFFSETTO:-0700
TZNAME:PDT
DTSTART:20160313T100000
END:DAYLIGHT
BEGIN:STANDARD
TZOFFSETFROM:-0700
TZOFFSETTO:-0800
TZNAME:PST
DTSTART:20161106T090000
END:STANDARD
END:VTIMEZONE
BEGIN:VEVENT
DTSTART;TZID=America/Los_Angeles:20151013T083000
DTEND;TZID=America/Los_Angeles:20151013T110000
DTSTAMP:20260420T132825
CREATED:20150727T022559Z
LAST-MODIFIED:20150727T022559Z
UID:3266-1444725000-1444734000@bacwa.org
SUMMARY:Generating Legally Defensible Field Samples & Test Data for Environmental Compliance Professionals
DESCRIPTION:
URL:https://bacwa.org/event/generating-legally-defensible-field-samples-test-data-for-environmental-compliance-professionals/
LOCATION:tbd
CATEGORIES:Pretreatment
END:VEVENT
BEGIN:VEVENT
DTSTART;TZID=America/Los_Angeles:20150910T100000
DTEND;TZID=America/Los_Angeles:20150910T123000
DTSTAMP:20260420T132825
CREATED:20150619T222422Z
LAST-MODIFIED:20150619T222422Z
UID:3201-1441879200-1441888200@bacwa.org
SUMMARY:Pretreatment Committee Meeting
DESCRIPTION:
URL:https://bacwa.org/event/pretreatment-committee-meeting-2/
LOCATION:Hayward City Hall\, 777 B Street\, Hayward\, CA\, 94541
CATEGORIES:Pretreatment
END:VEVENT
BEGIN:VEVENT
DTSTART;TZID=America/Los_Angeles:20150603T110000
DTEND;TZID=America/Los_Angeles:20150603T123000
DTSTAMP:20260420T132825
CREATED:20150323T214402Z
LAST-MODIFIED:20150323T214402Z
UID:2885-1433329200-1433334600@bacwa.org
SUMMARY:Pretreatment Committee
DESCRIPTION:
URL:https://bacwa.org/event/pretreatment-committee/
LOCATION:Silicon Valley Clean Water\, 1400 Radio Road \, Redwood City\, CA\, United States
CATEGORIES:Pretreatment
END:VEVENT
END:VCALENDAR