BEGIN:VCALENDAR
VERSION:2.0
PRODID:-//Bay Area Clean Water Agencies - ECPv6.15.20//NONSGML v1.0//EN
CALSCALE:GREGORIAN
METHOD:PUBLISH
X-WR-CALNAME:Bay Area Clean Water Agencies
X-ORIGINAL-URL:https://bacwa.org
X-WR-CALDESC:Events for Bay Area Clean Water Agencies
REFRESH-INTERVAL;VALUE=DURATION:PT1H
X-Robots-Tag:noindex
X-PUBLISHED-TTL:PT1H
BEGIN:VTIMEZONE
TZID:America/Los_Angeles
BEGIN:DAYLIGHT
TZOFFSETFROM:-0800
TZOFFSETTO:-0700
TZNAME:PDT
DTSTART:20140309T100000
END:DAYLIGHT
BEGIN:STANDARD
TZOFFSETFROM:-0700
TZOFFSETTO:-0800
TZNAME:PST
DTSTART:20141102T090000
END:STANDARD
BEGIN:DAYLIGHT
TZOFFSETFROM:-0800
TZOFFSETTO:-0700
TZNAME:PDT
DTSTART:20150308T100000
END:DAYLIGHT
BEGIN:STANDARD
TZOFFSETFROM:-0700
TZOFFSETTO:-0800
TZNAME:PST
DTSTART:20151101T090000
END:STANDARD
BEGIN:DAYLIGHT
TZOFFSETFROM:-0800
TZOFFSETTO:-0700
TZNAME:PDT
DTSTART:20160313T100000
END:DAYLIGHT
BEGIN:STANDARD
TZOFFSETFROM:-0700
TZOFFSETTO:-0800
TZNAME:PST
DTSTART:20161106T090000
END:STANDARD
BEGIN:DAYLIGHT
TZOFFSETFROM:-0800
TZOFFSETTO:-0700
TZNAME:PDT
DTSTART:20170312T100000
END:DAYLIGHT
BEGIN:STANDARD
TZOFFSETFROM:-0700
TZOFFSETTO:-0800
TZNAME:PST
DTSTART:20171105T090000
END:STANDARD
BEGIN:DAYLIGHT
TZOFFSETFROM:-0800
TZOFFSETTO:-0700
TZNAME:PDT
DTSTART:20180311T100000
END:DAYLIGHT
BEGIN:STANDARD
TZOFFSETFROM:-0700
TZOFFSETTO:-0800
TZNAME:PST
DTSTART:20181104T090000
END:STANDARD
BEGIN:DAYLIGHT
TZOFFSETFROM:-0800
TZOFFSETTO:-0700
TZNAME:PDT
DTSTART:20190310T100000
END:DAYLIGHT
BEGIN:STANDARD
TZOFFSETFROM:-0700
TZOFFSETTO:-0800
TZNAME:PST
DTSTART:20191103T090000
END:STANDARD
BEGIN:DAYLIGHT
TZOFFSETFROM:-0800
TZOFFSETTO:-0700
TZNAME:PDT
DTSTART:20200308T100000
END:DAYLIGHT
BEGIN:STANDARD
TZOFFSETFROM:-0700
TZOFFSETTO:-0800
TZNAME:PST
DTSTART:20201101T090000
END:STANDARD
BEGIN:DAYLIGHT
TZOFFSETFROM:-0800
TZOFFSETTO:-0700
TZNAME:PDT
DTSTART:20210314T100000
END:DAYLIGHT
BEGIN:STANDARD
TZOFFSETFROM:-0700
TZOFFSETTO:-0800
TZNAME:PST
DTSTART:20211107T090000
END:STANDARD
BEGIN:DAYLIGHT
TZOFFSETFROM:-0800
TZOFFSETTO:-0700
TZNAME:PDT
DTSTART:20220313T100000
END:DAYLIGHT
BEGIN:STANDARD
TZOFFSETFROM:-0700
TZOFFSETTO:-0800
TZNAME:PST
DTSTART:20221106T090000
END:STANDARD
BEGIN:DAYLIGHT
TZOFFSETFROM:-0800
TZOFFSETTO:-0700
TZNAME:PDT
DTSTART:20230312T100000
END:DAYLIGHT
BEGIN:STANDARD
TZOFFSETFROM:-0700
TZOFFSETTO:-0800
TZNAME:PST
DTSTART:20231105T090000
END:STANDARD
BEGIN:DAYLIGHT
TZOFFSETFROM:-0800
TZOFFSETTO:-0700
TZNAME:PDT
DTSTART:20240310T100000
END:DAYLIGHT
BEGIN:STANDARD
TZOFFSETFROM:-0700
TZOFFSETTO:-0800
TZNAME:PST
DTSTART:20241103T090000
END:STANDARD
BEGIN:DAYLIGHT
TZOFFSETFROM:-0800
TZOFFSETTO:-0700
TZNAME:PDT
DTSTART:20250309T100000
END:DAYLIGHT
BEGIN:STANDARD
TZOFFSETFROM:-0700
TZOFFSETTO:-0800
TZNAME:PST
DTSTART:20251102T090000
END:STANDARD
BEGIN:DAYLIGHT
TZOFFSETFROM:-0800
TZOFFSETTO:-0700
TZNAME:PDT
DTSTART:20260308T100000
END:DAYLIGHT
BEGIN:STANDARD
TZOFFSETFROM:-0700
TZOFFSETTO:-0800
TZNAME:PST
DTSTART:20261101T090000
END:STANDARD
BEGIN:DAYLIGHT
TZOFFSETFROM:-0800
TZOFFSETTO:-0700
TZNAME:PDT
DTSTART:20270314T100000
END:DAYLIGHT
BEGIN:STANDARD
TZOFFSETFROM:-0700
TZOFFSETTO:-0800
TZNAME:PST
DTSTART:20271107T090000
END:STANDARD
END:VTIMEZONE
BEGIN:VEVENT
DTSTART;TZID=America/Los_Angeles:20260204T100000
DTEND;TZID=America/Los_Angeles:20260204T120000
DTSTAMP:20260420T101140
CREATED:20251105T225817Z
LAST-MODIFIED:20251209T185243Z
UID:20369-1770199200-1770206400@bacwa.org
SUMMARY:Joint Meeting of Pretreatment Committee and Bay Area Pollution Prevention Group (BAPPG)
DESCRIPTION:This joint meeting of BAPPG and the Pretreatment Committee will be conducted through the MS Teams Platform. For agenda and virtual meeting link\, contact Mary Cousins.
URL:https://bacwa.org/event/bay-area-pollution-prevention-group-bappg-meeting-2026/
CATEGORIES:Bay Area Pollution Prevention Group,Pretreatment
END:VEVENT
BEGIN:VEVENT
DTSTART;TZID=America/Los_Angeles:20251007T130000
DTEND;TZID=America/Los_Angeles:20251007T150000
DTSTAMP:20260420T101140
CREATED:20250905T210930Z
LAST-MODIFIED:20250905T210930Z
UID:20103-1759842000-1759849200@bacwa.org
SUMMARY:Pretreatment Committee Meeting
DESCRIPTION:This meeting will be held on MS Teams. For the link\, please email mc******@***wa.org \n 
URL:https://bacwa.org/event/pretreatment-committee-2025-10/
CATEGORIES:Pretreatment
END:VEVENT
BEGIN:VEVENT
DTSTART;TZID=America/Los_Angeles:20250604T130000
DTEND;TZID=America/Los_Angeles:20250604T150000
DTSTAMP:20260420T101140
CREATED:20250421T214948Z
LAST-MODIFIED:20250421T214948Z
UID:19747-1749042000-1749049200@bacwa.org
SUMMARY:Pretreatment Committee Meeting
DESCRIPTION:This meeting will be held in-person at the Regional Water Board’s office in downtown Oakland. \nA virtual option will also be availble for those unable to attend in-person. \nFor the agenda and virtual meeting link link\, please contact mc******@***wa.org \n 
URL:https://bacwa.org/event/pretreatment-committee-meeting-2025/
LOCATION:San Francisco Bay Regional Water Quality Control Board\, Elihu M. Harris State Office Building\, 1515 Clay Street\, Oakland\, CA\, United States
CATEGORIES:Pretreatment
END:VEVENT
BEGIN:VEVENT
DTSTART;TZID=America/Los_Angeles:20241120T100000
DTEND;TZID=America/Los_Angeles:20241120T120000
DTSTAMP:20260420T101140
CREATED:20241030T212913Z
LAST-MODIFIED:20241030T212913Z
UID:18904-1732096800-1732104000@bacwa.org
SUMMARY:Pretreatment Committee Meeting
DESCRIPTION:This meeting will be held on MS Teams. For the link\, please email mc******@***wa.org \n 
URL:https://bacwa.org/event/pretreatment-committee-meeting-11-2-2-2-2-2/
CATEGORIES:Pretreatment
END:VEVENT
BEGIN:VEVENT
DTSTART;TZID=America/Los_Angeles:20240214T130000
DTEND;TZID=America/Los_Angeles:20240214T153000
DTSTAMP:20260420T101140
CREATED:20231220T182350Z
LAST-MODIFIED:20231220T182350Z
UID:17402-1707915600-1707924600@bacwa.org
SUMMARY:Pretreatment Committee Meeting
DESCRIPTION:BACWA Pretreatment Committee Meeting \nFor Agenda and Zoom meeting information\, please email mc******@***wa.org \nAttendees are encouraged to take BART (1 block from the 12th Street station if you exit at 11th and Broadway) or park in one of the nearby garages (note: EBMUD is unable to provide parking in its garage for meeting attendees). \nNearby garages include: \n\n\n\nPacific Renaissance Plaza\, 388 9th Street (Entrances on Webster or Franklin)\, Open 7:00 a.m. to 11:00 p.m.\, Clearance 8’2”\nTrans Pacific Centre\, 1000 Broadway (Entrance at 400 11th Street\, right side)\, Open 6:30 a.m. to 7:00 p.m.\, Clearance 6’3”\nOakland City Center\, 530 11th Street (Entrance on 11th Street\, left side)\, Open 5:00 a.m. to 10:00 p.m.\, Clearance 6’8”\nOakland City Center\, 525 14th Street (Entrance on 14th Street\, left side)\, Open 5:00 a.m. to 10:00 p.m.\, Clearance 6’8”\nCity Center Garage West\, 555 12th Street (Entrance on 11th Street\, left side)\, Open 6:00 a.m. to 7:00 p.m.\, Clearance 8’2”\n\n\n\n 
URL:https://bacwa.org/event/pretreatment-committee-meeting-11-2-2-2-3/
LOCATION:EBMUD Headquarters\, 2nd Floor Large Training Room\, 375 11th St. \, Oakland\, CA\, United States
CATEGORIES:Pretreatment
END:VEVENT
BEGIN:VEVENT
DTSTART;TZID=America/Los_Angeles:20231102T100000
DTEND;TZID=America/Los_Angeles:20231102T120000
DTSTAMP:20260420T101140
CREATED:20231005T235119Z
LAST-MODIFIED:20231005T235119Z
UID:17085-1698919200-1698926400@bacwa.org
SUMMARY:Pretreatment Committee Meeting
DESCRIPTION:This meeting will be held on Zoom. For the Zoom link\, please email mc******@***wa.org \n 
URL:https://bacwa.org/event/pretreatment-committee-meeting-11-2-2-2-2/
CATEGORIES:Pretreatment
END:VEVENT
BEGIN:VEVENT
DTSTART;TZID=America/Los_Angeles:20230322T130000
DTEND;TZID=America/Los_Angeles:20230322T153000
DTSTAMP:20260420T101140
CREATED:20230307T062415Z
LAST-MODIFIED:20230307T063702Z
UID:16118-1679490000-1679499000@bacwa.org
SUMMARY:Pretreatment Committee Meeting
DESCRIPTION:BACWA Pretreatment Committee Meeting \nPlease join us on Wednesday\, March 22\, 2023 from 1:00 PM – 3:30 PM as we return to in-person meetings! \nAttendees are encouraged to take BART (1 block from the 12th Street station if you exit at 11th and Broadway) or park in one of the nearby garages (note: EBMUD is unable to provide parking in its garage for meeting attendees). \nNearby garages include: \n\n\n\nPacific Renaissance Plaza\, 388 9th Street (Entrances on Webster or Franklin)\, Open 7:00 a.m. to 11:00 p.m.\, Clearance 8’2”\nTrans Pacific Centre\, 1000 Broadway (Entrance at 400 11th Street\, right side)\, Open 6:30 a.m. to 7:00 p.m.\, Clearance 6’3”\nOakland City Center\, 530 11th Street (Entrance on 11th Street\, left side)\, Open 5:00 a.m. to 10:00 p.m.\, Clearance 6’8”\nOakland City Center\, 525 14th Street (Entrance on 14th Street\, left side)\, Open 5:00 a.m. to 10:00 p.m.\, Clearance 6’8”\nCity Center Garage West\, 555 12th Street (Entrance on 11th Street\, left side)\, Open 6:00 a.m. to 7:00 p.m.\, Clearance 8’2”\n\n\n\nFor Zoom meeting information\, please email mc******@***wa.org \n 
URL:https://bacwa.org/event/pretreatment-committee-meeting-11-2-2-2/
LOCATION:EBMUD Headquarters\, 2nd Floor Large Training Room\, 375 11th St. \, Oakland\, CA\, United States
CATEGORIES:Pretreatment
END:VEVENT
BEGIN:VEVENT
DTSTART;TZID=America/Los_Angeles:20220602T130000
DTEND;TZID=America/Los_Angeles:20220602T153000
DTSTAMP:20260420T101140
CREATED:20220425T232757Z
LAST-MODIFIED:20220524T164039Z
UID:15129-1654174800-1654183800@bacwa.org
SUMMARY:Pretreatment Committee Meeting
DESCRIPTION:BACWA Pretreatment Committee Meeting \nFor Zoom meeting information\, please email mc******@***wa.org \n 
URL:https://bacwa.org/event/pretreatment-committee-meeting-11-2-2/
CATEGORIES:Pretreatment
END:VEVENT
BEGIN:VEVENT
DTSTART;TZID=America/Los_Angeles:20210930T130000
DTEND;TZID=America/Los_Angeles:20210930T153000
DTSTAMP:20260420T101140
CREATED:20210911T001110Z
LAST-MODIFIED:20210911T001110Z
UID:14151-1633006800-1633015800@bacwa.org
SUMMARY:Pretreatment Committee Meeting
DESCRIPTION:BACWA Pretreatment Committee Meeting \nFor Zoom meeting information\, please email mc******@***wa.org \n 
URL:https://bacwa.org/event/pretreatment-committee-meeting-11-2/
CATEGORIES:Pretreatment
END:VEVENT
BEGIN:VEVENT
DTSTART;TZID=America/Los_Angeles:20201214T100000
DTEND;TZID=America/Los_Angeles:20201214T123000
DTSTAMP:20260420T101140
CREATED:20201201T000224Z
LAST-MODIFIED:20201201T000224Z
UID:12845-1607940000-1607949000@bacwa.org
SUMMARY:Pretreatment Committee Meeting
DESCRIPTION:BACWA Pretreatment Committee Meeting\nMonday\, December 14th\, 2020 10 AM – 12 PM (PDT) \nFor Zoom meeting information\, please email mc******@***wa.org \n 
URL:https://bacwa.org/event/pretreatment-committee-meeting-11/
CATEGORIES:Pretreatment
END:VEVENT
BEGIN:VEVENT
DTSTART;TZID=America/Los_Angeles:20200205T093000
DTEND;TZID=America/Los_Angeles:20200205T123000
DTSTAMP:20260420T101140
CREATED:20200125T001412Z
LAST-MODIFIED:20200125T001713Z
UID:11726-1580895000-1580905800@bacwa.org
SUMMARY:Pretreatment Committee Meeting
DESCRIPTION:
URL:https://bacwa.org/event/pretreatment-committee-meeting-10-2-2-2/
LOCATION:EBMUD Headquarters\, 2nd Floor Small Training Room\, United States
CATEGORIES:Pretreatment
END:VEVENT
BEGIN:VEVENT
DTSTART;TZID=America/Los_Angeles:20191021T093000
DTEND;TZID=America/Los_Angeles:20191021T123000
DTSTAMP:20260420T101140
CREATED:20191004T182106Z
LAST-MODIFIED:20191004T182106Z
UID:11245-1571650200-1571661000@bacwa.org
SUMMARY:Pretreatment Committee Meeting
DESCRIPTION:
URL:https://bacwa.org/event/pretreatment-committee-meeting-10-2-2/
LOCATION:Hayward City Hall\, 777 B Street\, Hayward\, CA\, 94541
CATEGORIES:Pretreatment
END:VEVENT
BEGIN:VEVENT
DTSTART;TZID=America/Los_Angeles:20190320T093000
DTEND;TZID=America/Los_Angeles:20190320T123000
DTSTAMP:20260420T101140
CREATED:20190221T183831Z
LAST-MODIFIED:20190221T183831Z
UID:10777-1553074200-1553085000@bacwa.org
SUMMARY:Pretreatment Committee Meeting
DESCRIPTION:
URL:https://bacwa.org/event/pretreatment-committee-meeting-10-2/
LOCATION:EBMUD Headquarters\, 2nd Floor Small Training Room\, United States
CATEGORIES:Pretreatment
END:VEVENT
BEGIN:VEVENT
DTSTART;TZID=America/Los_Angeles:20190311T083000
DTEND;TZID=America/Los_Angeles:20190311T163000
DTSTAMP:20260420T101140
CREATED:20190228T203951Z
LAST-MODIFIED:20190228T203951Z
UID:10788-1552293000-1552321800@bacwa.org
SUMMARY:Pretreatment Master Class
DESCRIPTION:
URL:https://bacwa.org/event/pretreatment-master-class/
LOCATION:EBMUD Headquarters\, 2nd Floor Large Training Room\, 375 11th St. \, Oakland\, CA\, United States
CATEGORIES:Pretreatment
END:VEVENT
BEGIN:VEVENT
DTSTART;TZID=America/Los_Angeles:20181030T093000
DTEND;TZID=America/Los_Angeles:20181030T123000
DTSTAMP:20260420T101140
CREATED:20181013T001338Z
LAST-MODIFIED:20181013T001338Z
UID:6309-1540891800-1540902600@bacwa.org
SUMMARY:Pretreatment Committee Meeting
DESCRIPTION:
URL:https://bacwa.org/event/pretreatment-committee-meeting-10/
LOCATION:DSRSD\, 7035 Commerce Circle\, Field Operations Facility\, Conference Room\, Pleasanton\, CA\, 94588\, United States
CATEGORIES:Pretreatment
END:VEVENT
BEGIN:VEVENT
DTSTART;TZID=America/Los_Angeles:20180614T093000
DTEND;TZID=America/Los_Angeles:20180614T123000
DTSTAMP:20260420T101140
CREATED:20180602T010144Z
LAST-MODIFIED:20180602T010144Z
UID:5979-1528968600-1528979400@bacwa.org
SUMMARY:Pretreatment Committee Meeting
DESCRIPTION:
URL:https://bacwa.org/event/pretreatment-committee-meeting-9-2/
LOCATION:USD Board Room\, CA\, United States
CATEGORIES:Pretreatment
END:VEVENT
BEGIN:VEVENT
DTSTART;TZID=America/Los_Angeles:20180129T130000
DTEND;TZID=America/Los_Angeles:20180129T153000
DTSTAMP:20260420T101140
CREATED:20171207T001329Z
LAST-MODIFIED:20171207T001329Z
UID:5500-1517230800-1517239800@bacwa.org
SUMMARY:Pretreatment Committee Meeting
DESCRIPTION:
URL:https://bacwa.org/event/pretreatment-committee-meeting-9/
LOCATION:EBMUD Headquarters\, 2nd Floor Large Training Room\, 375 11th St. \, Oakland\, CA\, United States
CATEGORIES:Pretreatment
END:VEVENT
BEGIN:VEVENT
DTSTART;TZID=America/Los_Angeles:20171017T103000
DTEND;TZID=America/Los_Angeles:20171017T130000
DTSTAMP:20260420T101140
CREATED:20170828T180046Z
LAST-MODIFIED:20170828T180046Z
UID:5070-1508236200-1508245200@bacwa.org
SUMMARY:Pretreatment Committee Meeting
DESCRIPTION:
URL:https://bacwa.org/event/pretreatment-committee-meeting-8/
LOCATION:Silicon Valley Clean Water\, 1400 Radio Road \, Redwood City\, CA\, United States
CATEGORIES:Pretreatment
END:VEVENT
BEGIN:VEVENT
DTSTART;TZID=America/Los_Angeles:20170516T130000
DTEND;TZID=America/Los_Angeles:20170516T153000
DTSTAMP:20260420T101140
CREATED:20170328T234748Z
LAST-MODIFIED:20170328T234748Z
UID:4665-1494939600-1494948600@bacwa.org
SUMMARY:Pretreatment Committee Meeting
DESCRIPTION:
URL:https://bacwa.org/event/pretreatment-committee-meeting-7/
LOCATION:Hayward City Hall\, 777 B Street\, Hayward\, CA\, 94541
CATEGORIES:Pretreatment
END:VEVENT
BEGIN:VEVENT
DTSTART;TZID=America/Los_Angeles:20170110T100000
DTEND;TZID=America/Los_Angeles:20170110T123000
DTSTAMP:20260420T101140
CREATED:20161018T050232Z
LAST-MODIFIED:20161018T050232Z
UID:4308-1484042400-1484051400@bacwa.org
SUMMARY:Pretreatment Committee Meeting
DESCRIPTION:
URL:https://bacwa.org/event/pretreatment-committee-meeting-6/
LOCATION:EBMUD Headquarters\, 2nd Floor Large Training Room\, 375 11th St. \, Oakland\, CA\, United States
CATEGORIES:Pretreatment
END:VEVENT
BEGIN:VEVENT
DTSTART;TZID=America/Los_Angeles:20160830T100000
DTEND;TZID=America/Los_Angeles:20160830T123000
DTSTAMP:20260420T101140
CREATED:20160711T221715Z
LAST-MODIFIED:20160711T221715Z
UID:4133-1472551200-1472560200@bacwa.org
SUMMARY:Pretreatment Committee Meeting
DESCRIPTION:
URL:https://bacwa.org/event/pretreatment-committee-meeting-5/
LOCATION:Union Sanitary Dist\, 5072 Benson Rd.\, Union City\, CA\, 94587
CATEGORIES:Pretreatment
END:VEVENT
BEGIN:VEVENT
DTSTART;TZID=America/Los_Angeles:20160414T100000
DTEND;TZID=America/Los_Angeles:20160414T123000
DTSTAMP:20260420T101140
CREATED:20160302T021750Z
LAST-MODIFIED:20160302T021750Z
UID:3816-1460628000-1460637000@bacwa.org
SUMMARY:Pretreatment Committee Meeting
DESCRIPTION:Hayward City Hall \nConference Room 1C \nPermit Center
URL:https://bacwa.org/event/pretreatment-committee-meeting-4/
LOCATION:Hayward City Hall\, 777 B Street\, Hayward\, CA\, 94541
CATEGORIES:Pretreatment
END:VEVENT
BEGIN:VEVENT
DTSTART;TZID=America/Los_Angeles:20160114T100000
DTEND;TZID=America/Los_Angeles:20160114T123000
DTSTAMP:20260420T101140
CREATED:20151119T230031Z
LAST-MODIFIED:20151119T230031Z
UID:3575-1452765600-1452774600@bacwa.org
SUMMARY:Pretreatment Committee Meeting
DESCRIPTION:
URL:https://bacwa.org/event/pretreatment-committee-meeting-3/
LOCATION:EBMUD Headquarters\, 2nd Floor Large Training Room\, 375 11th St. \, Oakland\, CA\, United States
CATEGORIES:Pretreatment
END:VEVENT
BEGIN:VEVENT
DTSTART;TZID=America/Los_Angeles:20151022T083000
DTEND;TZID=America/Los_Angeles:20151022T110000
DTSTAMP:20260420T101140
CREATED:20150727T022726Z
LAST-MODIFIED:20150727T022726Z
UID:3268-1445502600-1445511600@bacwa.org
SUMMARY:Generating Legally Defensible Field Samples & Test Data for Environmental Compliance Professionals
DESCRIPTION:
URL:https://bacwa.org/event/generating-legally-defensible-field-samples-test-data-for-environmental-compliance-professionals-2/
LOCATION:San Jose Environmental Innovation Center
CATEGORIES:Pretreatment
END:VEVENT
BEGIN:VEVENT
DTSTART;TZID=America/Los_Angeles:20151013T083000
DTEND;TZID=America/Los_Angeles:20151013T110000
DTSTAMP:20260420T101140
CREATED:20150727T022559Z
LAST-MODIFIED:20150727T022559Z
UID:3266-1444725000-1444734000@bacwa.org
SUMMARY:Generating Legally Defensible Field Samples & Test Data for Environmental Compliance Professionals
DESCRIPTION:
URL:https://bacwa.org/event/generating-legally-defensible-field-samples-test-data-for-environmental-compliance-professionals/
LOCATION:tbd
CATEGORIES:Pretreatment
END:VEVENT
BEGIN:VEVENT
DTSTART;TZID=America/Los_Angeles:20150910T100000
DTEND;TZID=America/Los_Angeles:20150910T123000
DTSTAMP:20260420T101140
CREATED:20150619T222422Z
LAST-MODIFIED:20150619T222422Z
UID:3201-1441879200-1441888200@bacwa.org
SUMMARY:Pretreatment Committee Meeting
DESCRIPTION:
URL:https://bacwa.org/event/pretreatment-committee-meeting-2/
LOCATION:Hayward City Hall\, 777 B Street\, Hayward\, CA\, 94541
CATEGORIES:Pretreatment
END:VEVENT
BEGIN:VEVENT
DTSTART;TZID=America/Los_Angeles:20150603T110000
DTEND;TZID=America/Los_Angeles:20150603T123000
DTSTAMP:20260420T101140
CREATED:20150323T214402Z
LAST-MODIFIED:20150323T214402Z
UID:2885-1433329200-1433334600@bacwa.org
SUMMARY:Pretreatment Committee
DESCRIPTION:
URL:https://bacwa.org/event/pretreatment-committee/
LOCATION:Silicon Valley Clean Water\, 1400 Radio Road \, Redwood City\, CA\, United States
CATEGORIES:Pretreatment
END:VEVENT
END:VCALENDAR