BEGIN:VCALENDAR
VERSION:2.0
PRODID:-//Bay Area Clean Water Agencies - ECPv6.15.20//NONSGML v1.0//EN
CALSCALE:GREGORIAN
METHOD:PUBLISH
X-WR-CALNAME:Bay Area Clean Water Agencies
X-ORIGINAL-URL:https://bacwa.org
X-WR-CALDESC:Events for Bay Area Clean Water Agencies
REFRESH-INTERVAL;VALUE=DURATION:PT1H
X-Robots-Tag:noindex
X-PUBLISHED-TTL:PT1H
BEGIN:VTIMEZONE
TZID:America/Los_Angeles
BEGIN:DAYLIGHT
TZOFFSETFROM:-0800
TZOFFSETTO:-0700
TZNAME:PDT
DTSTART:20140309T100000
END:DAYLIGHT
BEGIN:STANDARD
TZOFFSETFROM:-0700
TZOFFSETTO:-0800
TZNAME:PST
DTSTART:20141102T090000
END:STANDARD
BEGIN:DAYLIGHT
TZOFFSETFROM:-0800
TZOFFSETTO:-0700
TZNAME:PDT
DTSTART:20150308T100000
END:DAYLIGHT
BEGIN:STANDARD
TZOFFSETFROM:-0700
TZOFFSETTO:-0800
TZNAME:PST
DTSTART:20151101T090000
END:STANDARD
BEGIN:DAYLIGHT
TZOFFSETFROM:-0800
TZOFFSETTO:-0700
TZNAME:PDT
DTSTART:20160313T100000
END:DAYLIGHT
BEGIN:STANDARD
TZOFFSETFROM:-0700
TZOFFSETTO:-0800
TZNAME:PST
DTSTART:20161106T090000
END:STANDARD
BEGIN:DAYLIGHT
TZOFFSETFROM:-0800
TZOFFSETTO:-0700
TZNAME:PDT
DTSTART:20170312T100000
END:DAYLIGHT
BEGIN:STANDARD
TZOFFSETFROM:-0700
TZOFFSETTO:-0800
TZNAME:PST
DTSTART:20171105T090000
END:STANDARD
BEGIN:DAYLIGHT
TZOFFSETFROM:-0800
TZOFFSETTO:-0700
TZNAME:PDT
DTSTART:20180311T100000
END:DAYLIGHT
BEGIN:STANDARD
TZOFFSETFROM:-0700
TZOFFSETTO:-0800
TZNAME:PST
DTSTART:20181104T090000
END:STANDARD
END:VTIMEZONE
BEGIN:VEVENT
DTSTART;TZID=America/Los_Angeles:20171017T130000
DTEND;TZID=America/Los_Angeles:20171017T150000
DTSTAMP:20260419T081529
CREATED:20161222T002400Z
LAST-MODIFIED:20170815T200734Z
UID:4452-1508245200-1508252400@bacwa.org
SUMMARY:Permits Committee Meeting
DESCRIPTION:
URL:https://bacwa.org/event/permits-committee-meeting-27/
LOCATION:EBMUD Treatment Plant\, Library\, 2020 Wake Avenue\, Oakland\, CA\, United States
CATEGORIES:Permit
END:VEVENT
BEGIN:VEVENT
DTSTART;TZID=America/Los_Angeles:20170912T130000
DTEND;TZID=America/Los_Angeles:20170912T150000
DTSTAMP:20260419T081529
CREATED:20161222T002119Z
LAST-MODIFIED:20161222T002119Z
UID:4451-1505221200-1505228400@bacwa.org
SUMMARY:Permits Committee Meeting
DESCRIPTION:
URL:https://bacwa.org/event/permits-committee-meeting-26/
LOCATION:EBMUD Treatment Plant\, Library\, 2020 Wake Avenue\, Oakland\, CA\, United States
CATEGORIES:Permit
END:VEVENT
BEGIN:VEVENT
DTSTART;TZID=America/Los_Angeles:20170808T130000
DTEND;TZID=America/Los_Angeles:20170808T150000
DTSTAMP:20260419T081529
CREATED:20161222T002017Z
LAST-MODIFIED:20161222T002017Z
UID:4450-1502197200-1502204400@bacwa.org
SUMMARY:Permits Committee Meeting
DESCRIPTION:
URL:https://bacwa.org/event/permits-committee-meeting-25/
LOCATION:EBMUD Treatment Plant\, Library\, 2020 Wake Avenue\, Oakland\, CA\, United States
CATEGORIES:Permit
END:VEVENT
BEGIN:VEVENT
DTSTART;TZID=America/Los_Angeles:20170711T130000
DTEND;TZID=America/Los_Angeles:20170711T150000
DTSTAMP:20260419T081529
CREATED:20161222T001842Z
LAST-MODIFIED:20161222T001842Z
UID:4449-1499778000-1499785200@bacwa.org
SUMMARY:Permits Committee Meeting
DESCRIPTION:
URL:https://bacwa.org/event/permits-committee-meeting-24/
LOCATION:EBMUD Treatment Plant\, Library\, 2020 Wake Avenue\, Oakland\, CA\, United States
CATEGORIES:Permit
END:VEVENT
BEGIN:VEVENT
DTSTART;TZID=America/Los_Angeles:20170613T130000
DTEND;TZID=America/Los_Angeles:20170613T150000
DTSTAMP:20260419T081529
CREATED:20161222T001745Z
LAST-MODIFIED:20170609T222626Z
UID:4448-1497358800-1497366000@bacwa.org
SUMMARY:Permits Committee Meeting - CANCELLED
DESCRIPTION:
URL:https://bacwa.org/event/permits-committee-meeting-23/
LOCATION:EBMUD Treatment Plant\, Library\, 2020 Wake Avenue\, Oakland\, CA\, United States
CATEGORIES:Permit
END:VEVENT
BEGIN:VEVENT
DTSTART;TZID=America/Los_Angeles:20170509T130000
DTEND;TZID=America/Los_Angeles:20170509T150000
DTSTAMP:20260419T081529
CREATED:20161222T001606Z
LAST-MODIFIED:20161222T001606Z
UID:4447-1494334800-1494342000@bacwa.org
SUMMARY:Permits Committee Meeting
DESCRIPTION:
URL:https://bacwa.org/event/permits-committee-meeting-22/
LOCATION:EBMUD Treatment Plant\, Library\, 2020 Wake Avenue\, Oakland\, CA\, United States
CATEGORIES:Permit
END:VEVENT
BEGIN:VEVENT
DTSTART;TZID=America/Los_Angeles:20170411T130000
DTEND;TZID=America/Los_Angeles:20170411T150000
DTSTAMP:20260419T081529
CREATED:20161222T001435Z
LAST-MODIFIED:20161222T001435Z
UID:4446-1491915600-1491922800@bacwa.org
SUMMARY:Permits Committee Meeting
DESCRIPTION:
URL:https://bacwa.org/event/permits-committee-meeting-21/
LOCATION:EBMUD Treatment Plant\, Library\, 2020 Wake Avenue\, Oakland\, CA\, United States
CATEGORIES:Permit
END:VEVENT
BEGIN:VEVENT
DTSTART;TZID=America/Los_Angeles:20170214T130000
DTEND;TZID=America/Los_Angeles:20170214T150000
DTSTAMP:20260419T081529
CREATED:20161222T001130Z
LAST-MODIFIED:20161222T001130Z
UID:4444-1487077200-1487084400@bacwa.org
SUMMARY:Permits Committee Meeting
DESCRIPTION:
URL:https://bacwa.org/event/permits-committee-meeting-19/
LOCATION:EBMUD Treatment Plant\, Library\, 2020 Wake Avenue\, Oakland\, CA\, United States
CATEGORIES:Permit
END:VEVENT
BEGIN:VEVENT
DTSTART;TZID=America/Los_Angeles:20170110T130000
DTEND;TZID=America/Los_Angeles:20170110T150000
DTSTAMP:20260419T081529
CREATED:20161222T000621Z
LAST-MODIFIED:20161222T000621Z
UID:4443-1484053200-1484060400@bacwa.org
SUMMARY:Permits Committee Meeting
DESCRIPTION:
URL:https://bacwa.org/event/permits-committee-meeting-8/
LOCATION:EBMUD Treatment Plant\, Library\, 2020 Wake Avenue\, Oakland\, CA\, United States
CATEGORIES:Permit
END:VEVENT
BEGIN:VEVENT
DTSTART;TZID=America/Los_Angeles:20161213T110000
DTEND;TZID=America/Los_Angeles:20161213T140000
DTSTAMP:20260419T081529
CREATED:20150820T232157Z
LAST-MODIFIED:20161128T162629Z
UID:3347-1481626800-1481637600@bacwa.org
SUMMARY:Permits Committee Meeting
DESCRIPTION:
URL:https://bacwa.org/event/permits-committee-meeting-18/
LOCATION:EBMUD Treatment Plant\, Library\, 2020 Wake Avenue\, Oakland\, CA\, United States
CATEGORIES:Permit
END:VEVENT
BEGIN:VEVENT
DTSTART;TZID=America/Los_Angeles:20161108T130000
DTEND;TZID=America/Los_Angeles:20161108T150000
DTSTAMP:20260419T081529
CREATED:20150820T232136Z
LAST-MODIFIED:20150820T232136Z
UID:3346-1478610000-1478617200@bacwa.org
SUMMARY:Permits Committee Meeting
DESCRIPTION:
URL:https://bacwa.org/event/permits-committee-meeting-17/
LOCATION:EBMUD Treatment Plant\, Library\, 2020 Wake Avenue\, Oakland\, CA\, United States
CATEGORIES:Permit
END:VEVENT
BEGIN:VEVENT
DTSTART;TZID=America/Los_Angeles:20161011T130000
DTEND;TZID=America/Los_Angeles:20161011T150000
DTSTAMP:20260419T081529
CREATED:20150820T232105Z
LAST-MODIFIED:20150820T232105Z
UID:3345-1476190800-1476198000@bacwa.org
SUMMARY:Permits Committee Meeting
DESCRIPTION:
URL:https://bacwa.org/event/permits-committee-meeting-16/
LOCATION:EBMUD Treatment Plant\, Library\, 2020 Wake Avenue\, Oakland\, CA\, United States
CATEGORIES:Permit
END:VEVENT
BEGIN:VEVENT
DTSTART;TZID=America/Los_Angeles:20160913T130000
DTEND;TZID=America/Los_Angeles:20160913T150000
DTSTAMP:20260419T081529
CREATED:20150820T232037Z
LAST-MODIFIED:20150820T232037Z
UID:3344-1473771600-1473778800@bacwa.org
SUMMARY:Permits Committee Meeting
DESCRIPTION:
URL:https://bacwa.org/event/permits-committee-meeting-15/
LOCATION:EBMUD Treatment Plant\, Library\, 2020 Wake Avenue\, Oakland\, CA\, United States
CATEGORIES:Permit
END:VEVENT
BEGIN:VEVENT
DTSTART;TZID=America/Los_Angeles:20160809T130000
DTEND;TZID=America/Los_Angeles:20160809T150000
DTSTAMP:20260419T081529
CREATED:20150820T231959Z
LAST-MODIFIED:20150820T231959Z
UID:3343-1470747600-1470754800@bacwa.org
SUMMARY:Permits Committee Meeting
DESCRIPTION:
URL:https://bacwa.org/event/permits-committee-meeting-14/
LOCATION:EBMUD Treatment Plant\, Library\, 2020 Wake Avenue\, Oakland\, CA\, United States
CATEGORIES:Permit
END:VEVENT
BEGIN:VEVENT
DTSTART;TZID=America/Los_Angeles:20160712T130000
DTEND;TZID=America/Los_Angeles:20160712T150000
DTSTAMP:20260419T081529
CREATED:20150820T231817Z
LAST-MODIFIED:20150820T231817Z
UID:3342-1468328400-1468335600@bacwa.org
SUMMARY:Permits Committee Meeting
DESCRIPTION:
URL:https://bacwa.org/event/permits-committee-meeting-13/
LOCATION:EBMUD Treatment Plant\, Library\, 2020 Wake Avenue\, Oakland\, CA\, United States
CATEGORIES:Permit
END:VEVENT
BEGIN:VEVENT
DTSTART;TZID=America/Los_Angeles:20160614T130000
DTEND;TZID=America/Los_Angeles:20160614T150000
DTSTAMP:20260419T081529
CREATED:20150820T231749Z
LAST-MODIFIED:20150820T231749Z
UID:3341-1465909200-1465916400@bacwa.org
SUMMARY:Permits Committee Meeting
DESCRIPTION:
URL:https://bacwa.org/event/permits-committee-meeting-12/
LOCATION:EBMUD Treatment Plant\, Library\, 2020 Wake Avenue\, Oakland\, CA\, United States
CATEGORIES:Permit
END:VEVENT
BEGIN:VEVENT
DTSTART;TZID=America/Los_Angeles:20160510T130000
DTEND;TZID=America/Los_Angeles:20160510T150000
DTSTAMP:20260419T081529
CREATED:20150820T231717Z
LAST-MODIFIED:20150820T231717Z
UID:3340-1462885200-1462892400@bacwa.org
SUMMARY:Permits Committee Meeting
DESCRIPTION:
URL:https://bacwa.org/event/permits-committee-meeting-11/
LOCATION:EBMUD Treatment Plant\, Library\, 2020 Wake Avenue\, Oakland\, CA\, United States
CATEGORIES:Permit
END:VEVENT
BEGIN:VEVENT
DTSTART;TZID=America/Los_Angeles:20160412T130000
DTEND;TZID=America/Los_Angeles:20160412T150000
DTSTAMP:20260419T081529
CREATED:20150820T231616Z
LAST-MODIFIED:20150820T231616Z
UID:3339-1460466000-1460473200@bacwa.org
SUMMARY:Permits Committee Meeting
DESCRIPTION:
URL:https://bacwa.org/event/permits-committee-meeting-10/
LOCATION:EBMUD Treatment Plant\, Library\, 2020 Wake Avenue\, Oakland\, CA\, United States
CATEGORIES:Permit
END:VEVENT
BEGIN:VEVENT
DTSTART;TZID=America/Los_Angeles:20160308T130000
DTEND;TZID=America/Los_Angeles:20160308T150000
DTSTAMP:20260419T081529
CREATED:20150820T231541Z
LAST-MODIFIED:20150820T231541Z
UID:3338-1457442000-1457449200@bacwa.org
SUMMARY:Permits Committee Meeting
DESCRIPTION:
URL:https://bacwa.org/event/permits-committee-meeting-9/
LOCATION:EBMUD Treatment Plant\, Library\, 2020 Wake Avenue\, Oakland\, CA\, United States
CATEGORIES:Permit
END:VEVENT
BEGIN:VEVENT
DTSTART;TZID=America/Los_Angeles:20160112T130000
DTEND;TZID=America/Los_Angeles:20160112T150000
DTSTAMP:20260419T081529
CREATED:20150820T231423Z
LAST-MODIFIED:20150820T231423Z
UID:3336-1452603600-1452610800@bacwa.org
SUMMARY:Permits Committee Meeting
DESCRIPTION:
URL:https://bacwa.org/event/permits-committee-meeting-7/
LOCATION:EBMUD Treatment Plant\, Library\, 2020 Wake Avenue\, Oakland\, CA\, United States
CATEGORIES:Permit
END:VEVENT
BEGIN:VEVENT
DTSTART;TZID=America/Los_Angeles:20151215T110000
DTEND;TZID=America/Los_Angeles:20151215T140000
DTSTAMP:20260419T081529
CREATED:20150820T231316Z
LAST-MODIFIED:20151123T043820Z
UID:3335-1450177200-1450188000@bacwa.org
SUMMARY:Permits Committee Meeting
DESCRIPTION:
URL:https://bacwa.org/event/permits-committee-meeting-6/
LOCATION:EBMUD Treatment Plant\, Library\, 2020 Wake Avenue\, Oakland\, CA\, United States
CATEGORIES:Permit
END:VEVENT
BEGIN:VEVENT
DTSTART;TZID=America/Los_Angeles:20151110T130000
DTEND;TZID=America/Los_Angeles:20151110T150000
DTSTAMP:20260419T081529
CREATED:20150820T231202Z
LAST-MODIFIED:20150820T231202Z
UID:3334-1447160400-1447167600@bacwa.org
SUMMARY:Permits Committee Meeting
DESCRIPTION:
URL:https://bacwa.org/event/permits-committee-meeting-5/
LOCATION:EBMUD Treatment Plant\, Library\, 2020 Wake Avenue\, Oakland\, CA\, United States
CATEGORIES:Permit
END:VEVENT
BEGIN:VEVENT
DTSTART;TZID=America/Los_Angeles:20151013T130000
DTEND;TZID=America/Los_Angeles:20151013T150000
DTSTAMP:20260419T081529
CREATED:20150818T000803Z
LAST-MODIFIED:20150818T000803Z
UID:3319-1444741200-1444748400@bacwa.org
SUMMARY:Permits Committee Meeting
DESCRIPTION:
URL:https://bacwa.org/event/permits-committee-meeting-4/
LOCATION:EBMUD Treatment Plant\, Library\, 2020 Wake Avenue\, Oakland\, CA\, United States
CATEGORIES:Permit
END:VEVENT
BEGIN:VEVENT
DTSTART;TZID=America/Los_Angeles:20150908T130000
DTEND;TZID=America/Los_Angeles:20150908T150000
DTSTAMP:20260419T081529
CREATED:20150818T000637Z
LAST-MODIFIED:20150818T000637Z
UID:3318-1441717200-1441724400@bacwa.org
SUMMARY:Permits Committee Meeting
DESCRIPTION:
URL:https://bacwa.org/event/permits-committee-meeting-3/
LOCATION:EBMUD Treatment Plant\, Library\, 2020 Wake Avenue\, Oakland\, CA\, United States
CATEGORIES:Permit
END:VEVENT
BEGIN:VEVENT
DTSTART;TZID=America/Los_Angeles:20150804T130000
DTEND;TZID=America/Los_Angeles:20150804T150000
DTSTAMP:20260419T081529
CREATED:20150618T221428Z
LAST-MODIFIED:20150618T221428Z
UID:3197-1438693200-1438700400@bacwa.org
SUMMARY:Permits Committee Meeting
DESCRIPTION:
URL:https://bacwa.org/event/permits-committee-meeting-2/
LOCATION:EBMUD Treatment Plant\, Library\, 2020 Wake Avenue\, Oakland\, CA\, United States
CATEGORIES:Permit
END:VEVENT
BEGIN:VEVENT
DTSTART;TZID=America/Los_Angeles:20150714T130000
DTEND;TZID=America/Los_Angeles:20150714T150000
DTSTAMP:20260419T081529
CREATED:20150618T221317Z
LAST-MODIFIED:20150618T221332Z
UID:3196-1436878800-1436886000@bacwa.org
SUMMARY:Permits Committee Meeting
DESCRIPTION:
URL:https://bacwa.org/event/permits-committee-meeting/
LOCATION:EBMUD Treatment Plant\, Library\, 2020 Wake Avenue\, Oakland\, CA\, United States
CATEGORIES:Permit
END:VEVENT
BEGIN:VEVENT
DTSTART;TZID=America/Los_Angeles:20150609T130000
DTEND;TZID=America/Los_Angeles:20150609T150000
DTSTAMP:20260419T081529
CREATED:20150323T214553Z
LAST-MODIFIED:20150323T214622Z
UID:2888-1433854800-1433862000@bacwa.org
SUMMARY:Permit Committee
DESCRIPTION:
URL:https://bacwa.org/event/permit-committee-4/
LOCATION:EBMUD Treatment Plant\, Library\, 2020 Wake Avenue\, Oakland\, CA\, United States
CATEGORIES:Permit
END:VEVENT
BEGIN:VEVENT
DTSTART;TZID=America/Los_Angeles:20150505T130000
DTEND;TZID=America/Los_Angeles:20150505T150000
DTSTAMP:20260419T081529
CREATED:20150306T023830Z
LAST-MODIFIED:20150501T210354Z
UID:2851-1430830800-1430838000@bacwa.org
SUMMARY:Permit Committee
DESCRIPTION:
URL:https://bacwa.org/event/permit-committee-3/
LOCATION:EBMUD Treatment Plant\, Library\, 2020 Wake Avenue\, Oakland\, CA\, United States
CATEGORIES:Permit
END:VEVENT
BEGIN:VEVENT
DTSTART;TZID=America/Los_Angeles:20150414T130000
DTEND;TZID=America/Los_Angeles:20150414T150000
DTSTAMP:20260419T081529
CREATED:20150306T023717Z
LAST-MODIFIED:20150323T212612Z
UID:2849-1429016400-1429023600@bacwa.org
SUMMARY:Permit Committee
DESCRIPTION:
URL:https://bacwa.org/event/permit-committee-2/
LOCATION:EBMUD Treatment Plant\, Library\, 2020 Wake Avenue\, Oakland\, CA\, United States
CATEGORIES:Permit
END:VEVENT
BEGIN:VEVENT
DTSTART;TZID=America/Los_Angeles:20150310T130000
DTEND;TZID=America/Los_Angeles:20150310T150000
DTSTAMP:20260419T081529
CREATED:20150213T044743Z
LAST-MODIFIED:20150323T212613Z
UID:180-1425992400-1425999600@bacwa.org
SUMMARY:Permit Committee
DESCRIPTION:
URL:https://bacwa.org/event/permit-committee/
LOCATION:EBMUD Treatment Plant\, Library\, 2020 Wake Avenue\, Oakland\, CA\, United States
CATEGORIES:Permit
END:VEVENT
END:VCALENDAR