BEGIN:VCALENDAR
VERSION:2.0
PRODID:-//Bay Area Clean Water Agencies - ECPv6.15.20//NONSGML v1.0//EN
CALSCALE:GREGORIAN
METHOD:PUBLISH
X-WR-CALNAME:Bay Area Clean Water Agencies
X-ORIGINAL-URL:https://bacwa.org
X-WR-CALDESC:Events for Bay Area Clean Water Agencies
REFRESH-INTERVAL;VALUE=DURATION:PT1H
X-Robots-Tag:noindex
X-PUBLISHED-TTL:PT1H
BEGIN:VTIMEZONE
TZID:America/Los_Angeles
BEGIN:DAYLIGHT
TZOFFSETFROM:-0800
TZOFFSETTO:-0700
TZNAME:PDT
DTSTART:20140309T100000
END:DAYLIGHT
BEGIN:STANDARD
TZOFFSETFROM:-0700
TZOFFSETTO:-0800
TZNAME:PST
DTSTART:20141102T090000
END:STANDARD
BEGIN:DAYLIGHT
TZOFFSETFROM:-0800
TZOFFSETTO:-0700
TZNAME:PDT
DTSTART:20150308T100000
END:DAYLIGHT
BEGIN:STANDARD
TZOFFSETFROM:-0700
TZOFFSETTO:-0800
TZNAME:PST
DTSTART:20151101T090000
END:STANDARD
BEGIN:DAYLIGHT
TZOFFSETFROM:-0800
TZOFFSETTO:-0700
TZNAME:PDT
DTSTART:20160313T100000
END:DAYLIGHT
BEGIN:STANDARD
TZOFFSETFROM:-0700
TZOFFSETTO:-0800
TZNAME:PST
DTSTART:20161106T090000
END:STANDARD
END:VTIMEZONE
BEGIN:VEVENT
DTSTART;TZID=America/Los_Angeles:20150513T100000
DTEND;TZID=America/Los_Angeles:20150513T120000
DTSTAMP:20260420T055627
CREATED:20150323T213639Z
LAST-MODIFIED:20150323T213639Z
UID:2882-1431511200-1431518400@bacwa.org
SUMMARY:Laboratory Committee Meeting
DESCRIPTION:
URL:https://bacwa.org/event/laboratory-committee-meeting-3/
LOCATION:EBMUD Treatment Plant\, Library\, 2020 Wake Avenue\, Oakland\, CA\, United States
CATEGORIES:Laboratory
END:VEVENT
BEGIN:VEVENT
DTSTART;TZID=America/Los_Angeles:20150408T100000
DTEND;TZID=America/Los_Angeles:20150408T120000
DTSTAMP:20260420T055627
CREATED:20150306T023536Z
LAST-MODIFIED:20150323T212729Z
UID:2847-1428487200-1428494400@bacwa.org
SUMMARY:Laboratory Committee Meeting
DESCRIPTION:
URL:https://bacwa.org/event/laboratory-committee-meeting-2/
LOCATION:EBMUD Treatment Plant\, Library\, 2020 Wake Avenue\, Oakland\, CA\, United States
CATEGORIES:Laboratory
END:VEVENT
BEGIN:VEVENT
DTSTART;TZID=America/Los_Angeles:20150311T100000
DTEND;TZID=America/Los_Angeles:20150311T120000
DTSTAMP:20260420T055627
CREATED:20150213T045003Z
LAST-MODIFIED:20150323T212821Z
UID:184-1426068000-1426075200@bacwa.org
SUMMARY:Laboratory Committee Meeting
DESCRIPTION:
URL:https://bacwa.org/event/laboratory-committee-meeting/
LOCATION:EBMUD Treatment Plant\, Library\, 2020 Wake Avenue\, Oakland\, CA\, United States
CATEGORIES:Laboratory
END:VEVENT
END:VCALENDAR