BEGIN:VCALENDAR
VERSION:2.0
PRODID:-//Bay Area Clean Water Agencies - ECPv6.15.20//NONSGML v1.0//EN
CALSCALE:GREGORIAN
METHOD:PUBLISH
X-WR-CALNAME:Bay Area Clean Water Agencies
X-ORIGINAL-URL:https://bacwa.org
X-WR-CALDESC:Events for Bay Area Clean Water Agencies
REFRESH-INTERVAL;VALUE=DURATION:PT1H
X-Robots-Tag:noindex
X-PUBLISHED-TTL:PT1H
BEGIN:VTIMEZONE
TZID:America/Los_Angeles
BEGIN:DAYLIGHT
TZOFFSETFROM:-0800
TZOFFSETTO:-0700
TZNAME:PDT
DTSTART:20140309T100000
END:DAYLIGHT
BEGIN:STANDARD
TZOFFSETFROM:-0700
TZOFFSETTO:-0800
TZNAME:PST
DTSTART:20141102T090000
END:STANDARD
BEGIN:DAYLIGHT
TZOFFSETFROM:-0800
TZOFFSETTO:-0700
TZNAME:PDT
DTSTART:20150308T100000
END:DAYLIGHT
BEGIN:STANDARD
TZOFFSETFROM:-0700
TZOFFSETTO:-0800
TZNAME:PST
DTSTART:20151101T090000
END:STANDARD
BEGIN:DAYLIGHT
TZOFFSETFROM:-0800
TZOFFSETTO:-0700
TZNAME:PDT
DTSTART:20160313T100000
END:DAYLIGHT
BEGIN:STANDARD
TZOFFSETFROM:-0700
TZOFFSETTO:-0800
TZNAME:PST
DTSTART:20161106T090000
END:STANDARD
BEGIN:DAYLIGHT
TZOFFSETFROM:-0800
TZOFFSETTO:-0700
TZNAME:PDT
DTSTART:20170312T100000
END:DAYLIGHT
BEGIN:STANDARD
TZOFFSETFROM:-0700
TZOFFSETTO:-0800
TZNAME:PST
DTSTART:20171105T090000
END:STANDARD
BEGIN:DAYLIGHT
TZOFFSETFROM:-0800
TZOFFSETTO:-0700
TZNAME:PDT
DTSTART:20180311T100000
END:DAYLIGHT
BEGIN:STANDARD
TZOFFSETFROM:-0700
TZOFFSETTO:-0800
TZNAME:PST
DTSTART:20181104T090000
END:STANDARD
BEGIN:DAYLIGHT
TZOFFSETFROM:-0800
TZOFFSETTO:-0700
TZNAME:PDT
DTSTART:20190310T100000
END:DAYLIGHT
BEGIN:STANDARD
TZOFFSETFROM:-0700
TZOFFSETTO:-0800
TZNAME:PST
DTSTART:20191103T090000
END:STANDARD
BEGIN:DAYLIGHT
TZOFFSETFROM:-0800
TZOFFSETTO:-0700
TZNAME:PDT
DTSTART:20200308T100000
END:DAYLIGHT
BEGIN:STANDARD
TZOFFSETFROM:-0700
TZOFFSETTO:-0800
TZNAME:PST
DTSTART:20201101T090000
END:STANDARD
BEGIN:DAYLIGHT
TZOFFSETFROM:-0800
TZOFFSETTO:-0700
TZNAME:PDT
DTSTART:20210314T100000
END:DAYLIGHT
BEGIN:STANDARD
TZOFFSETFROM:-0700
TZOFFSETTO:-0800
TZNAME:PST
DTSTART:20211107T090000
END:STANDARD
BEGIN:DAYLIGHT
TZOFFSETFROM:-0800
TZOFFSETTO:-0700
TZNAME:PDT
DTSTART:20220313T100000
END:DAYLIGHT
BEGIN:STANDARD
TZOFFSETFROM:-0700
TZOFFSETTO:-0800
TZNAME:PST
DTSTART:20221106T090000
END:STANDARD
BEGIN:DAYLIGHT
TZOFFSETFROM:-0800
TZOFFSETTO:-0700
TZNAME:PDT
DTSTART:20230312T100000
END:DAYLIGHT
BEGIN:STANDARD
TZOFFSETFROM:-0700
TZOFFSETTO:-0800
TZNAME:PST
DTSTART:20231105T090000
END:STANDARD
BEGIN:DAYLIGHT
TZOFFSETFROM:-0800
TZOFFSETTO:-0700
TZNAME:PDT
DTSTART:20240310T100000
END:DAYLIGHT
BEGIN:STANDARD
TZOFFSETFROM:-0700
TZOFFSETTO:-0800
TZNAME:PST
DTSTART:20241103T090000
END:STANDARD
BEGIN:DAYLIGHT
TZOFFSETFROM:-0800
TZOFFSETTO:-0700
TZNAME:PDT
DTSTART:20250309T100000
END:DAYLIGHT
BEGIN:STANDARD
TZOFFSETFROM:-0700
TZOFFSETTO:-0800
TZNAME:PST
DTSTART:20251102T090000
END:STANDARD
BEGIN:DAYLIGHT
TZOFFSETFROM:-0800
TZOFFSETTO:-0700
TZNAME:PDT
DTSTART:20260308T100000
END:DAYLIGHT
BEGIN:STANDARD
TZOFFSETFROM:-0700
TZOFFSETTO:-0800
TZNAME:PST
DTSTART:20261101T090000
END:STANDARD
BEGIN:DAYLIGHT
TZOFFSETFROM:-0800
TZOFFSETTO:-0700
TZNAME:PDT
DTSTART:20270314T100000
END:DAYLIGHT
BEGIN:STANDARD
TZOFFSETFROM:-0700
TZOFFSETTO:-0800
TZNAME:PST
DTSTART:20271107T090000
END:STANDARD
END:VTIMEZONE
BEGIN:VEVENT
DTSTART;TZID=America/Los_Angeles:20260407T100000
DTEND;TZID=America/Los_Angeles:20260407T123000
DTSTAMP:20260421T115028
CREATED:20260311T221135Z
LAST-MODIFIED:20260311T221135Z
UID:21161-1775556000-1775565000@bacwa.org
SUMMARY:O&M Infoshare
DESCRIPTION:The April 2026 BACWA O&M Infoshare Group meeting will be hosted at City of Sunnyvale. For details\, contact Lorien Fono.
URL:https://bacwa.org/event/om-infoshare-2025-2/
LOCATION:Sunnyvale Water Pollution Control Plant\, 1444 Borregas Ave\,\, Sunnyvale\, CA\, 94089\, United States
CATEGORIES:InfoShare Operations Group
END:VEVENT
BEGIN:VEVENT
DTSTART;TZID=America/Los_Angeles:20250924T100000
DTEND;TZID=America/Los_Angeles:20250924T120000
DTSTAMP:20260421T115028
CREATED:20250805T153836Z
LAST-MODIFIED:20250805T154132Z
UID:20017-1758708000-1758715200@bacwa.org
SUMMARY:O&M Infoshare
DESCRIPTION:The September 2025 BACWA O&M Infoshare Group meeting will be hosted at Central Marin Sanitation Agency in San Rafael. For details\, contact Mary Cousins (mc******@***wa.org)
URL:https://bacwa.org/event/om-infoshare-2025/
LOCATION:CMSA Wastewater Treatment Plant\, 1301 Andersen Drive\, San Rafael\, CA\, 94901\, United States
CATEGORIES:InfoShare Operations Group
END:VEVENT
BEGIN:VEVENT
DTSTART;TZID=America/Los_Angeles:20240822T100000
DTEND;TZID=America/Los_Angeles:20240822T130000
DTSTAMP:20260421T115028
CREATED:20240701T194233Z
LAST-MODIFIED:20240701T194233Z
UID:18431-1724320800-1724331600@bacwa.org
SUMMARY:O&M Infoshare
DESCRIPTION:The August 2024 BACWA O&M Infoshare Group meeting will be hosted at Las Gallinas Valley Sanitary District in San Rafael.  The agenda will include lunch\, a facility tour of the District’s Biogas Energy Recovery System Project\, and group discussion.  For details\, contact Mary Cousins (mc******@***wa.org)
URL:https://bacwa.org/event/om-infoshare-2-2-2/
LOCATION:CA
CATEGORIES:InfoShare Operations Group
END:VEVENT
BEGIN:VEVENT
DTSTART;TZID=America/Los_Angeles:20240221T100000
DTEND;TZID=America/Los_Angeles:20240221T130000
DTSTAMP:20260421T115028
CREATED:20240131T234123Z
LAST-MODIFIED:20240131T234302Z
UID:17514-1708509600-1708520400@bacwa.org
SUMMARY:O&M Infoshare
DESCRIPTION:The February 2024 BACWA O&M Infoshare Group meeting will be hosted at EBMUD in Oakland. The agenda will include lunch\, a plant tour\, and group discussions about several topics\, including safety and Biological Nutrient Removal (BNR).  For details\, contact Mary Cousins (mc******@***wa.org)
URL:https://bacwa.org/event/om-infoshare-2-2/
LOCATION:EBMUD Treatment Plant Maintenance Building\, 2020 Wake Ave.\, Oakland\, CA\, 94607
CATEGORIES:InfoShare Operations Group
END:VEVENT
BEGIN:VEVENT
DTSTART;TZID=America/Los_Angeles:20231107T100000
DTEND;TZID=America/Los_Angeles:20231107T130000
DTSTAMP:20260421T115028
CREATED:20231106T225631Z
LAST-MODIFIED:20231106T225631Z
UID:17210-1699351200-1699362000@bacwa.org
SUMMARY:O&M Infoshare
DESCRIPTION:The first in-person post-COVID BACWA O&M meeting will be hosted by the City of Livermore. It will include lunch and an plant tour. We will also discuss how we want to manage the group moving forward.
URL:https://bacwa.org/event/om-infoshare-2/
LOCATION:City of Livermore\, 101 West Jack London Blvd\, Livermore\, CA\, 94551\, United States
CATEGORIES:InfoShare Operations Group
END:VEVENT
BEGIN:VEVENT
DTSTART;TZID=America/Los_Angeles:20221110T100000
DTEND;TZID=America/Los_Angeles:20221110T130000
DTSTAMP:20260421T115028
CREATED:20221004T171853Z
LAST-MODIFIED:20221004T222837Z
UID:15660-1668074400-1668085200@bacwa.org
SUMMARY:O&M Infoshare Group and BACWWE - Training Discussion
DESCRIPTION:For over 15 years\, the Bay Area Consortium for Water/Wastewater Education (BACWWE) has been operating as a BACWA Program of Special Benefit\, providing technical education to students interested in working in the water industry. Originally contract education courses through Bay Area Community Colleges\, the program has recently shifted to a scholarship program\, reimbursing students for their tuition and fees related to technical water industry coursework. The program has also expanded from an Operations focus to also include students training in machinery and electronic technology. Unfortunately\, there have been very few applications for financial support over the past several semesters. \nOn November 10\, BACWWE will join the BACWA O&M Infoshare meeting to review the program accomplishments and to survey industry professionals about how BACWWE can best support a pipeline of skilled candidates into the industry.  We welcome all ideas for how to re-prioritize the focus of the program\, and would love for you and your organization to be part of the discussion. \nA Zoom option will also be available for remote participation in the discussion (10 am – 12 pm). \nThe event includes lunch and a tour of the San Jose – Santa Clara Regional Wastewater Facility for those attending in-person. San Jose Santa Clara Regional Wastewater facility is currently undergoing $2.0 billion dollars of CIP projects that will rebuild and rehabilitate existing infrastructure for various treatment processes.  During the tour visitors will be able to catch a glimpse of recently completed projects such thermophilic fixed cover digesters\, dissolved air co-thickening and floatation tanks with odor and sludge screening system\, new cogeneration engines\, emergency diesel generators\, and new headworks. Other active construction projects include secondary clarifier improvements\, various secondary valves and meter replacements\, and blower improvements.  Visitors will also able be look at the existing biological nutrient removal systems\, and tertiary treatment process which are unique to San Jose. \nRegister here
URL:https://bacwa.org/event/15660/
LOCATION:San Jose RWF\, 700 Los Esteros Road\, San Jose\, CA\, 95134\, United States
CATEGORIES:InfoShare Operations Group
END:VEVENT
BEGIN:VEVENT
DTSTART;TZID=America/Los_Angeles:20210930T090000
DTEND;TZID=America/Los_Angeles:20210930T110000
DTSTAMP:20260421T115028
CREATED:20210907T164512Z
LAST-MODIFIED:20210907T164512Z
UID:14137-1632992400-1632999600@bacwa.org
SUMMARY:O&M Infoshare Meeting
DESCRIPTION:Operations & Maintenance Infoshare Group Meeting \nFor Zoom meeting information\, email mc******@***wa.org
URL:https://bacwa.org/event/om-infoshare-meeting/
LOCATION:CA
CATEGORIES:InfoShare Operations Group
END:VEVENT
BEGIN:VEVENT
DTSTART;TZID=America/Los_Angeles:20210526T100000
DTEND;TZID=America/Los_Angeles:20210526T120000
DTSTAMP:20260421T115028
CREATED:20210301T213417Z
LAST-MODIFIED:20210301T213417Z
UID:13330-1622023200-1622030400@bacwa.org
SUMMARY:O&M Infoshare Group Meeting
DESCRIPTION:O&M Infoshare Group Meeting \nFor Zoom meeting information\, email mc******@***wa.org
URL:https://bacwa.org/event/om-infoshare-group-meeting/
LOCATION:CA
CATEGORIES:InfoShare Operations Group
END:VEVENT
BEGIN:VEVENT
DTSTART;TZID=America/Los_Angeles:20191030T100000
DTEND;TZID=America/Los_Angeles:20191030T130000
DTSTAMP:20260421T115028
CREATED:20190827T191252Z
LAST-MODIFIED:20240131T234001Z
UID:11190-1572429600-1572440400@bacwa.org
SUMMARY:InfoShare - Operations & Management Committee Meeting
DESCRIPTION:
URL:https://bacwa.org/event/infoshare-operations-management-committee-meeting-3-2-2-2-2-2-2/
LOCATION:Fairfield-Suisun Sewer Dist.\, 1010 Chadbourne Road \, Fairfield\, CA\, 94534\, United States
CATEGORIES:InfoShare Operations Group
END:VEVENT
BEGIN:VEVENT
DTSTART;TZID=America/Los_Angeles:20190724T100000
DTEND;TZID=America/Los_Angeles:20190724T130000
DTSTAMP:20260421T115028
CREATED:20190626T205526Z
LAST-MODIFIED:20190626T205526Z
UID:11104-1563962400-1563973200@bacwa.org
SUMMARY:InfoShare - Operations & Management Committee Meeting
DESCRIPTION:
URL:https://bacwa.org/event/infoshare-operations-management-committee-meeting-3-2-2-2-2/
LOCATION:City of Livermore\, 101 West Jack London Blvd\, Livermore\, CA\, 94551\, United States
CATEGORIES:InfoShare Operations Group
END:VEVENT
BEGIN:VEVENT
DTSTART;TZID=America/Los_Angeles:20190424T110000
DTEND;TZID=America/Los_Angeles:20190424T140000
DTSTAMP:20260421T115028
CREATED:20190326T235136Z
LAST-MODIFIED:20190326T235136Z
UID:10872-1556103600-1556114400@bacwa.org
SUMMARY:InfoShare - Operations & Management Committee Meeting
DESCRIPTION:
URL:https://bacwa.org/event/infoshare-operations-management-committee-meeting-3-2-2-2/
LOCATION:Sunnyvale Water Pollution Control Plant\, 1444 Borregas Ave\,\, Sunnyvale\, CA\, 94089\, United States
CATEGORIES:InfoShare Operations Group
END:VEVENT
BEGIN:VEVENT
DTSTART;TZID=America/Los_Angeles:20190123T100000
DTEND;TZID=America/Los_Angeles:20190123T130000
DTSTAMP:20260421T115028
CREATED:20190114T221701Z
LAST-MODIFIED:20190114T221701Z
UID:10617-1548237600-1548248400@bacwa.org
SUMMARY:InfoShare - Operations & Management Committee Meeting
DESCRIPTION:
URL:https://bacwa.org/event/infoshare-operations-management-committee-meeting-3-2-2/
LOCATION:delta diablo\, 2500 Pittsburg-Antioch Hwy\,\, Antioch\, CA\, CA\, 94509\, United States
CATEGORIES:InfoShare Operations Group
END:VEVENT
BEGIN:VEVENT
DTSTART;TZID=America/Los_Angeles:20180829T100000
DTEND;TZID=America/Los_Angeles:20180829T130000
DTSTAMP:20260421T115028
CREATED:20180725T210704Z
LAST-MODIFIED:20180725T210704Z
UID:6099-1535536800-1535547600@bacwa.org
SUMMARY:InfoShare - Operations & Management Committee Meeting
DESCRIPTION:
URL:https://bacwa.org/event/infoshare-operations-management-committee-meeting-3-2/
LOCATION:Oro Loma Sanitary District\, 2655 Grant Ave.\, San Lorenzo\, CA\, 94580\, United States
CATEGORIES:InfoShare Operations Group
END:VEVENT
BEGIN:VEVENT
DTSTART;TZID=America/Los_Angeles:20180425T100000
DTEND;TZID=America/Los_Angeles:20180425T130000
DTSTAMP:20260421T115028
CREATED:20180327T170942Z
LAST-MODIFIED:20180327T170942Z
UID:5811-1524650400-1524661200@bacwa.org
SUMMARY:InfoShare - Operations & Management Committee Meeting
DESCRIPTION:
URL:https://bacwa.org/event/infoshare-operations-management-committee-meeting-3/
LOCATION:EBMUD Ops Control Center Training Room\, 2020 Wake Avenue\, Oakland
CATEGORIES:InfoShare Operations Group
END:VEVENT
BEGIN:VEVENT
DTSTART;TZID=America/Los_Angeles:20170913T100000
DTEND;TZID=America/Los_Angeles:20170913T130000
DTSTAMP:20260421T115028
CREATED:20170814T203415Z
LAST-MODIFIED:20170814T203415Z
UID:5028-1505296800-1505307600@bacwa.org
SUMMARY:Ops/Maint InfoShare Group Meeting
DESCRIPTION:
URL:https://bacwa.org/event/opsmaint-infoshare-group-meeting/
LOCATION:Oro Loma Sanitary District\, 2655 Grant Ave.\, San Lorenzo\, CA\, 94580\, United States
CATEGORIES:InfoShare Operations Group
END:VEVENT
BEGIN:VEVENT
DTSTART;TZID=America/Los_Angeles:20170531T100000
DTEND;TZID=America/Los_Angeles:20170531T130000
DTSTAMP:20260421T115028
CREATED:20170424T185728Z
LAST-MODIFIED:20170502T225206Z
UID:4735-1496224800-1496235600@bacwa.org
SUMMARY:InfoShare - Operations & Management Committee Meeting
DESCRIPTION:
URL:https://bacwa.org/event/infoshare-operations-management-committee-meeting-2/
LOCATION:EBMUD Treatment Plant\, Library\, 2020 Wake Avenue\, Oakland\, CA\, United States
CATEGORIES:InfoShare Operations Group
END:VEVENT
BEGIN:VEVENT
DTSTART;TZID=America/Los_Angeles:20170125T100000
DTEND;TZID=America/Los_Angeles:20170125T130000
DTSTAMP:20260421T115028
CREATED:20161205T185255Z
LAST-MODIFIED:20161205T185255Z
UID:4373-1485338400-1485349200@bacwa.org
SUMMARY:InfoShare - Operations & Management Committee Meeting
DESCRIPTION:
URL:https://bacwa.org/event/infoshare-operations-management-committee-meeting/
LOCATION:tbd
CATEGORIES:InfoShare Operations Group
END:VEVENT
BEGIN:VEVENT
DTSTART;TZID=America/Los_Angeles:20160928T100000
DTEND;TZID=America/Los_Angeles:20160928T130000
DTSTAMP:20260421T115028
CREATED:20151111T225800Z
LAST-MODIFIED:20160927T194532Z
UID:3549-1475056800-1475067600@bacwa.org
SUMMARY:CANCELLED: InfoShare - Ops/Maint
DESCRIPTION:
URL:https://bacwa.org/event/infoshare-opsmaint-4/
LOCATION:CCCSD\, 5019 Imhoff Place\, Multi-Purpose Room\, Martinez\, CA\, 94553\, United States
CATEGORIES:InfoShare Operations Group
END:VEVENT
BEGIN:VEVENT
DTSTART;TZID=America/Los_Angeles:20160629T100000
DTEND;TZID=America/Los_Angeles:20160629T130000
DTSTAMP:20260421T115028
CREATED:20151111T225623Z
LAST-MODIFIED:20160421T204301Z
UID:3546-1467194400-1467205200@bacwa.org
SUMMARY:InfoShare - Ops/Maint
DESCRIPTION:
URL:https://bacwa.org/event/infoshare-opsmaint-2/
LOCATION:CCCSD\, 5019 Imhoff Place\, Multi-Purpose Room\, Martinez\, CA\, 94553\, United States
CATEGORIES:InfoShare Operations Group
END:VEVENT
BEGIN:VEVENT
DTSTART;TZID=America/Los_Angeles:20160224T100000
DTEND;TZID=America/Los_Angeles:20160224T130000
DTSTAMP:20260421T115028
CREATED:20151111T225208Z
LAST-MODIFIED:20151111T225208Z
UID:3544-1456308000-1456318800@bacwa.org
SUMMARY:InfoShare - Ops/Maint
DESCRIPTION:
URL:https://bacwa.org/event/infoshare-opsmaint/
LOCATION:EBDA (Oro Loma WWTP)\, 2655 Grant Ave.\, San Lorenzo\, CA\, 94580\, United States
CATEGORIES:InfoShare Operations Group
END:VEVENT
BEGIN:VEVENT
DTSTART;TZID=America/Los_Angeles:20151028T100000
DTEND;TZID=America/Los_Angeles:20151028T130000
DTSTAMP:20260421T115028
CREATED:20150820T233958Z
LAST-MODIFIED:20150904T220043Z
UID:3358-1446026400-1446037200@bacwa.org
SUMMARY:InfoShare Committee Meeting
DESCRIPTION:
URL:https://bacwa.org/event/infoshare-committee-meeting/
LOCATION:EBMUD Ops Control Center Training Room\, 2020 Wake Avenue\, Oakland
CATEGORIES:InfoShare Operations Group
END:VEVENT
BEGIN:VEVENT
DTSTART;TZID=America/Los_Angeles:20150325T100000
DTEND;TZID=America/Los_Angeles:20150325T140000
DTSTAMP:20260421T115028
CREATED:20150306T023457Z
LAST-MODIFIED:20150323T212732Z
UID:2845-1427277600-1427292000@bacwa.org
SUMMARY:InfoShare Operations Group Meeting
DESCRIPTION:
URL:https://bacwa.org/event/infoshare-operations-group-meeting/
LOCATION:EBDA Offices\, 2651 Grant Avenue\, San Lorenzo\, CA\, United States
CATEGORIES:InfoShare Operations Group
END:VEVENT
END:VCALENDAR