BEGIN:VCALENDAR
VERSION:2.0
PRODID:-//Bay Area Clean Water Agencies - ECPv6.15.20//NONSGML v1.0//EN
CALSCALE:GREGORIAN
METHOD:PUBLISH
X-ORIGINAL-URL:https://bacwa.org
X-WR-CALDESC:Events for Bay Area Clean Water Agencies
REFRESH-INTERVAL;VALUE=DURATION:PT1H
X-Robots-Tag:noindex
X-PUBLISHED-TTL:PT1H
BEGIN:VTIMEZONE
TZID:America/Los_Angeles
BEGIN:DAYLIGHT
TZOFFSETFROM:-0800
TZOFFSETTO:-0700
TZNAME:PDT
DTSTART:20140309T100000
END:DAYLIGHT
BEGIN:STANDARD
TZOFFSETFROM:-0700
TZOFFSETTO:-0800
TZNAME:PST
DTSTART:20141102T090000
END:STANDARD
BEGIN:DAYLIGHT
TZOFFSETFROM:-0800
TZOFFSETTO:-0700
TZNAME:PDT
DTSTART:20150308T100000
END:DAYLIGHT
BEGIN:STANDARD
TZOFFSETFROM:-0700
TZOFFSETTO:-0800
TZNAME:PST
DTSTART:20151101T090000
END:STANDARD
BEGIN:DAYLIGHT
TZOFFSETFROM:-0800
TZOFFSETTO:-0700
TZNAME:PDT
DTSTART:20160313T100000
END:DAYLIGHT
BEGIN:STANDARD
TZOFFSETFROM:-0700
TZOFFSETTO:-0800
TZNAME:PST
DTSTART:20161106T090000
END:STANDARD
BEGIN:DAYLIGHT
TZOFFSETFROM:-0800
TZOFFSETTO:-0700
TZNAME:PDT
DTSTART:20170312T100000
END:DAYLIGHT
BEGIN:STANDARD
TZOFFSETFROM:-0700
TZOFFSETTO:-0800
TZNAME:PST
DTSTART:20171105T090000
END:STANDARD
BEGIN:DAYLIGHT
TZOFFSETFROM:-0800
TZOFFSETTO:-0700
TZNAME:PDT
DTSTART:20180311T100000
END:DAYLIGHT
BEGIN:STANDARD
TZOFFSETFROM:-0700
TZOFFSETTO:-0800
TZNAME:PST
DTSTART:20181104T090000
END:STANDARD
BEGIN:DAYLIGHT
TZOFFSETFROM:-0800
TZOFFSETTO:-0700
TZNAME:PDT
DTSTART:20190310T100000
END:DAYLIGHT
BEGIN:STANDARD
TZOFFSETFROM:-0700
TZOFFSETTO:-0800
TZNAME:PST
DTSTART:20191103T090000
END:STANDARD
BEGIN:DAYLIGHT
TZOFFSETFROM:-0800
TZOFFSETTO:-0700
TZNAME:PDT
DTSTART:20200308T100000
END:DAYLIGHT
BEGIN:STANDARD
TZOFFSETFROM:-0700
TZOFFSETTO:-0800
TZNAME:PST
DTSTART:20201101T090000
END:STANDARD
BEGIN:DAYLIGHT
TZOFFSETFROM:-0800
TZOFFSETTO:-0700
TZNAME:PDT
DTSTART:20210314T100000
END:DAYLIGHT
BEGIN:STANDARD
TZOFFSETFROM:-0700
TZOFFSETTO:-0800
TZNAME:PST
DTSTART:20211107T090000
END:STANDARD
BEGIN:DAYLIGHT
TZOFFSETFROM:-0800
TZOFFSETTO:-0700
TZNAME:PDT
DTSTART:20220313T100000
END:DAYLIGHT
BEGIN:STANDARD
TZOFFSETFROM:-0700
TZOFFSETTO:-0800
TZNAME:PST
DTSTART:20221106T090000
END:STANDARD
BEGIN:DAYLIGHT
TZOFFSETFROM:-0800
TZOFFSETTO:-0700
TZNAME:PDT
DTSTART:20230312T100000
END:DAYLIGHT
BEGIN:STANDARD
TZOFFSETFROM:-0700
TZOFFSETTO:-0800
TZNAME:PST
DTSTART:20231105T090000
END:STANDARD
BEGIN:DAYLIGHT
TZOFFSETFROM:-0800
TZOFFSETTO:-0700
TZNAME:PDT
DTSTART:20240310T100000
END:DAYLIGHT
BEGIN:STANDARD
TZOFFSETFROM:-0700
TZOFFSETTO:-0800
TZNAME:PST
DTSTART:20241103T090000
END:STANDARD
BEGIN:DAYLIGHT
TZOFFSETFROM:-0800
TZOFFSETTO:-0700
TZNAME:PDT
DTSTART:20250309T100000
END:DAYLIGHT
BEGIN:STANDARD
TZOFFSETFROM:-0700
TZOFFSETTO:-0800
TZNAME:PST
DTSTART:20251102T090000
END:STANDARD
BEGIN:DAYLIGHT
TZOFFSETFROM:-0800
TZOFFSETTO:-0700
TZNAME:PDT
DTSTART:20260308T100000
END:DAYLIGHT
BEGIN:STANDARD
TZOFFSETFROM:-0700
TZOFFSETTO:-0800
TZNAME:PST
DTSTART:20261101T090000
END:STANDARD
BEGIN:DAYLIGHT
TZOFFSETFROM:-0800
TZOFFSETTO:-0700
TZNAME:PDT
DTSTART:20270314T100000
END:DAYLIGHT
BEGIN:STANDARD
TZOFFSETFROM:-0700
TZOFFSETTO:-0800
TZNAME:PST
DTSTART:20271107T090000
END:STANDARD
END:VTIMEZONE
BEGIN:VEVENT
DTSTART;TZID=America/Los_Angeles:20260224T100000
DTEND;TZID=America/Los_Angeles:20260224T130000
DTSTAMP:20260420T060819
CREATED:20251215T231104Z
LAST-MODIFIED:20251215T231104Z
UID:20538-1771927200-1771938000@bacwa.org
SUMMARY:Asset Management Committee Roundtable
DESCRIPTION:Asset Management Program Roundtable  \nWe invite all agencies\, large and small\, to participate.  We would like all to share\, no matter where you are in your asset management journey. \nRoundtable Discussion Questions (10 am – 12 pm) \n\nOverview of your agency’s Asset Management Program\nProgram governance and structure within your agency\nYour agency’s approach to asset definition\, classification\, naming conventions\, and hierarchy\nChallenges and creative solutions\n\nLunch will be provided following the roundtable (12 – 1 pm). An RSVP for lunch will be requested close to the meeting date.
URL:https://bacwa.org/event/asset-management-committee-roundtable/
LOCATION:West County Wastewater – Administration Building\, 2910 Hilltop Dr\, Richmond\, CA\, 94806\, United States
CATEGORIES:InfoShare Asset Management
END:VEVENT
BEGIN:VEVENT
DTSTART;TZID=America/Los_Angeles:20250820T140000
DTEND;TZID=America/Los_Angeles:20250820T150000
DTSTAMP:20260420T060819
CREATED:20250117T235201Z
LAST-MODIFIED:20250718T202245Z
UID:19087-1755698400-1755702000@bacwa.org
SUMMARY:Asset Management Committee Meeting
DESCRIPTION:Topic: Force Main Condition Assessment \nPresenter: Clinton McAdams\, Black & Veatch \nFor virtual meeting information or to join the Asset Management committee\, email mc******@***wa.org
URL:https://bacwa.org/event/asset-management-2025-2-2/
LOCATION:CA
CATEGORIES:InfoShare Asset Management
END:VEVENT
BEGIN:VEVENT
DTSTART;TZID=America/Los_Angeles:20250513T090000
DTEND;TZID=America/Los_Angeles:20250513T140000
DTSTAMP:20260420T060819
CREATED:20250117T235131Z
LAST-MODIFIED:20250505T194655Z
UID:19085-1747126800-1747144800@bacwa.org
SUMMARY:Asset Management Committee Workshop at Central San
DESCRIPTION:Link to Registration – Please register by Wednesday\, May 7th \n \n 
URL:https://bacwa.org/event/asset-management-2025-2/
LOCATION:Central Contra Costa Sanitary District Office\, 5019 Imhoff Place\, Martinez\, CA\, 94553\, United States
CATEGORIES:InfoShare Asset Management
END:VEVENT
BEGIN:VEVENT
DTSTART;TZID=America/Los_Angeles:20250226T143000
DTEND;TZID=America/Los_Angeles:20250226T153000
DTSTAMP:20260420T060819
CREATED:20250117T234602Z
LAST-MODIFIED:20250117T234624Z
UID:19083-1740580200-1740583800@bacwa.org
SUMMARY:Asset Management Committee Meeting
DESCRIPTION:Save the Date – Agenda to follow \nFor virtual meeting information or to join the Asset Management committee\, email mc******@***wa.org
URL:https://bacwa.org/event/asset-management-2025/
LOCATION:CA
CATEGORIES:InfoShare Asset Management
END:VEVENT
BEGIN:VEVENT
DTSTART;TZID=America/Los_Angeles:20240604T093000
DTEND;TZID=America/Los_Angeles:20240604T113000
DTSTAMP:20260420T060819
CREATED:20240329T181715Z
LAST-MODIFIED:20240603T173041Z
UID:18145-1717493400-1717500600@bacwa.org
SUMMARY:Asset Management Workshop
DESCRIPTION:This free workshop for BACWA Asset Managers will include a panel discussion and two presentations: \n\n\n\n\nCMMS Software Selection for Orange Water and Sewer Authority (OWASA)\, presented by Hazen and Sawyer\nElectrical Condition Assessment\, presented by HDR and ArcSine\n\nIn honor of the asset management lore stemming from the UK and Australia\, we will be serving tea sandwiches and other dainty bites.
URL:https://bacwa.org/event/asset-management-workshop/
LOCATION:Central Contra Costa Sanitary District Office\, 5019 Imhoff Place\, Martinez\, CA\, 94553\, United States
CATEGORIES:InfoShare Asset Management
END:VEVENT
BEGIN:VEVENT
DTSTART;TZID=America/Los_Angeles:20240215T133000
DTEND;TZID=America/Los_Angeles:20240215T143000
DTSTAMP:20260420T060819
CREATED:20240105T001259Z
LAST-MODIFIED:20240105T001259Z
UID:17416-1708003800-1708007400@bacwa.org
SUMMARY:Asset Management Committee Meeting
DESCRIPTION:Save the Date – Agenda to follow \nFor Zoom meeting information or to join the Asset Management committee\, email mc******@***wa.org
URL:https://bacwa.org/event/permits-committee-meeting-32-2-2-2-2-2-2-2-2-2-3-2-2-2-2-2-2-2/
LOCATION:CA
CATEGORIES:InfoShare Asset Management
END:VEVENT
BEGIN:VEVENT
DTSTART;TZID=America/Los_Angeles:20231114T133000
DTEND;TZID=America/Los_Angeles:20231114T143000
DTSTAMP:20260420T060819
CREATED:20230929T171354Z
LAST-MODIFIED:20230929T171354Z
UID:17078-1699968600-1699972200@bacwa.org
SUMMARY:Asset Management Committee Meeting
DESCRIPTION:Save the Date – Agenda to follow \nFor Zoom meeting information or to join the Asset Management committee\, email mc******@***wa.org
URL:https://bacwa.org/event/permits-committee-meeting-32-2-2-2-2-2-2-2-2-2-3-2-2-2-2-2-2/
LOCATION:CA
CATEGORIES:InfoShare Asset Management
END:VEVENT
BEGIN:VEVENT
DTSTART;TZID=America/Los_Angeles:20230509T133000
DTEND;TZID=America/Los_Angeles:20230509T143000
DTSTAMP:20260420T060819
CREATED:20230329T162547Z
LAST-MODIFIED:20230329T162547Z
UID:16406-1683639000-1683642600@bacwa.org
SUMMARY:Asset Management Committee Meeting
DESCRIPTION:Risk\, Renewal\, and Reduced Regulation: Transforming Ross Valley Sanitary District’s Regulatory-Driven O&M and Capital Programs \nFor Zoom meeting information or to join the Asset Management committee\, email mc******@***wa.org
URL:https://bacwa.org/event/permits-committee-meeting-32-2-2-2-2-2-2-2-2-2-3-2-2-2-2-2/
LOCATION:CA
CATEGORIES:InfoShare Asset Management
END:VEVENT
BEGIN:VEVENT
DTSTART;TZID=America/Los_Angeles:20230216T133000
DTEND;TZID=America/Los_Angeles:20230216T143000
DTSTAMP:20260420T060819
CREATED:20221216T221522Z
LAST-MODIFIED:20221216T221522Z
UID:15889-1676554200-1676557800@bacwa.org
SUMMARY:Asset Management Committee Meeting
DESCRIPTION:Topic: Round Table Discussion – What are your top priorities in asset management? \nFor Zoom meeting information or to join the Asset Management committee\, email mc******@***wa.org
URL:https://bacwa.org/event/permits-committee-meeting-32-2-2-2-2-2-2-2-2-2-3-2-2-2-2/
LOCATION:CA
CATEGORIES:InfoShare Asset Management
END:VEVENT
BEGIN:VEVENT
DTSTART;TZID=America/Los_Angeles:20221103T133000
DTEND;TZID=America/Los_Angeles:20221103T143000
DTSTAMP:20260420T060819
CREATED:20220901T184252Z
LAST-MODIFIED:20220901T184252Z
UID:15542-1667482200-1667485800@bacwa.org
SUMMARY:Asset Management Committee Meeting
DESCRIPTION:Meeting topic:  San Jose – Santa Clara Regional Wastewater Facility Yard Piping Project \nPresenter: Lani Good\, Black & Veatch \nFor Zoom meeting information or to join the Asset Management committee\, email mc******@***wa.org
URL:https://bacwa.org/event/permits-committee-meeting-32-2-2-2-2-2-2-2-2-2-3-2-2-2/
LOCATION:CA
CATEGORIES:InfoShare Asset Management
END:VEVENT
BEGIN:VEVENT
DTSTART;TZID=America/Los_Angeles:20220824T133000
DTEND;TZID=America/Los_Angeles:20220824T143000
DTSTAMP:20260420T060819
CREATED:20220512T034424Z
LAST-MODIFIED:20220512T034424Z
UID:15232-1661347800-1661351400@bacwa.org
SUMMARY:Asset Management Committee Meeting
DESCRIPTION:Meeting topic: Condition Assessment \nFor Zoom meeting information or to join the Asset Management committee\, email mc******@***wa.org
URL:https://bacwa.org/event/permits-committee-meeting-32-2-2-2-2-2-2-2-2-2-3-2-2/
LOCATION:CA
CATEGORIES:InfoShare Asset Management
END:VEVENT
BEGIN:VEVENT
DTSTART;TZID=America/Los_Angeles:20220510T133000
DTEND;TZID=America/Los_Angeles:20220510T143000
DTSTAMP:20260420T060819
CREATED:20220303T185203Z
LAST-MODIFIED:20220303T185203Z
UID:14791-1652189400-1652193000@bacwa.org
SUMMARY:Asset Management Committee Meeting
DESCRIPTION:Meeting topic: Change Management Regarding Computerized Maintenance Management Software (CMMS) \nFor Zoom meeting information or to join the Asset Management committee\, email mc******@***wa.org
URL:https://bacwa.org/event/permits-committee-meeting-32-2-2-2-2-2-2-2-2-2-3-2/
LOCATION:CA
CATEGORIES:InfoShare Asset Management
END:VEVENT
BEGIN:VEVENT
DTSTART;TZID=America/Los_Angeles:20220215T133000
DTEND;TZID=America/Los_Angeles:20220215T143000
DTSTAMP:20260420T060819
CREATED:20220121T001851Z
LAST-MODIFIED:20220121T001851Z
UID:14669-1644931800-1644935400@bacwa.org
SUMMARY:Asset Management Infoshare Group Meeting
DESCRIPTION:For Zoom meeting information\, email mc******@***wa.org
URL:https://bacwa.org/event/permits-committee-meeting-32-2-2-2-2-2-2-2-2-2-3/
LOCATION:CA
CATEGORIES:InfoShare Asset Management
END:VEVENT
BEGIN:VEVENT
DTSTART;TZID=America/Los_Angeles:20180516T110000
DTEND;TZID=America/Los_Angeles:20180516T130000
DTSTAMP:20260420T060819
CREATED:20170919T232930Z
LAST-MODIFIED:20180427T151712Z
UID:5194-1526468400-1526475600@bacwa.org
SUMMARY:Asset Management InfoShare Committee Meeting
DESCRIPTION:
URL:https://bacwa.org/event/asset-management-infoshare-committee-meeting-6/
LOCATION:DSRSD\, 7035 Commerce Circle\, Field Operations Facility\, Conference Room\, Pleasanton\, CA\, 94588\, United States
CATEGORIES:InfoShare Asset Management
END:VEVENT
BEGIN:VEVENT
DTSTART;TZID=America/Los_Angeles:20180221T110000
DTEND;TZID=America/Los_Angeles:20180221T130000
DTSTAMP:20260420T060819
CREATED:20170919T232844Z
LAST-MODIFIED:20171025T231641Z
UID:5192-1519210800-1519218000@bacwa.org
SUMMARY:Asset Management InfoShare Committee Meeting
DESCRIPTION:
URL:https://bacwa.org/event/asset-management-infoshare-committee-meeting-5/
LOCATION:CCCSD\, 5019 Imhoff Place\, Multi-Purpose Room\, Martinez\, CA\, 94553\, United States
CATEGORIES:InfoShare Asset Management
END:VEVENT
BEGIN:VEVENT
DTSTART;TZID=America/Los_Angeles:20171115T110000
DTEND;TZID=America/Los_Angeles:20171115T130000
DTSTAMP:20260420T060819
CREATED:20170919T232759Z
LAST-MODIFIED:20171025T231519Z
UID:5190-1510743600-1510750800@bacwa.org
SUMMARY:Asset Management InfoShare Committee Meeting
DESCRIPTION:
URL:https://bacwa.org/event/asset-management-infoshare-committee-meeting-4/
LOCATION:CCCSD\, 5019 Imhoff Place\, Multi-Purpose Room\, Martinez\, CA\, 94553\, United States
CATEGORIES:InfoShare Asset Management
END:VEVENT
BEGIN:VEVENT
DTSTART;TZID=America/Los_Angeles:20170816T110000
DTEND;TZID=America/Los_Angeles:20170816T130000
DTSTAMP:20260420T060819
CREATED:20170627T193315Z
LAST-MODIFIED:20170627T193315Z
UID:4883-1502881200-1502888400@bacwa.org
SUMMARY:Asset Management InfoShare Committee Meeting
DESCRIPTION:
URL:https://bacwa.org/event/asset-management-infoshare-committee-meeting-3/
LOCATION:EBMUD Treatment Plant\, Library\, 2020 Wake Avenue\, Oakland\, CA\, United States
CATEGORIES:InfoShare Asset Management
END:VEVENT
BEGIN:VEVENT
DTSTART;TZID=America/Los_Angeles:20170517T110000
DTEND;TZID=America/Los_Angeles:20170517T130000
DTSTAMP:20260420T060819
CREATED:20170328T171433Z
LAST-MODIFIED:20170328T171433Z
UID:4664-1495018800-1495026000@bacwa.org
SUMMARY:Asset Management InfoShare Committee Meeting
DESCRIPTION:
URL:https://bacwa.org/event/asset-management-infoshare-committee-meeting/
LOCATION:EBMUD Treatment Plant\, Library\, 2020 Wake Avenue\, Oakland\, CA\, United States
CATEGORIES:InfoShare Asset Management
END:VEVENT
BEGIN:VEVENT
DTSTART;TZID=America/Los_Angeles:20161130T110000
DTEND;TZID=America/Los_Angeles:20161130T130000
DTSTAMP:20260420T060819
CREATED:20160906T233501Z
LAST-MODIFIED:20160906T233501Z
UID:4238-1480503600-1480510800@bacwa.org
SUMMARY:InfoShare - Asset Management Committee
DESCRIPTION:
URL:https://bacwa.org/event/infoshare-asset-management-committee-2/
LOCATION:EBMUD Treatment Plant\, Library\, 2020 Wake Avenue\, Oakland\, CA\, United States
CATEGORIES:InfoShare Asset Management
END:VEVENT
BEGIN:VEVENT
DTSTART;TZID=America/Los_Angeles:20160831T110000
DTEND;TZID=America/Los_Angeles:20160831T130000
DTSTAMP:20260420T060819
CREATED:20160721T174513Z
LAST-MODIFIED:20160721T174855Z
UID:4151-1472641200-1472648400@bacwa.org
SUMMARY:InfoShare - Asset Management Committee
DESCRIPTION:AGENDA
URL:https://bacwa.org/event/infoshare-asset-management-committee/
LOCATION:Oro Loma Sanitary District\, 2655 Grant Ave.\, San Lorenzo\, CA\, 94580\, United States
CATEGORIES:InfoShare Asset Management
END:VEVENT
BEGIN:VEVENT
DTSTART;TZID=America/Los_Angeles:20160525T110000
DTEND;TZID=America/Los_Angeles:20160525T130000
DTSTAMP:20260420T060819
CREATED:20160303T184915Z
LAST-MODIFIED:20160303T185214Z
UID:3817-1464174000-1464181200@bacwa.org
SUMMARY:InfoShare - Asset Management
DESCRIPTION:AGENDA
URL:https://bacwa.org/event/infoshare-asset-management-2/
LOCATION:DSRSD\, 7035 Commerce Circle\, Field Operations Facility\, Conference Room\, Pleasanton\, CA\, 94588\, United States
CATEGORIES:InfoShare Asset Management
END:VEVENT
BEGIN:VEVENT
DTSTART;TZID=America/Los_Angeles:20160204T110000
DTEND;TZID=America/Los_Angeles:20160204T130000
DTSTAMP:20260420T060819
CREATED:20151029T225105Z
LAST-MODIFIED:20160204T161335Z
UID:3523-1454583600-1454590800@bacwa.org
SUMMARY:InfoShare - Asset Management
DESCRIPTION:
URL:https://bacwa.org/event/asset-management-infoshare-committee-meeting-2/
LOCATION:EBMUD Ops Control Center Training Room\, 2020 Wake Avenue\, Oakland
CATEGORIES:InfoShare Asset Management
END:VEVENT
BEGIN:VEVENT
DTSTART;TZID=America/Los_Angeles:20151105T110000
DTEND;TZID=America/Los_Angeles:20151105T130000
DTSTAMP:20260420T060819
CREATED:20151002T050610Z
LAST-MODIFIED:20151002T050610Z
UID:3477-1446721200-1446728400@bacwa.org
SUMMARY:InfoShare - Asset Management
DESCRIPTION:
URL:https://bacwa.org/event/infoshare-asset-management/
LOCATION:tbd
CATEGORIES:InfoShare Asset Management
END:VEVENT
END:VCALENDAR