BEGIN:VCALENDAR
VERSION:2.0
PRODID:-//Bay Area Clean Water Agencies - ECPv6.15.20//NONSGML v1.0//EN
CALSCALE:GREGORIAN
METHOD:PUBLISH
X-ORIGINAL-URL:https://bacwa.org
X-WR-CALDESC:Events for Bay Area Clean Water Agencies
REFRESH-INTERVAL;VALUE=DURATION:PT1H
X-Robots-Tag:noindex
X-PUBLISHED-TTL:PT1H
BEGIN:VTIMEZONE
TZID:America/Los_Angeles
BEGIN:DAYLIGHT
TZOFFSETFROM:-0800
TZOFFSETTO:-0700
TZNAME:PDT
DTSTART:20140309T100000
END:DAYLIGHT
BEGIN:STANDARD
TZOFFSETFROM:-0700
TZOFFSETTO:-0800
TZNAME:PST
DTSTART:20141102T090000
END:STANDARD
BEGIN:DAYLIGHT
TZOFFSETFROM:-0800
TZOFFSETTO:-0700
TZNAME:PDT
DTSTART:20150308T100000
END:DAYLIGHT
BEGIN:STANDARD
TZOFFSETFROM:-0700
TZOFFSETTO:-0800
TZNAME:PST
DTSTART:20151101T090000
END:STANDARD
BEGIN:DAYLIGHT
TZOFFSETFROM:-0800
TZOFFSETTO:-0700
TZNAME:PDT
DTSTART:20160313T100000
END:DAYLIGHT
BEGIN:STANDARD
TZOFFSETFROM:-0700
TZOFFSETTO:-0800
TZNAME:PST
DTSTART:20161106T090000
END:STANDARD
BEGIN:DAYLIGHT
TZOFFSETFROM:-0800
TZOFFSETTO:-0700
TZNAME:PDT
DTSTART:20170312T100000
END:DAYLIGHT
BEGIN:STANDARD
TZOFFSETFROM:-0700
TZOFFSETTO:-0800
TZNAME:PST
DTSTART:20171105T090000
END:STANDARD
BEGIN:DAYLIGHT
TZOFFSETFROM:-0800
TZOFFSETTO:-0700
TZNAME:PDT
DTSTART:20180311T100000
END:DAYLIGHT
BEGIN:STANDARD
TZOFFSETFROM:-0700
TZOFFSETTO:-0800
TZNAME:PST
DTSTART:20181104T090000
END:STANDARD
BEGIN:DAYLIGHT
TZOFFSETFROM:-0800
TZOFFSETTO:-0700
TZNAME:PDT
DTSTART:20190310T100000
END:DAYLIGHT
BEGIN:STANDARD
TZOFFSETFROM:-0700
TZOFFSETTO:-0800
TZNAME:PST
DTSTART:20191103T090000
END:STANDARD
BEGIN:DAYLIGHT
TZOFFSETFROM:-0800
TZOFFSETTO:-0700
TZNAME:PDT
DTSTART:20200308T100000
END:DAYLIGHT
BEGIN:STANDARD
TZOFFSETFROM:-0700
TZOFFSETTO:-0800
TZNAME:PST
DTSTART:20201101T090000
END:STANDARD
BEGIN:DAYLIGHT
TZOFFSETFROM:-0800
TZOFFSETTO:-0700
TZNAME:PDT
DTSTART:20210314T100000
END:DAYLIGHT
BEGIN:STANDARD
TZOFFSETFROM:-0700
TZOFFSETTO:-0800
TZNAME:PST
DTSTART:20211107T090000
END:STANDARD
BEGIN:DAYLIGHT
TZOFFSETFROM:-0800
TZOFFSETTO:-0700
TZNAME:PDT
DTSTART:20220313T100000
END:DAYLIGHT
BEGIN:STANDARD
TZOFFSETFROM:-0700
TZOFFSETTO:-0800
TZNAME:PST
DTSTART:20221106T090000
END:STANDARD
BEGIN:DAYLIGHT
TZOFFSETFROM:-0800
TZOFFSETTO:-0700
TZNAME:PDT
DTSTART:20230312T100000
END:DAYLIGHT
BEGIN:STANDARD
TZOFFSETFROM:-0700
TZOFFSETTO:-0800
TZNAME:PST
DTSTART:20231105T090000
END:STANDARD
BEGIN:DAYLIGHT
TZOFFSETFROM:-0800
TZOFFSETTO:-0700
TZNAME:PDT
DTSTART:20240310T100000
END:DAYLIGHT
BEGIN:STANDARD
TZOFFSETFROM:-0700
TZOFFSETTO:-0800
TZNAME:PST
DTSTART:20241103T090000
END:STANDARD
BEGIN:DAYLIGHT
TZOFFSETFROM:-0800
TZOFFSETTO:-0700
TZNAME:PDT
DTSTART:20250309T100000
END:DAYLIGHT
BEGIN:STANDARD
TZOFFSETFROM:-0700
TZOFFSETTO:-0800
TZNAME:PST
DTSTART:20251102T090000
END:STANDARD
BEGIN:DAYLIGHT
TZOFFSETFROM:-0800
TZOFFSETTO:-0700
TZNAME:PDT
DTSTART:20260308T100000
END:DAYLIGHT
BEGIN:STANDARD
TZOFFSETFROM:-0700
TZOFFSETTO:-0800
TZNAME:PST
DTSTART:20261101T090000
END:STANDARD
BEGIN:DAYLIGHT
TZOFFSETFROM:-0800
TZOFFSETTO:-0700
TZNAME:PDT
DTSTART:20270314T100000
END:DAYLIGHT
BEGIN:STANDARD
TZOFFSETFROM:-0700
TZOFFSETTO:-0800
TZNAME:PST
DTSTART:20271107T090000
END:STANDARD
END:VTIMEZONE
BEGIN:VEVENT
DTSTART;TZID=America/Los_Angeles:20260413T100000
DTEND;TZID=America/Los_Angeles:20260413T120000
DTSTAMP:20260420T061507
CREATED:20251209T003620Z
LAST-MODIFIED:20260209T223740Z
UID:20475-1776074400-1776081600@bacwa.org
SUMMARY:Bay Area Biosolids Coalition Meeting
DESCRIPTION:The Bay Area Biosolids Coalition will meet in hybrid format. The in-person location is Silicon Valley Clean Water. \nAn MS Teams link will be available for those that cannot join in person. \nFor the virtual link\, agenda\, or other details\, please contact Christine Polo.
URL:https://bacwa.org/event/biosolids-meeting-2026-04/
LOCATION:Silicon Valley Clean Water\, 1400 Radio Road \, Redwood City\, CA\, United States
CATEGORIES:Biosolids
END:VEVENT
BEGIN:VEVENT
DTSTART;TZID=America/Los_Angeles:20260209T100000
DTEND;TZID=America/Los_Angeles:20260209T120000
DTSTAMP:20260420T061507
CREATED:20251209T003707Z
LAST-MODIFIED:20251209T003707Z
UID:20477-1770631200-1770638400@bacwa.org
SUMMARY:Bay Area Biosolids Coalition Meeting
DESCRIPTION:The Bay Area Biosolids Coalition will meet on MS Teams. \nFor the meeting link\, agenda\, or other details\, please contact Christine Polo.
URL:https://bacwa.org/event/biosolids-meeting-2026-02/
CATEGORIES:Biosolids
END:VEVENT
BEGIN:VEVENT
DTSTART;TZID=America/Los_Angeles:20251201T100000
DTEND;TZID=America/Los_Angeles:20251201T120000
DTSTAMP:20260420T061507
CREATED:20251110T222234Z
LAST-MODIFIED:20251110T222234Z
UID:20388-1764583200-1764590400@bacwa.org
SUMMARY:Bay Area Biosolids Coalition Meeting
DESCRIPTION:The Bay Area Biosolids Coalition will meet in hybrid format. \nThe meeting will be followed by lunch for in-person attendees. \nAn MS Teams link will be available for those that cannot join in person. \nFor the virtual link\, agenda\, or other details\, please contact Christine Polo.
URL:https://bacwa.org/event/biosolids-meeting-2025-12/
CATEGORIES:Biosolids
END:VEVENT
BEGIN:VEVENT
DTSTART;TZID=America/Los_Angeles:20251020T100000
DTEND;TZID=America/Los_Angeles:20251020T120000
DTSTAMP:20260420T061507
CREATED:20250624T183544Z
LAST-MODIFIED:20250909T154302Z
UID:19974-1760954400-1760961600@bacwa.org
SUMMARY:Bay Area Biosolids Coalition Meeting
DESCRIPTION:The Bay Area Biosolids Coalition will meet on MS Teams. \nFor the meeting link\, agenda\, or other details\, please contact Christine Polo.
URL:https://bacwa.org/event/biosolids-meeting-2025-10/
CATEGORIES:Biosolids
END:VEVENT
BEGIN:VEVENT
DTSTART;TZID=America/Los_Angeles:20250911T133000
DTEND;TZID=America/Los_Angeles:20250911T143000
DTSTAMP:20260420T061507
CREATED:20250908T223431Z
LAST-MODIFIED:20250908T223459Z
UID:20111-1757597400-1757601000@bacwa.org
SUMMARY:Biosolids and PFAS Communications Strategy
DESCRIPTION:The Bay Area Biosolids Coalition and BACWA Communications Steering Committee will convene to discuss biosolids and PFAS communications strategy. \nFor the meeting link\, agenda\, or other details\, please contact Lorien Fono.
URL:https://bacwa.org/event/biosolids-pfas/
CATEGORIES:Biosolids
END:VEVENT
BEGIN:VEVENT
DTSTART;TZID=America/Los_Angeles:20250818T100000
DTEND;TZID=America/Los_Angeles:20250818T120000
DTSTAMP:20260420T061507
CREATED:20250624T183429Z
LAST-MODIFIED:20250805T154106Z
UID:19972-1755511200-1755518400@bacwa.org
SUMMARY:Bay Area Biosolids Coalition Meeting
DESCRIPTION:The Bay Area Biosolids Coalition will meet in-person at Central San’s Wastewater Treatment Plant. \nAn MS Teams link will be available for those that cannot join in person. \nFor the virtual link\, agenda\, or other details\, please contact Christine Polo.
URL:https://bacwa.org/event/biosolids-meeting-2025-08/
LOCATION:Central Contra Costa Sanitary District Office\, 5019 Imhoff Place\, Martinez\, CA\, 94553\, United States
CATEGORIES:Biosolids
END:VEVENT
BEGIN:VEVENT
DTSTART;TZID=America/Los_Angeles:20250609T100000
DTEND;TZID=America/Los_Angeles:20250609T120000
DTSTAMP:20260420T061507
CREATED:20250515T175302Z
LAST-MODIFIED:20250515T175302Z
UID:19870-1749463200-1749470400@bacwa.org
SUMMARY:Bay Area Biosolids Coalition Meeting
DESCRIPTION:The Bay Area Biosolids Coalition will meet virtually. Guest speakers from Brown & Caldwell will present about foam fractionation for PFAS removal. \nFor the MS Teams link\, please contact Christine Polo.
URL:https://bacwa.org/event/biosolids-meeting-2025-06/
CATEGORIES:Biosolids
END:VEVENT
BEGIN:VEVENT
DTSTART;TZID=America/Los_Angeles:20231113T090000
DTEND;TZID=America/Los_Angeles:20231113T100000
DTSTAMP:20260420T061507
CREATED:20231106T184536Z
LAST-MODIFIED:20231106T215843Z
UID:17204-1699866000-1699869600@bacwa.org
SUMMARY:Roundtable Discussion on Biosolids Projects
DESCRIPTION:Members are invited to come share what’s happening with biosolids at your agency! \nThe Bay Area Biosolids Coalition is hosting a virtual roundtable discussion on biosolids projects in the greater Bay Area. Please come share your agency’s ongoing or planned changes to: \n\nBiosolids treatment\, dewatering\, and storage\nHauled waste receiving and biogas production\nBiosolids end uses in land application\, compost\, and other uses\n\nThis will be a great opportunity to hear what your neighboring agencies are planning\, and to identify agencies that may be pursuing similar strategies to yours! The roundtable discussion will be held beginning at 9 am on MS Teams. For meeting link\, contact Mary Cousins.
URL:https://bacwa.org/event/roundtable-discussion-on-biosolids-projects/
CATEGORIES:Biosolids
END:VEVENT
BEGIN:VEVENT
DTSTART;TZID=America/Los_Angeles:20221114T110000
DTEND;TZID=America/Los_Angeles:20221114T120000
DTSTAMP:20260420T061507
CREATED:20221022T000416Z
LAST-MODIFIED:20221022T000416Z
UID:15719-1668423600-1668427200@bacwa.org
SUMMARY:Biosolids Committee Meeting
DESCRIPTION:The Bay Area Biosolids Coalition will be using part of their upcoming meeting to provide time for a regional biosolids infoshare. This is an opportunity for all agencies in our region\, whether or not they are BAB Coalition members\, to discuss the status of their biosolids programs\, biosolids master planning efforts\, or other developing biosolids initiatives. \nThe infoshare portion of the meeting will run from 11am to noon. It will be a hybrid meeting via MS Teams and at Carollo’s Walnut Creek office \nFor the MS Teams link or directions\, please contact Katy Solem.
URL:https://bacwa.org/event/biosolids-committee-meeting-11/
CATEGORIES:Biosolids
END:VEVENT
BEGIN:VEVENT
DTSTART;TZID=America/Los_Angeles:20180920T103000
DTEND;TZID=America/Los_Angeles:20180920T133000
DTSTAMP:20260420T061507
CREATED:20170923T002732Z
LAST-MODIFIED:20180725T201509Z
UID:5239-1537439400-1537450200@bacwa.org
SUMMARY:Biosolids Committee Meeting
DESCRIPTION:
URL:https://bacwa.org/event/biosolids-committee-meeting-13/
LOCATION:Santa Rosa Compost Facility – park at treatment plant\, 4300 Llano Rd Santa Rosa\, Ca 95407\, CA\, United States
CATEGORIES:Biosolids
END:VEVENT
BEGIN:VEVENT
DTSTART;TZID=America/Los_Angeles:20180424T100000
DTEND;TZID=America/Los_Angeles:20180424T120000
DTSTAMP:20260420T061507
CREATED:20170923T002652Z
LAST-MODIFIED:20180418T193942Z
UID:5237-1524564000-1524571200@bacwa.org
SUMMARY:Biosolids Committee Meeting
DESCRIPTION:
URL:https://bacwa.org/event/biosolids-committee-meeting-12/
LOCATION:San Jose Admin Conference Room C\, 700 Los Esteros Road\, San Jose\, CA\, 95134\, United States
CATEGORIES:Biosolids
END:VEVENT
BEGIN:VEVENT
DTSTART;TZID=America/Los_Angeles:20171019T100000
DTEND;TZID=America/Los_Angeles:20171019T120000
DTSTAMP:20260420T061507
CREATED:20170918T155333Z
LAST-MODIFIED:20170918T155333Z
UID:5136-1508407200-1508414400@bacwa.org
SUMMARY:Biosolids Committee Meeting
DESCRIPTION:Please join us for the next BACWA Biosolids Committee meeting on October 19\, 2017 from 10:00 AM to 12:00 PM at the William and Cloy Codiga Resource Recovery Center (CR2C) at Stanford. We will tour the first-of-its-kind pilot-scale testing facility\, which uses novel core wastewater treatment infrastructure including the SAF-MBR\, an anaerobic secondary treatment system that could yield energy-positive wastewater treatment and substantial reductions in biosolids. The facility also features test beds for flexible analysis of mobile treatment systems and novel sensors fed multiple grades of water. We will hear about how the CR2C at Stanford eases the path to commercialization for promising technologies by providing a unique\, low-risk proving ground. Fact sheet is attached with additional details. \nLunch will be provided. Please RSVP to Sofia Kolidas by Friday\, October 13\, 2017 (so***********@***ud.com). \nBACWA Biosolids Committee Meeting\nLocation:             Stanford Campus \nAddress:              692 Pampas Lane\, Stanford\, CA 9305 (Note: Address is misplaced in Apple Maps; Google Maps is correct)\nDate:                     Thursday\, October 19\, 2017\nTime:                    10:00 AM – 12:00 PM \nAdditional Driving Details: \nAs you turn onto Pampas Lane\, you will see the Stanford Credit Union on your left. Turn left into the Credit Union’s parking lot\, you will see a gate labeled 692 Pampas Lane behind the Credit Union. Pull in through the gate\, you will find yourself on the Codiga Center site and can park there. Note that Stanford is currently undergoing substantial construction around CR2C that may add 5 minutes to your transit time. \nIf you have any trouble finding the site\, you can contact Sebastien Tilmans at 650 724 6893.
URL:https://bacwa.org/event/biosolids-committee-meeting-10/
LOCATION:Stanford Campus CR2C\, CA\, 94305\, United States
CATEGORIES:Biosolids
END:VEVENT
BEGIN:VEVENT
DTSTART;TZID=America/Los_Angeles:20170720T090000
DTEND;TZID=America/Los_Angeles:20170720T123000
DTSTAMP:20260420T061507
CREATED:20170623T170336Z
LAST-MODIFIED:20170623T170336Z
UID:4876-1500541200-1500553800@bacwa.org
SUMMARY:Biosolids Committee Meeting
DESCRIPTION:Please join us for the next BACWA Biosolids Committee meeting on July 20\, 2017 from 9:00 AM to 12:30 PM at the Sacramento Regional County Sanitation District. We will tour both the Synagro Pelletizer Facility and the Sac Regional Echo Water Project (Agenda is attached). Lunch will be provided. Please RSVP to Sofia Kolidas by Friday\, July 14\, 2017 (so***********@***ud.com).
URL:https://bacwa.org/event/biosolids-committee-meeting-9/
LOCATION:Sac Reg’l Co San Dist\, 8600 Laguna Station Rd.\, Elk Grove\, CA\, 95758\, United States
CATEGORIES:Biosolids
END:VEVENT
BEGIN:VEVENT
DTSTART;TZID=America/Los_Angeles:20170309T093000
DTEND;TZID=America/Los_Angeles:20170309T123000
DTSTAMP:20260420T061507
CREATED:20170216T175152Z
LAST-MODIFIED:20170221T184128Z
UID:4588-1489051800-1489062600@bacwa.org
SUMMARY:Biosolids and Permits Committees - Joint Meeting with CASA Regulatory Workgroup
DESCRIPTION:
URL:https://bacwa.org/event/biosolids-committee-meeting-6/
LOCATION:Boy Scouts of America\, 1001 Davis St. \, San Leandro\, CA\, United States
CATEGORIES:Biosolids
END:VEVENT
BEGIN:VEVENT
DTSTART;TZID=America/Los_Angeles:20170119T103000
DTEND;TZID=America/Los_Angeles:20170119T130000
DTSTAMP:20260420T061507
CREATED:20170109T231321Z
LAST-MODIFIED:20170109T231321Z
UID:4478-1484821800-1484830800@bacwa.org
SUMMARY:Biosolids Committee Meeting
DESCRIPTION:
URL:https://bacwa.org/event/biosolids-committee-meeting-5/
LOCATION:SFPUC Conf\, 525GG\, 4th\, San Joaquin\, 525 Golden Gate Ave\, San Francisco\, CA\, 94102\, United States
CATEGORIES:Biosolids
END:VEVENT
BEGIN:VEVENT
DTSTART;TZID=America/Los_Angeles:20161020T100000
DTEND;TZID=America/Los_Angeles:20161020T120000
DTSTAMP:20260420T061507
CREATED:20161003T213840Z
LAST-MODIFIED:20161003T213840Z
UID:4280-1476957600-1476964800@bacwa.org
SUMMARY:Biosolids Committee Meeting
DESCRIPTION:
URL:https://bacwa.org/event/biosolids-committee-meeting-2/
LOCATION:Fairfield-Suisun Sewer District\, 1010 Chadbourne Rd\, Fairfield\, CA\, 94534\, United States
CATEGORIES:Biosolids
END:VEVENT
BEGIN:VEVENT
DTSTART;TZID=America/Los_Angeles:20160721T103000
DTEND;TZID=America/Los_Angeles:20160721T130000
DTSTAMP:20260420T061507
CREATED:20150820T235558Z
LAST-MODIFIED:20160531T154051Z
UID:3373-1469097000-1469106000@bacwa.org
SUMMARY:Biosolids Committee Meeting
DESCRIPTION:
URL:https://bacwa.org/event/biosolids-committee-meeting-4/
CATEGORIES:Biosolids
END:VEVENT
BEGIN:VEVENT
DTSTART;TZID=America/Los_Angeles:20160421T103000
DTEND;TZID=America/Los_Angeles:20160421T130000
DTSTAMP:20260420T061507
CREATED:20150820T235532Z
LAST-MODIFIED:20160401T213345Z
UID:3372-1461234600-1461243600@bacwa.org
SUMMARY:Biosolids Committee Meeting
DESCRIPTION:Fairfield-Suisun Sewer District – 2nd Floor Conference and Training Room \n1010 Chadbourne Road \nFairfield\, CA 94534 \n  \nRSVP to: Karla Guevarra (KG*******@*****er.org)
URL:https://bacwa.org/event/biosolids-committee-meeting-3/
LOCATION:Fairfield-Suisun Sewer Dist.\, 1010 Chadbourne Road \, Fairfield\, CA\, 94534\, United States
CATEGORIES:Biosolids
END:VEVENT
BEGIN:VEVENT
DTSTART;TZID=America/Los_Angeles:20160121T113000
DTEND;TZID=America/Los_Angeles:20160121T133000
DTSTAMP:20260420T061507
CREATED:20160104T173646Z
LAST-MODIFIED:20160104T173646Z
UID:3661-1453375800-1453383000@bacwa.org
SUMMARY:Biosolids Committee Meeting
DESCRIPTION:BACWA Biosolids Committee Meeting\nLocation: CMSA Wastewater Treatment Plant (1301 Andersen Drive\, San Rafael\, CA 94901)\nDate: Thursday\, January 21\, 2016\nTime: 11:30 AM – 1:30 PM
URL:https://bacwa.org/event/biosolids-committee-meeting-8/
LOCATION:CMSA Wastewater Treatment Plant\, 1301 Andersen Drive\, San Rafael\, CA\, 94901\, United States
CATEGORIES:Biosolids
END:VEVENT
BEGIN:VEVENT
DTSTART;TZID=America/Los_Angeles:20151022T093000
DTEND;TZID=America/Los_Angeles:20151022T120000
DTSTAMP:20260420T061507
CREATED:20150915T185900Z
LAST-MODIFIED:20150915T185900Z
UID:3424-1445506200-1445515200@bacwa.org
SUMMARY:Biosolids Committee Meeting
DESCRIPTION:
URL:https://bacwa.org/event/biosolids-committee-meeting-7/
LOCATION:EBMUD Treatment Plant\, Library\, 2020 Wake Avenue\, Oakland\, CA\, United States
CATEGORIES:Biosolids
END:VEVENT
BEGIN:VEVENT
DTSTART;TZID=America/Los_Angeles:20150625T103000
DTEND;TZID=America/Los_Angeles:20150625T130000
DTSTAMP:20260420T061507
CREATED:20150520T192812Z
LAST-MODIFIED:20150520T193212Z
UID:3127-1435228200-1435237200@bacwa.org
SUMMARY:Biosolids Committee Meeting
DESCRIPTION:Please join us for the next BACWA Biosolids Committee meeting and tour on June 25\, 2015 from 10:30 AM to 1:00 PM in Santa Rosa. In addition to regular meeting items and updates\, we will tour the Laguna Composting Facility\, which composts biosolids and green waste. Please wear boots and a hard hat. Lunch will be provided. Please RSVP to co-chair Karla Guevarra by Monday\, June 22\, 2015 (kG*******@*****er.org). \nDue to limited parking at the Laguna Composting Facility\, we will meet at the Laguna Treatment Plant at the address below. (If you are running late and need to catch the tour in progress\, the composting facility is directly across the road from the treatment plant entrance.) \nBACWA Biosolids Committee Meeting: Meeting and Tour of the Laguna Composting Facility\nLocation: Laguna Treatment Plant (4300 Llano Road / Santa Rosa\, CA 95407)\nDate: Thursday\, June 25\, 2015\nTime: 10:30 AM – 1:00 PM
URL:https://bacwa.org/event/biosolids-committee-meeting/
CATEGORIES:Biosolids
END:VEVENT
BEGIN:VEVENT
DTSTART;TZID=America/Los_Angeles:20150226T103000
DTEND;TZID=America/Los_Angeles:20150226T130000
DTSTAMP:20260420T061507
CREATED:20150213T044629Z
LAST-MODIFIED:20150323T212920Z
UID:178-1424946600-1424955600@bacwa.org
SUMMARY:BACWA Biosolids Committee Meeting
DESCRIPTION:Please join us for the next BACWA Biosolids Committee Meeting and tour onFebruary 26\, 2015 from 10:30 AM to 1:00 PM in Redwood City.  In addition to regular meeting items and updates\, we will tour the BioForce biological dryer and pyrolysis system and receive an overview of the City of San Mateo’s biogas to CNG project. Lunch will also be provided. Please RSVP to co-chair Karla Gueverra by Monday\, February 23\, 2015 (kG*******@*****er.org).
URL:https://bacwa.org/event/bacwa-biosolids-committee-meeting/
LOCATION:Silicon Valley Clean Water\, 1400 Radio Road \, Redwood City\, CA\, United States
CATEGORIES:Biosolids
END:VEVENT
END:VCALENDAR