BEGIN:VCALENDAR
VERSION:2.0
PRODID:-//Bay Area Clean Water Agencies - ECPv6.15.20//NONSGML v1.0//EN
CALSCALE:GREGORIAN
METHOD:PUBLISH
X-ORIGINAL-URL:https://bacwa.org
X-WR-CALDESC:Events for Bay Area Clean Water Agencies
REFRESH-INTERVAL;VALUE=DURATION:PT1H
X-Robots-Tag:noindex
X-PUBLISHED-TTL:PT1H
BEGIN:VTIMEZONE
TZID:America/Los_Angeles
BEGIN:DAYLIGHT
TZOFFSETFROM:-0800
TZOFFSETTO:-0700
TZNAME:PDT
DTSTART:20140309T100000
END:DAYLIGHT
BEGIN:STANDARD
TZOFFSETFROM:-0700
TZOFFSETTO:-0800
TZNAME:PST
DTSTART:20141102T090000
END:STANDARD
BEGIN:DAYLIGHT
TZOFFSETFROM:-0800
TZOFFSETTO:-0700
TZNAME:PDT
DTSTART:20150308T100000
END:DAYLIGHT
BEGIN:STANDARD
TZOFFSETFROM:-0700
TZOFFSETTO:-0800
TZNAME:PST
DTSTART:20151101T090000
END:STANDARD
BEGIN:DAYLIGHT
TZOFFSETFROM:-0800
TZOFFSETTO:-0700
TZNAME:PDT
DTSTART:20160313T100000
END:DAYLIGHT
BEGIN:STANDARD
TZOFFSETFROM:-0700
TZOFFSETTO:-0800
TZNAME:PST
DTSTART:20161106T090000
END:STANDARD
BEGIN:DAYLIGHT
TZOFFSETFROM:-0800
TZOFFSETTO:-0700
TZNAME:PDT
DTSTART:20170312T100000
END:DAYLIGHT
BEGIN:STANDARD
TZOFFSETFROM:-0700
TZOFFSETTO:-0800
TZNAME:PST
DTSTART:20171105T090000
END:STANDARD
END:VTIMEZONE
BEGIN:VEVENT
DTSTART;TZID=America/Los_Angeles:20160615T100000
DTEND;TZID=America/Los_Angeles:20160615T130000
DTSTAMP:20260420T040206
CREATED:20160531T210653Z
LAST-MODIFIED:20160531T210653Z
UID:4031-1465984800-1465995600@bacwa.org
SUMMARY:AIR Committee Meeting
DESCRIPTION:The next BACWA AIR Committee Meeting will be conducted on Wednesday\, June 15\, 2016 at BAAQMD’s New Headquarters in San Francisco.  This will be our annual meeting with BAAQMD staff\, led by Supervising Air Quality Engineer Brenda Cabral. A continental breakfast and lunch will be provided. \nConference Call Info: \nCall-in Number: 866-203-7023 \nConference Code: 641-679-4064 \nPlease RSVP to Sydney Saunders for catering purposes no later than close of business Friday\, June 10\, 2016.  When you RSVP\, please indicate if you plan on calling-in rather than attending in person.
URL:https://bacwa.org/event/air-committee-meeting-4/
LOCATION:CA
CATEGORIES:Air Issues & Regulations (AIR)
END:VEVENT
BEGIN:VEVENT
DTSTART;TZID=America/Los_Angeles:20160309T100000
DTEND;TZID=America/Los_Angeles:20160309T130000
DTSTAMP:20260420T040206
CREATED:20150702T004020Z
LAST-MODIFIED:20160127T184018Z
UID:3221-1457517600-1457528400@bacwa.org
SUMMARY:AIR Committee Meeting
DESCRIPTION:
URL:https://bacwa.org/event/air-committee-meeting-3/
LOCATION:CH2M Offices\, 155 Grand Ave.\, Suite 800\, Oakland\, CA
CATEGORIES:Air Issues & Regulations (AIR)
END:VEVENT
BEGIN:VEVENT
DTSTART;TZID=America/Los_Angeles:20151210T100000
DTEND;TZID=America/Los_Angeles:20151210T130000
DTSTAMP:20260420T040206
CREATED:20150702T003908Z
LAST-MODIFIED:20151007T172355Z
UID:3220-1449741600-1449752400@bacwa.org
SUMMARY:AIR Committee Meeting
DESCRIPTION:
URL:https://bacwa.org/event/air-committee-meeting-2/
LOCATION:Union Sanitary Dist\, 5072 Benson Rd.\, Union City\, CA\, 94587
CATEGORIES:Air Issues & Regulations (AIR)
END:VEVENT
BEGIN:VEVENT
DTSTART;TZID=America/Los_Angeles:20150909T100000
DTEND;TZID=America/Los_Angeles:20150909T130000
DTSTAMP:20260420T040206
CREATED:20150702T003727Z
LAST-MODIFIED:20150729T015412Z
UID:3218-1441792800-1441803600@bacwa.org
SUMMARY:AIR Committee Meeting
DESCRIPTION:
URL:https://bacwa.org/event/air-committee-meeting/
LOCATION:CH2M Offices\, 155 Grand Ave.\, Suite 800\, Oakland\, CA
CATEGORIES:Air Issues & Regulations (AIR)
END:VEVENT
BEGIN:VEVENT
DTSTART;TZID=America/Los_Angeles:20150513T100000
DTEND;TZID=America/Los_Angeles:20150513T130000
DTSTAMP:20260420T040206
CREATED:20150323T213547Z
LAST-MODIFIED:20150505T000633Z
UID:2881-1431511200-1431522000@bacwa.org
SUMMARY:Air Issues & Regulations (AIR) Committee
DESCRIPTION:
URL:https://bacwa.org/event/air-issues-regulations-air-committee-2/
LOCATION:BAAQMD Headquarters\, 375 Beale St.\, San Francisco\, CA\, 94105\, United States
CATEGORIES:Air Issues & Regulations (AIR)
END:VEVENT
END:VCALENDAR