BEGIN:VCALENDAR
VERSION:2.0
PRODID:-//Bay Area Clean Water Agencies - ECPv6.15.20//NONSGML v1.0//EN
CALSCALE:GREGORIAN
METHOD:PUBLISH
X-ORIGINAL-URL:https://bacwa.org
X-WR-CALDESC:Events for Bay Area Clean Water Agencies
REFRESH-INTERVAL;VALUE=DURATION:PT1H
X-Robots-Tag:noindex
X-PUBLISHED-TTL:PT1H
BEGIN:VTIMEZONE
TZID:America/Los_Angeles
BEGIN:DAYLIGHT
TZOFFSETFROM:-0800
TZOFFSETTO:-0700
TZNAME:PDT
DTSTART:20170312T100000
END:DAYLIGHT
BEGIN:STANDARD
TZOFFSETFROM:-0700
TZOFFSETTO:-0800
TZNAME:PST
DTSTART:20171105T090000
END:STANDARD
BEGIN:DAYLIGHT
TZOFFSETFROM:-0800
TZOFFSETTO:-0700
TZNAME:PDT
DTSTART:20180311T100000
END:DAYLIGHT
BEGIN:STANDARD
TZOFFSETFROM:-0700
TZOFFSETTO:-0800
TZNAME:PST
DTSTART:20181104T090000
END:STANDARD
BEGIN:DAYLIGHT
TZOFFSETFROM:-0800
TZOFFSETTO:-0700
TZNAME:PDT
DTSTART:20190310T100000
END:DAYLIGHT
BEGIN:STANDARD
TZOFFSETFROM:-0700
TZOFFSETTO:-0800
TZNAME:PST
DTSTART:20191103T090000
END:STANDARD
BEGIN:DAYLIGHT
TZOFFSETFROM:-0800
TZOFFSETTO:-0700
TZNAME:PDT
DTSTART:20200308T100000
END:DAYLIGHT
BEGIN:STANDARD
TZOFFSETFROM:-0700
TZOFFSETTO:-0800
TZNAME:PST
DTSTART:20201101T090000
END:STANDARD
BEGIN:DAYLIGHT
TZOFFSETFROM:-0800
TZOFFSETTO:-0700
TZNAME:PDT
DTSTART:20210314T100000
END:DAYLIGHT
BEGIN:STANDARD
TZOFFSETFROM:-0700
TZOFFSETTO:-0800
TZNAME:PST
DTSTART:20211107T090000
END:STANDARD
BEGIN:DAYLIGHT
TZOFFSETFROM:-0800
TZOFFSETTO:-0700
TZNAME:PDT
DTSTART:20220313T100000
END:DAYLIGHT
BEGIN:STANDARD
TZOFFSETFROM:-0700
TZOFFSETTO:-0800
TZNAME:PST
DTSTART:20221106T090000
END:STANDARD
BEGIN:DAYLIGHT
TZOFFSETFROM:-0800
TZOFFSETTO:-0700
TZNAME:PDT
DTSTART:20230312T100000
END:DAYLIGHT
BEGIN:STANDARD
TZOFFSETFROM:-0700
TZOFFSETTO:-0800
TZNAME:PST
DTSTART:20231105T090000
END:STANDARD
BEGIN:DAYLIGHT
TZOFFSETFROM:-0800
TZOFFSETTO:-0700
TZNAME:PDT
DTSTART:20240310T100000
END:DAYLIGHT
BEGIN:STANDARD
TZOFFSETFROM:-0700
TZOFFSETTO:-0800
TZNAME:PST
DTSTART:20241103T090000
END:STANDARD
BEGIN:DAYLIGHT
TZOFFSETFROM:-0800
TZOFFSETTO:-0700
TZNAME:PDT
DTSTART:20250309T100000
END:DAYLIGHT
BEGIN:STANDARD
TZOFFSETFROM:-0700
TZOFFSETTO:-0800
TZNAME:PST
DTSTART:20251102T090000
END:STANDARD
BEGIN:DAYLIGHT
TZOFFSETFROM:-0800
TZOFFSETTO:-0700
TZNAME:PDT
DTSTART:20260308T100000
END:DAYLIGHT
BEGIN:STANDARD
TZOFFSETFROM:-0700
TZOFFSETTO:-0800
TZNAME:PST
DTSTART:20261101T090000
END:STANDARD
BEGIN:DAYLIGHT
TZOFFSETFROM:-0800
TZOFFSETTO:-0700
TZNAME:PDT
DTSTART:20270314T100000
END:DAYLIGHT
BEGIN:STANDARD
TZOFFSETFROM:-0700
TZOFFSETTO:-0800
TZNAME:PST
DTSTART:20271107T090000
END:STANDARD
END:VTIMEZONE
BEGIN:VEVENT
DTSTART;TZID=America/Los_Angeles:20260225T100000
DTEND;TZID=America/Los_Angeles:20260225T120000
DTSTAMP:20260419T233552
CREATED:20251119T221913Z
LAST-MODIFIED:20251119T221913Z
UID:20443-1772013600-1772020800@bacwa.org
SUMMARY:AIR Committee Meeting
DESCRIPTION:This quarterly meeting of the BACWA AIR Committee will be held in virtual format only. For meeting information\, please contact Ray David or Courtney Mizutani.
URL:https://bacwa.org/event/air-committee-meeting-2026-1/
CATEGORIES:Air Issues & Regulations (AIR)
END:VEVENT
BEGIN:VEVENT
DTSTART;TZID=America/Los_Angeles:20251119T100000
DTEND;TZID=America/Los_Angeles:20251119T120000
DTSTAMP:20260419T233552
CREATED:20250903T154929Z
LAST-MODIFIED:20250903T154929Z
UID:20091-1763546400-1763553600@bacwa.org
SUMMARY:AIR Committee Meeting
DESCRIPTION:This quarterly meeting of the BACWA AIR Committee will be held in virtual format only. For meeting information\, please contact Ray David or Courtney Mizutani.
URL:https://bacwa.org/event/air-committee-meeting-2025-3/
CATEGORIES:Air Issues & Regulations (AIR)
END:VEVENT
BEGIN:VEVENT
DTSTART;TZID=America/Los_Angeles:20250820T100000
DTEND;TZID=America/Los_Angeles:20250820T130000
DTSTAMP:20260419T233552
CREATED:20250522T225943Z
LAST-MODIFIED:20250812T215349Z
UID:19890-1755684000-1755694800@bacwa.org
SUMMARY:AIR Committee Meeting
DESCRIPTION:Quarterly meeting of the BACWA AIR Committee. \nWest County Wastewater will host the meeting in-person\, and there will also be an opportunity to join remotely via MS Teams. We will have our meeting from 10a to noon (as usual) and then for those able to attend in-person\, we will have lunch/tour from noon to 1 pm. For meeting information\, please contact Ray David or Courtney Mizutani.
URL:https://bacwa.org/event/air-committee-meeting-2025-2/
LOCATION:West County Wastewater District\, 2377 Garden Tract Road\, Richmond\, CA\, 94801\, United States
CATEGORIES:Air Issues & Regulations (AIR)
END:VEVENT
BEGIN:VEVENT
DTSTART;TZID=America/Los_Angeles:20250521T100000
DTEND;TZID=America/Los_Angeles:20250521T130000
DTSTAMP:20260419T233552
CREATED:20241009T182621Z
LAST-MODIFIED:20250512T234132Z
UID:18794-1747821600-1747832400@bacwa.org
SUMMARY:AIR Committee Meeting
DESCRIPTION:This quarterly meeting of the BACWA AIR Committee will be held in virtual format only. For meeting information\, please contact Ray David or Courtney Mizutani.
URL:https://bacwa.org/event/air-committee-meeting-2025/
CATEGORIES:Air Issues & Regulations (AIR)
END:VEVENT
BEGIN:VEVENT
DTSTART;TZID=America/Los_Angeles:20250319T100000
DTEND;TZID=America/Los_Angeles:20250319T120000
DTSTAMP:20260419T233552
CREATED:20241009T182609Z
LAST-MODIFIED:20241009T182609Z
UID:18792-1742378400-1742385600@bacwa.org
SUMMARY:AIR Committee Meeting
DESCRIPTION:This quarterly meeting of the BACWA AIR Committee will be held on Microsoft Teams. For meeting information\, please contact Ray David or Courtney Mizutani.
URL:https://bacwa.org/event/air-committee-meeting-20-2-2-2-2-2-2-2-3-2/
CATEGORIES:Air Issues & Regulations (AIR)
END:VEVENT
BEGIN:VEVENT
DTSTART;TZID=America/Los_Angeles:20241211T100000
DTEND;TZID=America/Los_Angeles:20241211T120000
DTSTAMP:20260419T233552
CREATED:20241009T182532Z
LAST-MODIFIED:20241009T182532Z
UID:18790-1733911200-1733918400@bacwa.org
SUMMARY:AIR Committee Meeting
DESCRIPTION:This quarterly meeting of the BACWA AIR Committee will be held on Microsoft Teams. For meeting information\, please contact Ray David or Courtney Mizutani.
URL:https://bacwa.org/event/air-committee-meeting-20-2-2-2-2-2-2-2-3/
CATEGORIES:Air Issues & Regulations (AIR)
END:VEVENT
BEGIN:VEVENT
DTSTART;TZID=America/Los_Angeles:20240918T100000
DTEND;TZID=America/Los_Angeles:20240918T130000
DTSTAMP:20260419T233552
CREATED:20240913T170908Z
LAST-MODIFIED:20240913T170908Z
UID:18660-1726653600-1726664400@bacwa.org
SUMMARY:AIR Committee Meeting
DESCRIPTION:The September BACWA AIR Committee Quarterly Meeting is going to be a hybrid meeting. NapaSan has kindly offered to host us and discuss/see their newly installed linear generator (thank you to the team at NapaSan!) The meeting will also be accessible via MS Teams if you prefer/are unable to participate in person. For the meeting link\, contact Ray David or Courtney Mizutani.
URL:https://bacwa.org/event/air-committee-meeting-20-2-2-2-2-2-2-2-2/
LOCATION:NapaSan\, 1515 Soscol Ferry Road\, Napa\, CA\, 94558\, United States
CATEGORIES:Air Issues & Regulations (AIR)
END:VEVENT
BEGIN:VEVENT
DTSTART;TZID=America/Los_Angeles:20240529T100000
DTEND;TZID=America/Los_Angeles:20240529T120000
DTSTAMP:20260419T233552
CREATED:20231205T234749Z
LAST-MODIFIED:20231205T234749Z
UID:17349-1716976800-1716984000@bacwa.org
SUMMARY:AIR Committee Meeting
DESCRIPTION:This meeting will be held on Microsoft Teams. For meeting information\, please contact Sarah Deslauriers or Courtney Mizutani.
URL:https://bacwa.org/event/air-committee-meeting-20-2-2-2-2-2-2-2/
CATEGORIES:Air Issues & Regulations (AIR)
END:VEVENT
BEGIN:VEVENT
DTSTART;TZID=America/Los_Angeles:20240320T100000
DTEND;TZID=America/Los_Angeles:20240320T120000
DTSTAMP:20260419T233552
CREATED:20231205T234737Z
LAST-MODIFIED:20240229T214954Z
UID:17347-1710928800-1710936000@bacwa.org
SUMMARY:AIR Committee Meeting
DESCRIPTION:This meeting will be held on Microsoft Teams. For meeting information\, please contact Ray David or Courtney Mizutani.
URL:https://bacwa.org/event/air-committee-meeting-20-2-2-2-2-2-2/
CATEGORIES:Air Issues & Regulations (AIR)
END:VEVENT
BEGIN:VEVENT
DTSTART;TZID=America/Los_Angeles:20231213T100000
DTEND;TZID=America/Los_Angeles:20231213T120000
DTSTAMP:20260419T233552
CREATED:20230804T214434Z
LAST-MODIFIED:20230912T173630Z
UID:16846-1702461600-1702468800@bacwa.org
SUMMARY:AIR Committee Meeting
DESCRIPTION:This meeting will be held on Microsoft Teams. For meeting information\, please contact Sarah Deslauriers or Courtney Mizutani.
URL:https://bacwa.org/event/air-committee-meeting-20-2-2-2-2-2/
CATEGORIES:Air Issues & Regulations (AIR)
END:VEVENT
BEGIN:VEVENT
DTSTART;TZID=America/Los_Angeles:20231106T093000
DTEND;TZID=America/Los_Angeles:20231106T140000
DTSTAMP:20260419T233552
CREATED:20230912T153234Z
LAST-MODIFIED:20231026T164025Z
UID:16960-1699263000-1699279200@bacwa.org
SUMMARY:Source Testing Workshop with BAAQMD
DESCRIPTION:The AIR Committee will be hosting an in-person Source Testing Workshop with Bay Area Air Quality Management District (BAAQMD) staff on Monday\, November 6th. The agenda includes: \n\nUses of source testing data\nCommon issues with sampling\, reporting\, and QA/QC\nSpecific methodologies as they apply to POTWs\nQ&A\n\nIf you plan to attend in-person\, please RSVP here for lunch. \nFor more information\, contact Courtney Mizutani.
URL:https://bacwa.org/event/source-testing-workshop-with-baaqmd/
LOCATION:San Jose RWF\, 700 Los Esteros Road\, San Jose\, CA\, 95134\, United States
CATEGORIES:Air Issues & Regulations (AIR)
END:VEVENT
BEGIN:VEVENT
DTSTART;TZID=America/Los_Angeles:20230830T100000
DTEND;TZID=America/Los_Angeles:20230830T120000
DTSTAMP:20260419T233552
CREATED:20230710T164238Z
LAST-MODIFIED:20230710T164238Z
UID:16762-1693389600-1693396800@bacwa.org
SUMMARY:AIR Committee Meeting
DESCRIPTION:This meeting will be held on Microsoft Teams. For meeting information\, please contact Sarah Deslauriers or Courtney Mizutani.
URL:https://bacwa.org/event/air-committee-meeting-20-2-2-2-2/
CATEGORIES:Air Issues & Regulations (AIR)
END:VEVENT
BEGIN:VEVENT
DTSTART;TZID=America/Los_Angeles:20230531T100000
DTEND;TZID=America/Los_Angeles:20230531T120000
DTSTAMP:20260419T233552
CREATED:20220808T221653Z
LAST-MODIFIED:20220808T221653Z
UID:15459-1685527200-1685534400@bacwa.org
SUMMARY:AIR Committee Meeting
DESCRIPTION:This meeting will be held on Microsoft Teams. For meeting information\, please contact Sarah Deslauriers or Courtney Mizutani.
URL:https://bacwa.org/event/air-committee-meeting-20-2-2-2/
CATEGORIES:Air Issues & Regulations (AIR)
END:VEVENT
BEGIN:VEVENT
DTSTART;TZID=America/Los_Angeles:20230301T100000
DTEND;TZID=America/Los_Angeles:20230301T120000
DTSTAMP:20260419T233552
CREATED:20220808T221633Z
LAST-MODIFIED:20220808T221633Z
UID:15457-1677664800-1677672000@bacwa.org
SUMMARY:AIR Committee Meeting
DESCRIPTION:This meeting will be held on Microsoft Teams. For meeting information\, please contact Sarah Deslauriers or Courtney Mizutani.
URL:https://bacwa.org/event/air-committee-meeting-20-2-2/
CATEGORIES:Air Issues & Regulations (AIR)
END:VEVENT
BEGIN:VEVENT
DTSTART;TZID=America/Los_Angeles:20221130T100000
DTEND;TZID=America/Los_Angeles:20221130T120000
DTSTAMP:20260419T233552
CREATED:20220808T221619Z
LAST-MODIFIED:20220808T221619Z
UID:15455-1669802400-1669809600@bacwa.org
SUMMARY:AIR Committee Meeting
DESCRIPTION:This meeting will be held on Microsoft Teams. For meeting information\, please contact Sarah Deslauriers or Courtney Mizutani.
URL:https://bacwa.org/event/air-committee-meeting-20-2/
CATEGORIES:Air Issues & Regulations (AIR)
END:VEVENT
BEGIN:VEVENT
DTSTART;TZID=America/Los_Angeles:20220831T100000
DTEND;TZID=America/Los_Angeles:20220831T120000
DTSTAMP:20260419T233552
CREATED:20220808T221445Z
LAST-MODIFIED:20220808T221602Z
UID:15451-1661940000-1661947200@bacwa.org
SUMMARY:AIR Committee Meeting
DESCRIPTION:This meeting will be held on Microsoft Teams. For meeting information\, please contact Sarah Deslauriers or Courtney Mizutani.
URL:https://bacwa.org/event/air-committee-meeting-20/
CATEGORIES:Air Issues & Regulations (AIR)
END:VEVENT
BEGIN:VEVENT
DTSTART;TZID=America/Los_Angeles:20220609T100000
DTEND;TZID=America/Los_Angeles:20220609T120000
DTSTAMP:20260419T233552
CREATED:20210701T190736Z
LAST-MODIFIED:20220503T202507Z
UID:13790-1654768800-1654776000@bacwa.org
SUMMARY:AIR Committee Meeting
DESCRIPTION:
URL:https://bacwa.org/event/13790/
CATEGORIES:Air Issues & Regulations (AIR)
END:VEVENT
BEGIN:VEVENT
DTSTART;TZID=America/Los_Angeles:20220202T100000
DTEND;TZID=America/Los_Angeles:20220202T120000
DTSTAMP:20260419T233552
CREATED:20210701T190708Z
LAST-MODIFIED:20210726T161724Z
UID:13788-1643796000-1643803200@bacwa.org
SUMMARY:AIR Committee Meeting
DESCRIPTION:
URL:https://bacwa.org/event/air-committee-meeting-19/
CATEGORIES:Air Issues & Regulations (AIR)
END:VEVENT
BEGIN:VEVENT
DTSTART;TZID=America/Los_Angeles:20211117T100000
DTEND;TZID=America/Los_Angeles:20211117T120000
DTSTAMP:20260419T233552
CREATED:20210701T190314Z
LAST-MODIFIED:20210726T161820Z
UID:13786-1637143200-1637150400@bacwa.org
SUMMARY:AIR Committee Meeting
DESCRIPTION:
URL:https://bacwa.org/event/air-committee-meeting-18/
CATEGORIES:Air Issues & Regulations (AIR)
END:VEVENT
BEGIN:VEVENT
DTSTART;TZID=America/Los_Angeles:20210901T100000
DTEND;TZID=America/Los_Angeles:20210901T120000
DTSTAMP:20260419T233552
CREATED:20210701T190231Z
LAST-MODIFIED:20210726T161926Z
UID:13784-1630490400-1630497600@bacwa.org
SUMMARY:AIR Committee Meeting
DESCRIPTION:This meeting will be held virtually via MS Teams. For meeting information\, contact Sarah Deslauriers or Courtney Mizutani.
URL:https://bacwa.org/event/air-committee-meeting-17/
CATEGORIES:Air Issues & Regulations (AIR)
END:VEVENT
BEGIN:VEVENT
DTSTART;TZID=America/Los_Angeles:20210526T130000
DTEND;TZID=America/Los_Angeles:20210526T150000
DTSTAMP:20260419T233552
CREATED:20200723T170256Z
LAST-MODIFIED:20210504T234456Z
UID:12305-1622034000-1622041200@bacwa.org
SUMMARY:AIR Committee Meeting
DESCRIPTION:This is a placeholder for a quarterly BACWA AIR Committee meeting – the meeting location\, length\, and materials will be finalized as we get closer to the date. In the meantime\, the AIR Committee will send more regular email updates between meetings to keep you all up to speed on priority issues.
URL:https://bacwa.org/event/air-committee-meeting-16/
CATEGORIES:Air Issues & Regulations (AIR)
END:VEVENT
BEGIN:VEVENT
DTSTART;TZID=America/Los_Angeles:20210331T100000
DTEND;TZID=America/Los_Angeles:20210331T120000
DTSTAMP:20260419T233552
CREATED:20200723T170146Z
LAST-MODIFIED:20210310T003640Z
UID:12303-1617184800-1617192000@bacwa.org
SUMMARY:AIR Committee Meeting
DESCRIPTION:The quarterly BACWA AIR Committee meeting will be a virtual meeting held in Microsoft Teams. For a meeting link\, please contact Sarah Deslauriers or Courtney Mizutani.
URL:https://bacwa.org/event/air-committee-meeting-15/
CATEGORIES:Air Issues & Regulations (AIR)
END:VEVENT
BEGIN:VEVENT
DTSTART;TZID=America/Los_Angeles:20210113T100000
DTEND;TZID=America/Los_Angeles:20210113T130000
DTSTAMP:20260419T233552
CREATED:20200723T165753Z
LAST-MODIFIED:20200723T165753Z
UID:12301-1610532000-1610542800@bacwa.org
SUMMARY:AIR Committee Meeting
DESCRIPTION:This is a placeholder for a quarterly BACWA AIR Committee meeting – the meeting location\, length\, and materials will be finalized as we get closer to the date. In the meantime\, the AIR Committee will send more regular email updates between meetings to keep you all up to speed on priority issues.
URL:https://bacwa.org/event/air-committee-meeting-14/
CATEGORIES:Air Issues & Regulations (AIR)
END:VEVENT
BEGIN:VEVENT
DTSTART;TZID=America/Los_Angeles:20200902T100000
DTEND;TZID=America/Los_Angeles:20200902T130000
DTSTAMP:20260419T233552
CREATED:20200723T165635Z
LAST-MODIFIED:20200723T165635Z
UID:12299-1599040800-1599051600@bacwa.org
SUMMARY:AIR Committee Meeting
DESCRIPTION:This is a placeholder for a quarterly BACWA AIR Committee meeting – the meeting location\, length\, and materials will be finalized as we get closer to the date. In the meantime\,  the AIR Committee will send more regular email updates between meetings to keep you all up to speed on priority issues.
URL:https://bacwa.org/event/air-committee-meeting-13/
CATEGORIES:Air Issues & Regulations (AIR)
END:VEVENT
BEGIN:VEVENT
DTSTART;TZID=America/Los_Angeles:20200325T100000
DTEND;TZID=America/Los_Angeles:20200325T130000
DTSTAMP:20260419T233552
CREATED:20200310T230413Z
LAST-MODIFIED:20200310T230413Z
UID:11796-1585130400-1585141200@bacwa.org
SUMMARY:AIR Committee Meeting
DESCRIPTION:  \n 
URL:https://bacwa.org/event/air-committee-meeting-11-2-2-2-2/
LOCATION:Conference call\, CA\, United States
CATEGORIES:Air Issues & Regulations (AIR)
END:VEVENT
BEGIN:VEVENT
DTSTART;TZID=America/Los_Angeles:20191211T100000
DTEND;TZID=America/Los_Angeles:20191211T130000
DTSTAMP:20260419T233552
CREATED:20191022T222903Z
LAST-MODIFIED:20191022T222903Z
UID:11318-1576058400-1576069200@bacwa.org
SUMMARY:AIR Committee Meeting
DESCRIPTION:  \n 
URL:https://bacwa.org/event/air-committee-meeting-11-2-2-2/
LOCATION:tbd
CATEGORIES:Air Issues & Regulations (AIR)
END:VEVENT
BEGIN:VEVENT
DTSTART;TZID=America/Los_Angeles:20190326T100000
DTEND;TZID=America/Los_Angeles:20190326T130000
DTSTAMP:20260419T233552
CREATED:20190304T203336Z
LAST-MODIFIED:20190304T203336Z
UID:10793-1553594400-1553605200@bacwa.org
SUMMARY:AIR Committee Meeting
DESCRIPTION:  \n 
URL:https://bacwa.org/event/air-committee-meeting-11-2-2/
LOCATION:delta diablo\, 2500 Pittsburg-Antioch Hwy\,\, Antioch\, CA\, CA\, 94509\, United States
CATEGORIES:Air Issues & Regulations (AIR)
END:VEVENT
BEGIN:VEVENT
DTSTART;TZID=America/Los_Angeles:20181017T100000
DTEND;TZID=America/Los_Angeles:20181017T133000
DTSTAMP:20260419T233552
CREATED:20180926T204501Z
LAST-MODIFIED:20180926T204526Z
UID:6256-1539770400-1539783000@bacwa.org
SUMMARY:AIR Committee Meeting
DESCRIPTION:  \n 
URL:https://bacwa.org/event/air-committee-meeting-11-2/
LOCATION:tbd
CATEGORIES:Air Issues & Regulations (AIR)
END:VEVENT
BEGIN:VEVENT
DTSTART;TZID=America/Los_Angeles:20180806T100000
DTEND;TZID=America/Los_Angeles:20180806T140000
DTSTAMP:20260419T233552
CREATED:20180726T195434Z
LAST-MODIFIED:20180726T195434Z
UID:6102-1533549600-1533564000@bacwa.org
SUMMARY:Annual BACWA AIR Committee - BAAQMD Meeting
DESCRIPTION:
URL:https://bacwa.org/event/annual-bacwa-air-committee-baaqmd-meeting/
LOCATION:BAAQMD Headquarters\, 375 Beale St.\, San Francisco\, CA\, 94105\, United States
CATEGORIES:Air Issues & Regulations (AIR)
END:VEVENT
BEGIN:VEVENT
DTSTART;TZID=America/Los_Angeles:20180608T100000
DTEND;TZID=America/Los_Angeles:20180608T133000
DTSTAMP:20260419T233552
CREATED:20170830T001636Z
LAST-MODIFIED:20180529T184057Z
UID:5087-1528452000-1528464600@bacwa.org
SUMMARY:AIR Committee Meeting
DESCRIPTION:  \n 
URL:https://bacwa.org/event/air-committee-meeting-11/
LOCATION:Palo Alto Wastewater Treatment Plant
CATEGORIES:Air Issues & Regulations (AIR)
END:VEVENT
END:VCALENDAR