BEGIN:VCALENDAR
VERSION:2.0
PRODID:-//Bay Area Clean Water Agencies - ECPv6.15.20//NONSGML v1.0//EN
CALSCALE:GREGORIAN
METHOD:PUBLISH
X-ORIGINAL-URL:https://bacwa.org
X-WR-CALDESC:Events for Bay Area Clean Water Agencies
REFRESH-INTERVAL;VALUE=DURATION:PT1H
X-Robots-Tag:noindex
X-PUBLISHED-TTL:PT1H
BEGIN:VTIMEZONE
TZID:America/Los_Angeles
BEGIN:DAYLIGHT
TZOFFSETFROM:-0800
TZOFFSETTO:-0700
TZNAME:PDT
DTSTART:20240310T100000
END:DAYLIGHT
BEGIN:STANDARD
TZOFFSETFROM:-0700
TZOFFSETTO:-0800
TZNAME:PST
DTSTART:20241103T090000
END:STANDARD
BEGIN:DAYLIGHT
TZOFFSETFROM:-0800
TZOFFSETTO:-0700
TZNAME:PDT
DTSTART:20250309T100000
END:DAYLIGHT
BEGIN:STANDARD
TZOFFSETFROM:-0700
TZOFFSETTO:-0800
TZNAME:PST
DTSTART:20251102T090000
END:STANDARD
BEGIN:DAYLIGHT
TZOFFSETFROM:-0800
TZOFFSETTO:-0700
TZNAME:PDT
DTSTART:20260308T100000
END:DAYLIGHT
BEGIN:STANDARD
TZOFFSETFROM:-0700
TZOFFSETTO:-0800
TZNAME:PST
DTSTART:20261101T090000
END:STANDARD
END:VTIMEZONE
BEGIN:VEVENT
DTSTART;TZID=America/Los_Angeles:20250512T130000
DTEND;TZID=America/Los_Angeles:20250512T150000
DTSTAMP:20260420T114547
CREATED:20250411T174652Z
LAST-MODIFIED:20250506T184607Z
UID:19710-1747054800-1747062000@bacwa.org
SUMMARY:Nutrient Strategy Team Meeting
DESCRIPTION:An agenda will be posted on a few days before this meeting. \nThis Nutrient Strategy Team (NST) meeting will be conducted in hybrid format. \nTo attend the meeting via Zoom or submit a public comment\, please see meeting guidelines: https://bacwa.org/general/bacwa-public-comments-guidelines/
URL:https://bacwa.org/event/nst-2025/
LOCATION:Central Contra Costa Sanitary District Office\, 5019 Imhoff Place\, Martinez\, CA\, 94553\, United States
CATEGORIES:Executive Board
END:VEVENT
END:VCALENDAR