BEGIN:VCALENDAR
VERSION:2.0
PRODID:-//Bay Area Clean Water Agencies - ECPv6.15.20//NONSGML v1.0//EN
CALSCALE:GREGORIAN
METHOD:PUBLISH
X-ORIGINAL-URL:https://bacwa.org
X-WR-CALDESC:Events for Bay Area Clean Water Agencies
REFRESH-INTERVAL;VALUE=DURATION:PT1H
X-Robots-Tag:noindex
X-PUBLISHED-TTL:PT1H
BEGIN:VTIMEZONE
TZID:America/Los_Angeles
BEGIN:DAYLIGHT
TZOFFSETFROM:-0800
TZOFFSETTO:-0700
TZNAME:PDT
DTSTART:20240310T100000
END:DAYLIGHT
BEGIN:STANDARD
TZOFFSETFROM:-0700
TZOFFSETTO:-0800
TZNAME:PST
DTSTART:20241103T090000
END:STANDARD
BEGIN:DAYLIGHT
TZOFFSETFROM:-0800
TZOFFSETTO:-0700
TZNAME:PDT
DTSTART:20250309T100000
END:DAYLIGHT
BEGIN:STANDARD
TZOFFSETFROM:-0700
TZOFFSETTO:-0800
TZNAME:PST
DTSTART:20251102T090000
END:STANDARD
BEGIN:DAYLIGHT
TZOFFSETFROM:-0800
TZOFFSETTO:-0700
TZNAME:PDT
DTSTART:20260308T100000
END:DAYLIGHT
BEGIN:STANDARD
TZOFFSETFROM:-0700
TZOFFSETTO:-0800
TZNAME:PST
DTSTART:20261101T090000
END:STANDARD
END:VTIMEZONE
BEGIN:VEVENT
DTSTART;TZID=America/Los_Angeles:20250211T100000
DTEND;TZID=America/Los_Angeles:20250211T120000
DTSTAMP:20260420T100839
CREATED:20241220T235034Z
LAST-MODIFIED:20241220T235034Z
UID:19022-1739268000-1739275200@bacwa.org
SUMMARY:Lab Committee Meeting
DESCRIPTION:For virtual meeting information\, email mc******@***wa.org
URL:https://bacwa.org/event/lab-committee-meeting-2/
CATEGORIES:Laboratory
END:VEVENT
BEGIN:VEVENT
DTSTART;TZID=America/Los_Angeles:20250211T123000
DTEND;TZID=America/Los_Angeles:20250211T143000
DTSTAMP:20260420T100839
CREATED:20241220T234820Z
LAST-MODIFIED:20241220T234820Z
UID:19010-1739277000-1739284200@bacwa.org
SUMMARY:Permits Committee Meeting
DESCRIPTION:For virtual meeting information\, email mc******@***wa.org
URL:https://bacwa.org/event/permits-committee-meeting-37/
CATEGORIES:Permit
END:VEVENT
END:VCALENDAR