BEGIN:VCALENDAR
VERSION:2.0
PRODID:-//Bay Area Clean Water Agencies - ECPv6.15.20//NONSGML v1.0//EN
CALSCALE:GREGORIAN
METHOD:PUBLISH
X-WR-CALNAME:Bay Area Clean Water Agencies
X-ORIGINAL-URL:https://bacwa.org
X-WR-CALDESC:Events for Bay Area Clean Water Agencies
REFRESH-INTERVAL;VALUE=DURATION:PT1H
X-Robots-Tag:noindex
X-PUBLISHED-TTL:PT1H
BEGIN:VTIMEZONE
TZID:America/Los_Angeles
BEGIN:DAYLIGHT
TZOFFSETFROM:-0800
TZOFFSETTO:-0700
TZNAME:PDT
DTSTART:20240310T100000
END:DAYLIGHT
BEGIN:STANDARD
TZOFFSETFROM:-0700
TZOFFSETTO:-0800
TZNAME:PST
DTSTART:20241103T090000
END:STANDARD
BEGIN:DAYLIGHT
TZOFFSETFROM:-0800
TZOFFSETTO:-0700
TZNAME:PDT
DTSTART:20250309T100000
END:DAYLIGHT
BEGIN:STANDARD
TZOFFSETFROM:-0700
TZOFFSETTO:-0800
TZNAME:PST
DTSTART:20251102T090000
END:STANDARD
BEGIN:DAYLIGHT
TZOFFSETFROM:-0800
TZOFFSETTO:-0700
TZNAME:PDT
DTSTART:20260308T100000
END:DAYLIGHT
BEGIN:STANDARD
TZOFFSETFROM:-0700
TZOFFSETTO:-0800
TZNAME:PST
DTSTART:20261101T090000
END:STANDARD
END:VTIMEZONE
BEGIN:VEVENT
DTSTART;TZID=America/Los_Angeles:20250131T090000
DTEND;TZID=America/Los_Angeles:20250131T100000
DTSTAMP:20260420T100739
CREATED:20250124T233729Z
LAST-MODIFIED:20250124T233729Z
UID:19140-1738314000-1738317600@bacwa.org
SUMMARY:Office Hours for Compliance Schedule Milestones Reporting
DESCRIPTION:BACWA has circulated a Request for Information related to Section 6.3.3 of the Nutrient Watershed Permit.\, and has requested responses by Wednesday\, February 19th. \nWe will hold office hours to assist agencies with responding. For virtual meeting information\, contact Mary Cousins.
URL:https://bacwa.org/event/office-hours-for-compliance-schedule-milestones-reporting-2/
END:VEVENT
END:VCALENDAR