BEGIN:VCALENDAR
VERSION:2.0
PRODID:-//Bay Area Clean Water Agencies - ECPv6.15.20//NONSGML v1.0//EN
CALSCALE:GREGORIAN
METHOD:PUBLISH
X-ORIGINAL-URL:https://bacwa.org
X-WR-CALDESC:Events for Bay Area Clean Water Agencies
REFRESH-INTERVAL;VALUE=DURATION:PT1H
X-Robots-Tag:noindex
X-PUBLISHED-TTL:PT1H
BEGIN:VTIMEZONE
TZID:America/Los_Angeles
BEGIN:DAYLIGHT
TZOFFSETFROM:-0800
TZOFFSETTO:-0700
TZNAME:PDT
DTSTART:20230312T100000
END:DAYLIGHT
BEGIN:STANDARD
TZOFFSETFROM:-0700
TZOFFSETTO:-0800
TZNAME:PST
DTSTART:20231105T090000
END:STANDARD
BEGIN:DAYLIGHT
TZOFFSETFROM:-0800
TZOFFSETTO:-0700
TZNAME:PDT
DTSTART:20240310T100000
END:DAYLIGHT
BEGIN:STANDARD
TZOFFSETFROM:-0700
TZOFFSETTO:-0800
TZNAME:PST
DTSTART:20241103T090000
END:STANDARD
BEGIN:DAYLIGHT
TZOFFSETFROM:-0800
TZOFFSETTO:-0700
TZNAME:PDT
DTSTART:20250309T100000
END:DAYLIGHT
BEGIN:STANDARD
TZOFFSETFROM:-0700
TZOFFSETTO:-0800
TZNAME:PST
DTSTART:20251102T090000
END:STANDARD
END:VTIMEZONE
BEGIN:VEVENT
DTSTART;TZID=America/Los_Angeles:20241008T090000
DTEND;TZID=America/Los_Angeles:20241008T100000
DTSTAMP:20260420T213145
CREATED:20240913T174202Z
LAST-MODIFIED:20240913T174202Z
UID:18667-1728378000-1728381600@bacwa.org
SUMMARY:BAPPG Pesticides Workgroup
DESCRIPTION:For the agenda and virtual meeting information for this monthly BACWA/BAPPG Pesticides meeting\, contact Mary Cousins.
URL:https://bacwa.org/event/bappg-pesticides-workgroup/
CATEGORIES:Bay Area Pollution Prevention Group
END:VEVENT
BEGIN:VEVENT
DTSTART;TZID=America/Los_Angeles:20241008T123000
DTEND;TZID=America/Los_Angeles:20241008T143000
DTSTAMP:20260420T213145
CREATED:20231205T233448Z
LAST-MODIFIED:20231205T233448Z
UID:17330-1728390600-1728397800@bacwa.org
SUMMARY:Permits Committee Meeting
DESCRIPTION:For meeting information\, email mc******@***wa.org
URL:https://bacwa.org/event/permits-committee-meeting-32-2-2-2-2-2-2-3-2-2-2-2-3-2-2-2-2/
CATEGORIES:Permit
END:VEVENT
END:VCALENDAR