BEGIN:VCALENDAR
VERSION:2.0
PRODID:-//Bay Area Clean Water Agencies - ECPv6.15.20//NONSGML v1.0//EN
CALSCALE:GREGORIAN
METHOD:PUBLISH
X-ORIGINAL-URL:https://bacwa.org
X-WR-CALDESC:Events for Bay Area Clean Water Agencies
REFRESH-INTERVAL;VALUE=DURATION:PT1H
X-Robots-Tag:noindex
X-PUBLISHED-TTL:PT1H
BEGIN:VTIMEZONE
TZID:America/Los_Angeles
BEGIN:DAYLIGHT
TZOFFSETFROM:-0800
TZOFFSETTO:-0700
TZNAME:PDT
DTSTART:20220313T100000
END:DAYLIGHT
BEGIN:STANDARD
TZOFFSETFROM:-0700
TZOFFSETTO:-0800
TZNAME:PST
DTSTART:20221106T090000
END:STANDARD
BEGIN:DAYLIGHT
TZOFFSETFROM:-0800
TZOFFSETTO:-0700
TZNAME:PDT
DTSTART:20230312T100000
END:DAYLIGHT
BEGIN:STANDARD
TZOFFSETFROM:-0700
TZOFFSETTO:-0800
TZNAME:PST
DTSTART:20231105T090000
END:STANDARD
BEGIN:DAYLIGHT
TZOFFSETFROM:-0800
TZOFFSETTO:-0700
TZNAME:PDT
DTSTART:20240310T100000
END:DAYLIGHT
BEGIN:STANDARD
TZOFFSETFROM:-0700
TZOFFSETTO:-0800
TZNAME:PST
DTSTART:20241103T090000
END:STANDARD
END:VTIMEZONE
BEGIN:VEVENT
DTSTART;TZID=America/Los_Angeles:20231117T090000
DTEND;TZID=America/Los_Angeles:20231117T120000
DTSTAMP:20260421T160639
CREATED:20230710T202433Z
LAST-MODIFIED:20230913T183350Z
UID:16778-1700211600-1700222400@bacwa.org
SUMMARY:BACWA Executive Board Meeting
DESCRIPTION:Agenda & Packet will be posted on the website. \nMeeting location: \nEBMUD Watershed\n500 San Pablo Dam Road\nOrinda\, CA 94563 \nTo attend the meeting via zoom or submit a public comment\, please see meeting guidelines: https://bacwa.org/general/bacwa-public-comments-guidelines/
URL:https://bacwa.org/event/bacwa-executive-board-meeting-46/
LOCATION:EBMUD Watershed HQ\, 500 San Pablo Dam Rd\, Orinda\, CA
CATEGORIES:Executive Board
END:VEVENT
BEGIN:VEVENT
DTSTART;TZID=America/Los_Angeles:20231117T120000
DTEND;TZID=America/Los_Angeles:20231117T143000
DTSTAMP:20260421T160639
CREATED:20230710T210121Z
LAST-MODIFIED:20230710T210121Z
UID:16789-1700222400-1700231400@bacwa.org
SUMMARY:NST Meeting
DESCRIPTION:Agenda & Packet will be posted on the website. \nMeeting location: \nEBMUD Watershed \n500 San Pablo Dam Road \nOrinda\, CA 94563 \nTo attend the meeting via zoom or submit a public comment\, please see meeting guidelines: https://bacwa.org/general/bacwa-public-comments-guidelines/
URL:https://bacwa.org/event/nst-meeting-4/
LOCATION:EBMUD Watershed HQ\, 500 San Pablo Dam Rd\, Orinda\, CA
CATEGORIES:Executive Board
END:VEVENT
END:VCALENDAR