BEGIN:VCALENDAR
VERSION:2.0
PRODID:-//Bay Area Clean Water Agencies - ECPv6.15.20//NONSGML v1.0//EN
CALSCALE:GREGORIAN
METHOD:PUBLISH
X-WR-CALNAME:Bay Area Clean Water Agencies
X-ORIGINAL-URL:https://bacwa.org
X-WR-CALDESC:Events for Bay Area Clean Water Agencies
REFRESH-INTERVAL;VALUE=DURATION:PT1H
X-Robots-Tag:noindex
X-PUBLISHED-TTL:PT1H
BEGIN:VTIMEZONE
TZID:America/Los_Angeles
BEGIN:DAYLIGHT
TZOFFSETFROM:-0800
TZOFFSETTO:-0700
TZNAME:PDT
DTSTART:20220313T100000
END:DAYLIGHT
BEGIN:STANDARD
TZOFFSETFROM:-0700
TZOFFSETTO:-0800
TZNAME:PST
DTSTART:20221106T090000
END:STANDARD
BEGIN:DAYLIGHT
TZOFFSETFROM:-0800
TZOFFSETTO:-0700
TZNAME:PDT
DTSTART:20230312T100000
END:DAYLIGHT
BEGIN:STANDARD
TZOFFSETFROM:-0700
TZOFFSETTO:-0800
TZNAME:PST
DTSTART:20231105T090000
END:STANDARD
BEGIN:DAYLIGHT
TZOFFSETFROM:-0800
TZOFFSETTO:-0700
TZNAME:PDT
DTSTART:20240310T100000
END:DAYLIGHT
BEGIN:STANDARD
TZOFFSETFROM:-0700
TZOFFSETTO:-0800
TZNAME:PST
DTSTART:20241103T090000
END:STANDARD
END:VTIMEZONE
BEGIN:VEVENT
DTSTART;TZID=America/Los_Angeles:20231113T090000
DTEND;TZID=America/Los_Angeles:20231113T100000
DTSTAMP:20260421T160644
CREATED:20231106T184536Z
LAST-MODIFIED:20231106T215843Z
UID:17204-1699866000-1699869600@bacwa.org
SUMMARY:Roundtable Discussion on Biosolids Projects
DESCRIPTION:Members are invited to come share what’s happening with biosolids at your agency! \nThe Bay Area Biosolids Coalition is hosting a virtual roundtable discussion on biosolids projects in the greater Bay Area. Please come share your agency’s ongoing or planned changes to: \n\nBiosolids treatment\, dewatering\, and storage\nHauled waste receiving and biogas production\nBiosolids end uses in land application\, compost\, and other uses\n\nThis will be a great opportunity to hear what your neighboring agencies are planning\, and to identify agencies that may be pursuing similar strategies to yours! The roundtable discussion will be held beginning at 9 am on MS Teams. For meeting link\, contact Mary Cousins.
URL:https://bacwa.org/event/roundtable-discussion-on-biosolids-projects/
CATEGORIES:Biosolids
END:VEVENT
END:VCALENDAR