BEGIN:VCALENDAR
VERSION:2.0
PRODID:-//Bay Area Clean Water Agencies - ECPv6.15.20//NONSGML v1.0//EN
CALSCALE:GREGORIAN
METHOD:PUBLISH
X-ORIGINAL-URL:https://bacwa.org
X-WR-CALDESC:Events for Bay Area Clean Water Agencies
REFRESH-INTERVAL;VALUE=DURATION:PT1H
X-Robots-Tag:noindex
X-PUBLISHED-TTL:PT1H
BEGIN:VTIMEZONE
TZID:America/Los_Angeles
BEGIN:DAYLIGHT
TZOFFSETFROM:-0800
TZOFFSETTO:-0700
TZNAME:PDT
DTSTART:20220313T100000
END:DAYLIGHT
BEGIN:STANDARD
TZOFFSETFROM:-0700
TZOFFSETTO:-0800
TZNAME:PST
DTSTART:20221106T090000
END:STANDARD
BEGIN:DAYLIGHT
TZOFFSETFROM:-0800
TZOFFSETTO:-0700
TZNAME:PDT
DTSTART:20230312T100000
END:DAYLIGHT
BEGIN:STANDARD
TZOFFSETFROM:-0700
TZOFFSETTO:-0800
TZNAME:PST
DTSTART:20231105T090000
END:STANDARD
BEGIN:DAYLIGHT
TZOFFSETFROM:-0800
TZOFFSETTO:-0700
TZNAME:PDT
DTSTART:20240310T100000
END:DAYLIGHT
BEGIN:STANDARD
TZOFFSETFROM:-0700
TZOFFSETTO:-0800
TZNAME:PST
DTSTART:20241103T090000
END:STANDARD
END:VTIMEZONE
BEGIN:VEVENT
DTSTART;TZID=America/Los_Angeles:20231020T090000
DTEND;TZID=America/Los_Angeles:20231020T120000
DTSTAMP:20260421T190059
CREATED:20230710T201651Z
LAST-MODIFIED:20230913T183203Z
UID:16775-1697792400-1697803200@bacwa.org
SUMMARY:BACWA Executive Board Meeting
DESCRIPTION:Agenda & Packet will be posted on the website. \nMeeting location:\nCentral Contra Costa Sanitary District\nMultipurpose Room (MPR)\n5019 Imhoff Place\, Martinez\, CA 94553 \nTo attend the meeting via zoom or submit a public comment\, please see meeting guidelines: https://bacwa.org/general/bacwa-public-comments-guidelines/
URL:https://bacwa.org/event/bacwa-executive-board-meeting-45/
LOCATION:tbd
CATEGORIES:Executive Board
END:VEVENT
BEGIN:VEVENT
DTSTART;TZID=America/Los_Angeles:20231020T123000
DTEND;TZID=America/Los_Angeles:20231020T143000
DTSTAMP:20260421T190059
CREATED:20230710T205928Z
LAST-MODIFIED:20230913T183247Z
UID:16787-1697805000-1697812200@bacwa.org
SUMMARY:NST Meeting
DESCRIPTION:Agenda & Packet will be posted on the website. \nMeeting location:\nCentral Contra Costa Sanitary District\nMultipurpose Room (MPR)\n5019 Imhoff Place\, Martinez\, CA 94553 \nTo attend the meeting via zoom or submit a public comment\, please see meeting guidelines: https://bacwa.org/general/bacwa-public-comments-guidelines/
URL:https://bacwa.org/event/nst-meeting-3/
LOCATION:tbd
CATEGORIES:Executive Board
END:VEVENT
END:VCALENDAR