BEGIN:VCALENDAR
VERSION:2.0
PRODID:-//Bay Area Clean Water Agencies - ECPv6.15.20//NONSGML v1.0//EN
CALSCALE:GREGORIAN
METHOD:PUBLISH
X-WR-CALNAME:Bay Area Clean Water Agencies
X-ORIGINAL-URL:https://bacwa.org
X-WR-CALDESC:Events for Bay Area Clean Water Agencies
REFRESH-INTERVAL;VALUE=DURATION:PT1H
X-Robots-Tag:noindex
X-PUBLISHED-TTL:PT1H
BEGIN:VTIMEZONE
TZID:America/Los_Angeles
BEGIN:DAYLIGHT
TZOFFSETFROM:-0800
TZOFFSETTO:-0700
TZNAME:PDT
DTSTART:20220313T100000
END:DAYLIGHT
BEGIN:STANDARD
TZOFFSETFROM:-0700
TZOFFSETTO:-0800
TZNAME:PST
DTSTART:20221106T090000
END:STANDARD
BEGIN:DAYLIGHT
TZOFFSETFROM:-0800
TZOFFSETTO:-0700
TZNAME:PDT
DTSTART:20230312T100000
END:DAYLIGHT
BEGIN:STANDARD
TZOFFSETFROM:-0700
TZOFFSETTO:-0800
TZNAME:PST
DTSTART:20231105T090000
END:STANDARD
BEGIN:DAYLIGHT
TZOFFSETFROM:-0800
TZOFFSETTO:-0700
TZNAME:PDT
DTSTART:20240310T100000
END:DAYLIGHT
BEGIN:STANDARD
TZOFFSETFROM:-0700
TZOFFSETTO:-0800
TZNAME:PST
DTSTART:20241103T090000
END:STANDARD
END:VTIMEZONE
BEGIN:VEVENT
DTSTART;TZID=America/Los_Angeles:20230818T090000
DTEND;TZID=America/Los_Angeles:20230818T120000
DTSTAMP:20260421T214500
CREATED:20230710T200608Z
LAST-MODIFIED:20230710T200608Z
UID:16773-1692349200-1692360000@bacwa.org
SUMMARY:BACWA Executive Board Meeting
DESCRIPTION:Agenda & Packet will be posted on the website. \nMeeting location: \nEBMUD Watershed \n500 San Pablo Dam Road \nOrinda\, CA 94563 \nTo attend the meeting via zoom or submit a public comment\, please see meeting guidelines: https://bacwa.org/general/bacwa-public-comments-guidelines/
URL:https://bacwa.org/event/bacwa-executive-board-meeting-44/
LOCATION:EBMUD Watershed HQ\, 500 San Pablo Dam Rd\, Orinda\, CA
CATEGORIES:Executive Board
END:VEVENT
BEGIN:VEVENT
DTSTART;TZID=America/Los_Angeles:20230818T123000
DTEND;TZID=America/Los_Angeles:20230818T143000
DTSTAMP:20260421T214500
CREATED:20230710T205833Z
LAST-MODIFIED:20230710T205833Z
UID:16785-1692361800-1692369000@bacwa.org
SUMMARY:NST Meeting
DESCRIPTION:Agenda & Packet will be posted on the website. \nMeeting location: \nEBMUD Watershed \n500 San Pablo Dam Road \nOrinda\, CA 94563 \nTo attend the meeting via zoom or submit a public comment\, please see meeting guidelines: https://bacwa.org/general/bacwa-public-comments-guidelines/
URL:https://bacwa.org/event/nst-meeting-2/
LOCATION:EBMUD Watershed HQ\, 500 San Pablo Dam Rd\, Orinda\, CA
CATEGORIES:Executive Board
END:VEVENT
END:VCALENDAR