BEGIN:VCALENDAR
VERSION:2.0
PRODID:-//Bay Area Clean Water Agencies - ECPv6.15.20//NONSGML v1.0//EN
CALSCALE:GREGORIAN
METHOD:PUBLISH
X-WR-CALNAME:Bay Area Clean Water Agencies
X-ORIGINAL-URL:https://bacwa.org
X-WR-CALDESC:Events for Bay Area Clean Water Agencies
REFRESH-INTERVAL;VALUE=DURATION:PT1H
X-Robots-Tag:noindex
X-PUBLISHED-TTL:PT1H
BEGIN:VTIMEZONE
TZID:America/Los_Angeles
BEGIN:DAYLIGHT
TZOFFSETFROM:-0800
TZOFFSETTO:-0700
TZNAME:PDT
DTSTART:20220313T100000
END:DAYLIGHT
BEGIN:STANDARD
TZOFFSETFROM:-0700
TZOFFSETTO:-0800
TZNAME:PST
DTSTART:20221106T090000
END:STANDARD
BEGIN:DAYLIGHT
TZOFFSETFROM:-0800
TZOFFSETTO:-0700
TZNAME:PDT
DTSTART:20230312T100000
END:DAYLIGHT
BEGIN:STANDARD
TZOFFSETFROM:-0700
TZOFFSETTO:-0800
TZNAME:PST
DTSTART:20231105T090000
END:STANDARD
BEGIN:DAYLIGHT
TZOFFSETFROM:-0800
TZOFFSETTO:-0700
TZNAME:PDT
DTSTART:20240310T100000
END:DAYLIGHT
BEGIN:STANDARD
TZOFFSETFROM:-0700
TZOFFSETTO:-0800
TZNAME:PST
DTSTART:20241103T090000
END:STANDARD
END:VTIMEZONE
BEGIN:VEVENT
DTSTART;TZID=America/Los_Angeles:20230322T090000
DTEND;TZID=America/Los_Angeles:20230322T120000
DTSTAMP:20260422T032211
CREATED:20230224T175420Z
LAST-MODIFIED:20230316T211655Z
UID:16087-1679475600-1679486400@bacwa.org
SUMMARY:Clean Water Summit Partners Webinar:  SSS-WDR Spill Emergency Response Plan Updates
DESCRIPTION:On March 22 from 9 am to 12 PM\, the Clean Water Summit Partners will host a free Zoom webinar on the reissued statewide Sanitary Sewer System Waste Discharge Requirements (SSS-WDR\, Order WQ-2022-0103 DWQ). Register here for this webinar\, which will focus on updates to Spill Emergency Response Plans due by June 4\, 2023\, including presentations to: \n– Review requirements in the reissued General Order driving changes to existing Response Plans;\n– Walk through the portions of the plan requiring changes and provide guidance on performing updates; and\n– Provide guidance on putting these potential changes into practice by June 4\, 2023. \nFull Agenda \nWebinar Registration – Zoom
URL:https://bacwa.org/event/clean-water-summit-partners-webinar-sss-wdr-spill-emergency-response-plan-updates/
CATEGORIES:Collection Systems
END:VEVENT
BEGIN:VEVENT
DTSTART;TZID=America/Los_Angeles:20230322T130000
DTEND;TZID=America/Los_Angeles:20230322T153000
DTSTAMP:20260422T032211
CREATED:20230307T062415Z
LAST-MODIFIED:20230307T063702Z
UID:16118-1679490000-1679499000@bacwa.org
SUMMARY:Pretreatment Committee Meeting
DESCRIPTION:BACWA Pretreatment Committee Meeting \nPlease join us on Wednesday\, March 22\, 2023 from 1:00 PM – 3:30 PM as we return to in-person meetings! \nAttendees are encouraged to take BART (1 block from the 12th Street station if you exit at 11th and Broadway) or park in one of the nearby garages (note: EBMUD is unable to provide parking in its garage for meeting attendees). \nNearby garages include: \n\n\n\nPacific Renaissance Plaza\, 388 9th Street (Entrances on Webster or Franklin)\, Open 7:00 a.m. to 11:00 p.m.\, Clearance 8’2”\nTrans Pacific Centre\, 1000 Broadway (Entrance at 400 11th Street\, right side)\, Open 6:30 a.m. to 7:00 p.m.\, Clearance 6’3”\nOakland City Center\, 530 11th Street (Entrance on 11th Street\, left side)\, Open 5:00 a.m. to 10:00 p.m.\, Clearance 6’8”\nOakland City Center\, 525 14th Street (Entrance on 14th Street\, left side)\, Open 5:00 a.m. to 10:00 p.m.\, Clearance 6’8”\nCity Center Garage West\, 555 12th Street (Entrance on 11th Street\, left side)\, Open 6:00 a.m. to 7:00 p.m.\, Clearance 8’2”\n\n\n\nFor Zoom meeting information\, please email mc******@***wa.org \n 
URL:https://bacwa.org/event/pretreatment-committee-meeting-11-2-2-2/
LOCATION:EBMUD Headquarters\, 2nd Floor Large Training Room\, 375 11th St. \, Oakland\, CA\, United States
CATEGORIES:Pretreatment
END:VEVENT
END:VCALENDAR