BEGIN:VCALENDAR
VERSION:2.0
PRODID:-//Bay Area Clean Water Agencies - ECPv6.15.20//NONSGML v1.0//EN
CALSCALE:GREGORIAN
METHOD:PUBLISH
X-WR-CALNAME:Bay Area Clean Water Agencies
X-ORIGINAL-URL:https://bacwa.org
X-WR-CALDESC:Events for Bay Area Clean Water Agencies
REFRESH-INTERVAL;VALUE=DURATION:PT1H
X-Robots-Tag:noindex
X-PUBLISHED-TTL:PT1H
BEGIN:VTIMEZONE
TZID:America/Los_Angeles
BEGIN:DAYLIGHT
TZOFFSETFROM:-0800
TZOFFSETTO:-0700
TZNAME:PDT
DTSTART:20210314T100000
END:DAYLIGHT
BEGIN:STANDARD
TZOFFSETFROM:-0700
TZOFFSETTO:-0800
TZNAME:PST
DTSTART:20211107T090000
END:STANDARD
BEGIN:DAYLIGHT
TZOFFSETFROM:-0800
TZOFFSETTO:-0700
TZNAME:PDT
DTSTART:20220313T100000
END:DAYLIGHT
BEGIN:STANDARD
TZOFFSETFROM:-0700
TZOFFSETTO:-0800
TZNAME:PST
DTSTART:20221106T090000
END:STANDARD
BEGIN:DAYLIGHT
TZOFFSETFROM:-0800
TZOFFSETTO:-0700
TZNAME:PDT
DTSTART:20230312T100000
END:DAYLIGHT
BEGIN:STANDARD
TZOFFSETFROM:-0700
TZOFFSETTO:-0800
TZNAME:PST
DTSTART:20231105T090000
END:STANDARD
END:VTIMEZONE
BEGIN:VEVENT
DTSTART;TZID=America/Los_Angeles:20220720T100000
DTEND;TZID=America/Los_Angeles:20220720T120000
DTSTAMP:20260422T162840
CREATED:20220527T190033Z
LAST-MODIFIED:20220527T190033Z
UID:15293-1658311200-1658318400@bacwa.org
SUMMARY:Understanding your NPDES Permit (Special Permits Committee Training Session)
DESCRIPTION:For Zoom meeting information\, email mc******@***wa.org \nThis session will cover the basics of NPDES permitting\, with the goal of making it easier for you to understand and comply with your individual NPDES wastewater discharge permit. The session will include a discussion of the laws and regulations governing NPDES permits\, including the Porter-Cologne Act and Clean Water Act; Basin Plans and beneficial uses; Antidegradation policy; the rationale for effluent limitations\, including an explanation of Reasonable Potential Analysis and the State Implementation Policy; and tips for negotiating a reissued NPDES permit. \nThis training session will also be recorded.
URL:https://bacwa.org/event/permits-committee-meeting-32-2-2-2-3/
CATEGORIES:Permit
END:VEVENT
END:VCALENDAR