BEGIN:VCALENDAR
VERSION:2.0
PRODID:-//Bay Area Clean Water Agencies - ECPv6.15.20//NONSGML v1.0//EN
CALSCALE:GREGORIAN
METHOD:PUBLISH
X-WR-CALNAME:Bay Area Clean Water Agencies
X-ORIGINAL-URL:https://bacwa.org
X-WR-CALDESC:Events for Bay Area Clean Water Agencies
REFRESH-INTERVAL;VALUE=DURATION:PT1H
X-Robots-Tag:noindex
X-PUBLISHED-TTL:PT1H
BEGIN:VTIMEZONE
TZID:America/Los_Angeles
BEGIN:DAYLIGHT
TZOFFSETFROM:-0800
TZOFFSETTO:-0700
TZNAME:PDT
DTSTART:20210314T100000
END:DAYLIGHT
BEGIN:STANDARD
TZOFFSETFROM:-0700
TZOFFSETTO:-0800
TZNAME:PST
DTSTART:20211107T090000
END:STANDARD
BEGIN:DAYLIGHT
TZOFFSETFROM:-0800
TZOFFSETTO:-0700
TZNAME:PDT
DTSTART:20220313T100000
END:DAYLIGHT
BEGIN:STANDARD
TZOFFSETFROM:-0700
TZOFFSETTO:-0800
TZNAME:PST
DTSTART:20221106T090000
END:STANDARD
BEGIN:DAYLIGHT
TZOFFSETFROM:-0800
TZOFFSETTO:-0700
TZNAME:PDT
DTSTART:20230312T100000
END:DAYLIGHT
BEGIN:STANDARD
TZOFFSETFROM:-0700
TZOFFSETTO:-0800
TZNAME:PST
DTSTART:20231105T090000
END:STANDARD
END:VTIMEZONE
BEGIN:VEVENT
DTSTART;TZID=America/Los_Angeles:20220518T130000
DTEND;TZID=America/Los_Angeles:20220518T150000
DTSTAMP:20260422T205640
CREATED:20211123T235245Z
LAST-MODIFIED:20220516T174034Z
UID:14449-1652878800-1652886000@bacwa.org
SUMMARY:Collection Systems Committee Meeting
DESCRIPTION:The May meeting will be combined with the CASA Collection Systems Workgroup meeting\, which will convene over Zoom. \nFor agenda and virtual meeting link\, contact Mary Cousins. \n 
URL:https://bacwa.org/event/recycled-water-committee-meeting-17-2-2-2-2-2-2/
CATEGORIES:Collection Systems
END:VEVENT
END:VCALENDAR