BEGIN:VCALENDAR
VERSION:2.0
PRODID:-//Bay Area Clean Water Agencies - ECPv6.15.20//NONSGML v1.0//EN
CALSCALE:GREGORIAN
METHOD:PUBLISH
X-ORIGINAL-URL:https://bacwa.org
X-WR-CALDESC:Events for Bay Area Clean Water Agencies
REFRESH-INTERVAL;VALUE=DURATION:PT1H
X-Robots-Tag:noindex
X-PUBLISHED-TTL:PT1H
BEGIN:VTIMEZONE
TZID:America/Los_Angeles
BEGIN:DAYLIGHT
TZOFFSETFROM:-0800
TZOFFSETTO:-0700
TZNAME:PDT
DTSTART:20200308T100000
END:DAYLIGHT
BEGIN:STANDARD
TZOFFSETFROM:-0700
TZOFFSETTO:-0800
TZNAME:PST
DTSTART:20201101T090000
END:STANDARD
BEGIN:DAYLIGHT
TZOFFSETFROM:-0800
TZOFFSETTO:-0700
TZNAME:PDT
DTSTART:20210314T100000
END:DAYLIGHT
BEGIN:STANDARD
TZOFFSETFROM:-0700
TZOFFSETTO:-0800
TZNAME:PST
DTSTART:20211107T090000
END:STANDARD
BEGIN:DAYLIGHT
TZOFFSETFROM:-0800
TZOFFSETTO:-0700
TZNAME:PDT
DTSTART:20220313T100000
END:DAYLIGHT
BEGIN:STANDARD
TZOFFSETFROM:-0700
TZOFFSETTO:-0800
TZNAME:PST
DTSTART:20221106T090000
END:STANDARD
END:VTIMEZONE
BEGIN:VEVENT
DTSTART;TZID=America/Los_Angeles:20210526T100000
DTEND;TZID=America/Los_Angeles:20210526T120000
DTSTAMP:20260423T141538
CREATED:20210301T213417Z
LAST-MODIFIED:20210301T213417Z
UID:13330-1622023200-1622030400@bacwa.org
SUMMARY:O&M Infoshare Group Meeting
DESCRIPTION:O&M Infoshare Group Meeting \nFor Zoom meeting information\, email mc******@***wa.org
URL:https://bacwa.org/event/om-infoshare-group-meeting/
CATEGORIES:InfoShare Operations Group
END:VEVENT
BEGIN:VEVENT
DTSTART;TZID=America/Los_Angeles:20210526T130000
DTEND;TZID=America/Los_Angeles:20210526T150000
DTSTAMP:20260423T141538
CREATED:20200723T170256Z
LAST-MODIFIED:20210504T234456Z
UID:12305-1622034000-1622041200@bacwa.org
SUMMARY:AIR Committee Meeting
DESCRIPTION:This is a placeholder for a quarterly BACWA AIR Committee meeting – the meeting location\, length\, and materials will be finalized as we get closer to the date. In the meantime\, the AIR Committee will send more regular email updates between meetings to keep you all up to speed on priority issues.
URL:https://bacwa.org/event/air-committee-meeting-16/
CATEGORIES:Air Issues & Regulations (AIR)
END:VEVENT
END:VCALENDAR