BEGIN:VCALENDAR
VERSION:2.0
PRODID:-//Bay Area Clean Water Agencies - ECPv6.15.20//NONSGML v1.0//EN
CALSCALE:GREGORIAN
METHOD:PUBLISH
X-WR-CALNAME:Bay Area Clean Water Agencies
X-ORIGINAL-URL:https://bacwa.org
X-WR-CALDESC:Events for Bay Area Clean Water Agencies
REFRESH-INTERVAL;VALUE=DURATION:PT1H
X-Robots-Tag:noindex
X-PUBLISHED-TTL:PT1H
BEGIN:VTIMEZONE
TZID:America/Los_Angeles
BEGIN:DAYLIGHT
TZOFFSETFROM:-0800
TZOFFSETTO:-0700
TZNAME:PDT
DTSTART:20200308T100000
END:DAYLIGHT
BEGIN:STANDARD
TZOFFSETFROM:-0700
TZOFFSETTO:-0800
TZNAME:PST
DTSTART:20201101T090000
END:STANDARD
BEGIN:DAYLIGHT
TZOFFSETFROM:-0800
TZOFFSETTO:-0700
TZNAME:PDT
DTSTART:20210314T100000
END:DAYLIGHT
BEGIN:STANDARD
TZOFFSETFROM:-0700
TZOFFSETTO:-0800
TZNAME:PST
DTSTART:20211107T090000
END:STANDARD
BEGIN:DAYLIGHT
TZOFFSETFROM:-0800
TZOFFSETTO:-0700
TZNAME:PDT
DTSTART:20220313T100000
END:DAYLIGHT
BEGIN:STANDARD
TZOFFSETFROM:-0700
TZOFFSETTO:-0800
TZNAME:PST
DTSTART:20221106T090000
END:STANDARD
END:VTIMEZONE
BEGIN:VEVENT
DTSTART;TZID=America/Los_Angeles:20210402T130000
DTEND;TZID=America/Los_Angeles:20210402T150000
DTSTAMP:20260423T154430
CREATED:20210329T215803Z
LAST-MODIFIED:20210329T215803Z
UID:13409-1617368400-1617375600@bacwa.org
SUMMARY:SF Bay Regional Water Board / BACWA Executive Board Joint Meeting
DESCRIPTION:SF Bay Regional Water Board / BACWA Executive Board Joint Meeting\nFriday\, April 2\,  1 – 3 PM\nThis meeting will be held online. \nIf you would like to submit a comment or attend this email please visit: https://bacwa.org/general/bacwa-public-comments-guidelines/ \n 
URL:https://bacwa.org/event/sf-bay-regional-water-board-bacwa-executive-board-joint-meeting/
CATEGORIES:Executive Board
END:VEVENT
END:VCALENDAR