BEGIN:VCALENDAR
VERSION:2.0
PRODID:-//Bay Area Clean Water Agencies - ECPv6.15.20//NONSGML v1.0//EN
CALSCALE:GREGORIAN
METHOD:PUBLISH
X-WR-CALNAME:Bay Area Clean Water Agencies
X-ORIGINAL-URL:https://bacwa.org
X-WR-CALDESC:Events for Bay Area Clean Water Agencies
REFRESH-INTERVAL;VALUE=DURATION:PT1H
X-Robots-Tag:noindex
X-PUBLISHED-TTL:PT1H
BEGIN:VTIMEZONE
TZID:America/Los_Angeles
BEGIN:DAYLIGHT
TZOFFSETFROM:-0800
TZOFFSETTO:-0700
TZNAME:PDT
DTSTART:20200308T100000
END:DAYLIGHT
BEGIN:STANDARD
TZOFFSETFROM:-0700
TZOFFSETTO:-0800
TZNAME:PST
DTSTART:20201101T090000
END:STANDARD
BEGIN:DAYLIGHT
TZOFFSETFROM:-0800
TZOFFSETTO:-0700
TZNAME:PDT
DTSTART:20210314T100000
END:DAYLIGHT
BEGIN:STANDARD
TZOFFSETFROM:-0700
TZOFFSETTO:-0800
TZNAME:PST
DTSTART:20211107T090000
END:STANDARD
BEGIN:DAYLIGHT
TZOFFSETFROM:-0800
TZOFFSETTO:-0700
TZNAME:PDT
DTSTART:20220313T100000
END:DAYLIGHT
BEGIN:STANDARD
TZOFFSETFROM:-0700
TZOFFSETTO:-0800
TZNAME:PST
DTSTART:20221106T090000
END:STANDARD
END:VTIMEZONE
BEGIN:VEVENT
DTSTART;TZID=America/Los_Angeles:20210106T130000
DTEND;TZID=America/Los_Angeles:20210106T170000
DTSTAMP:20260423T201123
CREATED:20201228T203806Z
LAST-MODIFIED:20201228T203806Z
UID:12999-1609938000-1609952400@bacwa.org
SUMMARY:PFAS Summit Partners Workshop #3
DESCRIPTION:The State Water Board has issued an order (WQ 2020-0015-DWQ) to all POTWs outside the Bay Area over 1 MGD to conduct PFAS sampling and testing for influent\, effluent\, and biosolids\, plus groundwater and reverse osmosis concentrate in some cases\, and to complete an extensive PFAS questionnaire. Please join us for this Clean Water Summit Partners sponsored webinar designed to assist agencies with efficient and consistent compliance with the order. Presentations will feature representatives from State Water Board answering questions and providing detailed guidance for entering data in GeoTracker\, public agencies’ experiences and lessons learned for submitting data in GeoTracker\, and a special presentation about new technology in use in Europe for capturing and destroying PFAS which is being piloted in North Carolina by US EPA. \nWebinar Registration – Zoom
URL:https://bacwa.org/event/pfas-summit-partners-workshop-3/
END:VEVENT
END:VCALENDAR